BEGIN:VCALENDAR
VERSION:2.0
PRODID:-//Leadership Embodiment - ECPv6.15.20//NONSGML v1.0//EN
CALSCALE:GREGORIAN
METHOD:PUBLISH
X-ORIGINAL-URL:https://leadershipembodiment.com
X-WR-CALDESC:Events for Leadership Embodiment
REFRESH-INTERVAL;VALUE=DURATION:PT1H
X-Robots-Tag:noindex
X-PUBLISHED-TTL:PT1H
BEGIN:VTIMEZONE
TZID:America/Los_Angeles
BEGIN:DAYLIGHT
TZOFFSETFROM:-0800
TZOFFSETTO:-0700
TZNAME:PDT
DTSTART:20250309T100000
END:DAYLIGHT
BEGIN:STANDARD
TZOFFSETFROM:-0700
TZOFFSETTO:-0800
TZNAME:PST
DTSTART:20251102T090000
END:STANDARD
BEGIN:DAYLIGHT
TZOFFSETFROM:-0800
TZOFFSETTO:-0700
TZNAME:PDT
DTSTART:20260308T100000
END:DAYLIGHT
BEGIN:STANDARD
TZOFFSETFROM:-0700
TZOFFSETTO:-0800
TZNAME:PST
DTSTART:20261101T090000
END:STANDARD
BEGIN:DAYLIGHT
TZOFFSETFROM:-0800
TZOFFSETTO:-0700
TZNAME:PDT
DTSTART:20270314T100000
END:DAYLIGHT
BEGIN:STANDARD
TZOFFSETFROM:-0700
TZOFFSETTO:-0800
TZNAME:PST
DTSTART:20271107T090000
END:STANDARD
END:VTIMEZONE
BEGIN:VEVENT
DTSTART;VALUE=DATE:20260618
DTEND;VALUE=DATE:20260620
DTSTAMP:20260423T155707
CREATED:20251219T151538Z
LAST-MODIFIED:20251219T151538Z
UID:10001201-1781740800-1781913599@leadershipembodiment.com
SUMMARY:Leadership Embodiment Level 2 with Anouk Brack (in Dutch and English)
DESCRIPTION:Join Anouk in Mechelen\, Belgium for a 2-Day Leadership Embodiment Level 2 hosted by Sarafijn. You must have completed a Leadership Embodiment Level 1 before enrolling in a Level 2. For a description of a Level 2 course\, please see our Public Courses page. For more information\, please CLICK HERE. \nDates: 18 – 19 June 2026
URL:https://leadershipembodiment.com/event/leadership-embodiment-level-2-with-anouk-brack-in-dutch-and-english/
LOCATION:Wilgenroosje\, Belgium
CATEGORIES:Europe
ORGANIZER;CN="Heinrike Bergmans":MAILTO:heinrike@sarafijn.be
END:VEVENT
END:VCALENDAR