BEGIN:VCALENDAR
VERSION:2.0
PRODID:-//Leadership Embodiment - ECPv6.15.20//NONSGML v1.0//EN
CALSCALE:GREGORIAN
METHOD:PUBLISH
X-WR-CALNAME:Leadership Embodiment
X-ORIGINAL-URL:https://leadershipembodiment.com
X-WR-CALDESC:Events for Leadership Embodiment
REFRESH-INTERVAL;VALUE=DURATION:PT1H
X-Robots-Tag:noindex
X-PUBLISHED-TTL:PT1H
BEGIN:VTIMEZONE
TZID:America/Los_Angeles
BEGIN:DAYLIGHT
TZOFFSETFROM:-0800
TZOFFSETTO:-0700
TZNAME:PDT
DTSTART:20180311T100000
END:DAYLIGHT
BEGIN:STANDARD
TZOFFSETFROM:-0700
TZOFFSETTO:-0800
TZNAME:PST
DTSTART:20181104T090000
END:STANDARD
BEGIN:DAYLIGHT
TZOFFSETFROM:-0800
TZOFFSETTO:-0700
TZNAME:PDT
DTSTART:20190310T100000
END:DAYLIGHT
BEGIN:STANDARD
TZOFFSETFROM:-0700
TZOFFSETTO:-0800
TZNAME:PST
DTSTART:20191103T090000
END:STANDARD
BEGIN:DAYLIGHT
TZOFFSETFROM:-0800
TZOFFSETTO:-0700
TZNAME:PDT
DTSTART:20200308T100000
END:DAYLIGHT
BEGIN:STANDARD
TZOFFSETFROM:-0700
TZOFFSETTO:-0800
TZNAME:PST
DTSTART:20201101T090000
END:STANDARD
BEGIN:DAYLIGHT
TZOFFSETFROM:-0800
TZOFFSETTO:-0700
TZNAME:PDT
DTSTART:20210314T100000
END:DAYLIGHT
BEGIN:STANDARD
TZOFFSETFROM:-0700
TZOFFSETTO:-0800
TZNAME:PST
DTSTART:20211107T090000
END:STANDARD
END:VTIMEZONE
BEGIN:VEVENT
DTSTART;VALUE=DATE:20200305
DTEND;VALUE=DATE:20200307
DTSTAMP:20260424T171725
CREATED:20191002T180837Z
LAST-MODIFIED:20191002T180837Z
UID:10000343-1583366400-1583539199@leadershipembodiment.com
SUMMARY:Level 1 with Ute Kühlmann and Kerstin Härer
DESCRIPTION:Join Ute Kühlmann and Kerstin Härer for a 2-Day Level 1 in Munich\, Germany. This course will be led in German. For a description of a Level 1\, please see our courses page.  \nDates: 5-6 March 2020 \nFor more info or to register\, please click here.
URL:https://leadershipembodiment.com/event/level-1-with-ute-kuhlmann-and-kerstin-harer-2/
LOCATION:Munich Venue\, Munich\, Germany
CATEGORIES:Europe
ATTACH;FMTTYPE=:
ORGANIZER;CN="Kerstin H%C3%A4rer":MAILTO:welcome@kerstin-haerer.com
END:VEVENT
BEGIN:VEVENT
DTSTART;VALUE=DATE:20200229
DTEND;VALUE=DATE:20200302
DTSTAMP:20260424T171725
CREATED:20190826T172308Z
LAST-MODIFIED:20190826T172308Z
UID:10000341-1582934400-1583107199@leadershipembodiment.com
SUMMARY:Level 2 with Paul King
DESCRIPTION:Join Paul King for a 2-Day Level 2 in Wiltshire\, England.  You must have completed a Level 1 before enrolling in a Level 2. For a description of a Level 2\, please see our courses page.  \nDates: 29 February and 1 March\, 2020
URL:https://leadershipembodiment.com/event/level-2-with-paul-king-14/
LOCATION:Royal Wootton Bassett\, Royal Wootton Bassett\, Wiltshire\, SN4\, United Kingdom
CATEGORIES:Europe
ATTACH;FMTTYPE=:
ORGANIZER;CN="Paul King":MAILTO:info@thebeyondpartnership.co.uk
END:VEVENT
BEGIN:VEVENT
DTSTART;VALUE=DATE:20200213
DTEND;VALUE=DATE:20200215
DTSTAMP:20260424T171725
CREATED:20190306T192222Z
LAST-MODIFIED:20190306T192222Z
UID:10000299-1581552000-1581724799@leadershipembodiment.com
SUMMARY:Level 1 with Pierre Goirand
DESCRIPTION:Join Pierre for a 2-Day Level 1 in Berlin\, Germany. For a description of a Level 1\, please see our courses page. For more information or to register\, please click here. \nThis course will be taught in English. \nDates: 13-14 February 2020
URL:https://leadershipembodiment.com/event/level-1-with-pierre-goirand-13/
LOCATION:Berlin\, Germany Venue\, Berlin\, Germany
CATEGORIES:Europe
ATTACH;FMTTYPE=:
ORGANIZER;CN="Pierre Goirand":MAILTO:contact@presenceleadership.net
GEO:52.5200066;13.404954
END:VEVENT
BEGIN:VEVENT
DTSTART;VALUE=DATE:20200124
DTEND;VALUE=DATE:20200126
DTSTAMP:20260424T171725
CREATED:20190717T133027Z
LAST-MODIFIED:20190717T133027Z
UID:10000330-1579824000-1579996799@leadershipembodiment.com
SUMMARY:Level 1 with Paul King
DESCRIPTION:Join Paul King for a 2-Day Level 1 in Vienna\, Austria. For a description of a Level 1\, please see our courses page.  \nDates: 24-25 January 2020
URL:https://leadershipembodiment.com/event/level-1-with-paul-king-40/
LOCATION:Vienna Venue\, Vienna\, Austria
CATEGORIES:Europe
ATTACH;FMTTYPE=:
ORGANIZER;CN="Paul King":MAILTO:info@thebeyondpartnership.co.uk
GEO:48.2081743;16.3738189
END:VEVENT
BEGIN:VEVENT
DTSTART;VALUE=DATE:20200122
DTEND;VALUE=DATE:20200123
DTSTAMP:20260424T171725
CREATED:20190724T181646Z
LAST-MODIFIED:20190724T181646Z
UID:10000334-1579651200-1579737599@leadershipembodiment.com
SUMMARY:Level 1 with Pierre Goirand (Day 1 of 2)
DESCRIPTION:Join Pierre for a 2 Day Level 1 in Paris. For a description of a Level 1\, please see our courses page. For more information or to register\, please click here. This course is taught in French. \nDay 1: 22 January 2020\nDay 2: 12 March 2020
URL:https://leadershipembodiment.com/event/level-1-with-pierre-goirand-day-1-of-2-11/
LOCATION:Institut Protestant de Paris\, 83 Boulevard Arago\, Paris\, 75014\, France
CATEGORIES:Europe
ATTACH;FMTTYPE=:
ORGANIZER;CN="Pierre Goirand":MAILTO:contact@presenceleadership.net
END:VEVENT
BEGIN:VEVENT
DTSTART;VALUE=DATE:20200111
DTEND;VALUE=DATE:20200113
DTSTAMP:20260424T171725
CREATED:20190826T171843Z
LAST-MODIFIED:20190826T171843Z
UID:10000340-1578700800-1578873599@leadershipembodiment.com
SUMMARY:Level 1 with Paul King
DESCRIPTION:Join Paul King for a 2-Day Level 1 in Wiltshire\, England. For a description of a Level 1\, please see our courses page.  \nDates: 11-12 January 2020
URL:https://leadershipembodiment.com/event/level-1-with-paul-king-41/
LOCATION:Royal Wootton Bassett\, Royal Wootton Bassett\, Wiltshire\, SN4\, United Kingdom
CATEGORIES:Europe
ATTACH;FMTTYPE=:
ORGANIZER;CN="Paul King":MAILTO:info@thebeyondpartnership.co.uk
END:VEVENT
BEGIN:VEVENT
DTSTART;VALUE=DATE:20191213
DTEND;VALUE=DATE:20191215
DTSTAMP:20260424T171725
CREATED:20190716T225044Z
LAST-MODIFIED:20190716T225044Z
UID:10000326-1576195200-1576367999@leadershipembodiment.com
SUMMARY:Level 1 with Monica Ross
DESCRIPTION:Join Monica for a 2-Day Level 1 in Kinsale\, Ireland. For a description of a Level 1\, please see our courses page.  \nDates: 13-14 December 2019
URL:https://leadershipembodiment.com/event/level-1-with-monica-ross-3/
LOCATION:Kinsale Ireland Venue\, Kinsale\, Cork\, Ireland
CATEGORIES:Europe
ATTACH;FMTTYPE=:
ORGANIZER;CN="Monica Ross":MAILTO:monicarosscoach@eircom.net
END:VEVENT
BEGIN:VEVENT
DTSTART;VALUE=DATE:20191202
DTEND;VALUE=DATE:20191204
DTSTAMP:20260424T171725
CREATED:20190206T184958Z
LAST-MODIFIED:20190206T184958Z
UID:10000293-1575244800-1575417599@leadershipembodiment.com
SUMMARY:Level 2 with Anouk Brack - Updated
DESCRIPTION:Join Anouk for a 2-Day Level 2 course in Arnhem\, the Netherlands. Language of the training is English with explanation in Dutch when necessary. You must have completed a Level 1 Fundamentals before taking a Level 2 course. For more information or to register\, please click here if you speak Dutch\, otherwise reach out directly to Anouk via anouk.brack@anouka.nl.  \nDates 2-3 December 2019
URL:https://leadershipembodiment.com/event/level-2-with-anouk-brack-5/
LOCATION:Shambhala Centre Arnhem\, Rijnkade 32\, Arnhem\,  6811 HA\, Netherlands
CATEGORIES:Europe
ATTACH;FMTTYPE=:
ORGANIZER;CN="Anouk Brack":MAILTO:Anouk.Brack@anouka.nl
END:VEVENT
BEGIN:VEVENT
DTSTART;VALUE=DATE:20191128
DTEND;VALUE=DATE:20191130
DTSTAMP:20260424T171725
CREATED:20190715T161748Z
LAST-MODIFIED:20190715T161748Z
UID:10000322-1574899200-1575071999@leadershipembodiment.com
SUMMARY:Level 1 with Marie Harder
DESCRIPTION:Join Marie Harder for a 2-Day Level 1 in Hamburg\, Germany. For a description of a Level 1\, please see our courses page. The language of the training is German.   \nFor more information and to book\, click here.  \nDates: 28-29 November 2019
URL:https://leadershipembodiment.com/event/level-1-with-marie-harder/
LOCATION:Kyodo Dojo\, Mendelssohnstrasse 15b\, Hamburg\, Bahrenfeld\, 22761\, Germany
CATEGORIES:Europe
ATTACH;FMTTYPE=:
ORGANIZER;CN="Marie Weitbrecht":MAILTO:mh@marieweitbrecht.com
END:VEVENT
BEGIN:VEVENT
DTSTART;VALUE=DATE:20191116
DTEND;VALUE=DATE:20191118
DTSTAMP:20260424T171725
CREATED:20190717T132720Z
LAST-MODIFIED:20190717T132720Z
UID:10000329-1573862400-1574035199@leadershipembodiment.com
SUMMARY:Level 1 with Paul King
DESCRIPTION:Join Paul King for a 2-Day Level 1 in Boston Spa\, UK. For a description of a Level 1\, please see our courses page.  \nDates: 16-17 November 2019
URL:https://leadershipembodiment.com/event/level-1-with-paul-king-39/
LOCATION:Boston Spa\, West Yorkshire\, United Kingdom
CATEGORIES:Europe
ATTACH;FMTTYPE=:
ORGANIZER;CN="Paul King":MAILTO:info@thebeyondpartnership.co.uk
END:VEVENT
BEGIN:VEVENT
DTSTART;VALUE=DATE:20191115
DTEND;VALUE=DATE:20191117
DTSTAMP:20260424T171725
CREATED:20190716T224820Z
LAST-MODIFIED:20190716T224820Z
UID:10000325-1573776000-1573948799@leadershipembodiment.com
SUMMARY:Level 1 with Monica Ross
DESCRIPTION:Join Monica for a 2-Day Level 1 in Kinsale\, Ireland. For a description of a Level 1\, please see our courses page.  \nDates: 15-16 November\, 2019
URL:https://leadershipembodiment.com/event/level-1-with-monica-ross-2/
LOCATION:Kinsale Ireland Venue\, Kinsale\, Cork\, Ireland
CATEGORIES:Europe
ATTACH;FMTTYPE=:
ORGANIZER;CN="Monica Ross":MAILTO:monicarosscoach@eircom.net
END:VEVENT
BEGIN:VEVENT
DTSTART;VALUE=DATE:20191031
DTEND;VALUE=DATE:20191101
DTSTAMP:20260424T171725
CREATED:20190206T183957Z
LAST-MODIFIED:20190206T183957Z
UID:10000292-1572480000-1572566399@leadershipembodiment.com
SUMMARY:Level 1 with Anouk Brack (Day 1 of 2)
DESCRIPTION:Join Anouk for a 2-Day Level 1 course in Arnhem\, the Netherlands.  Language of the training is Dutch\, with explanation in English when necessary. For more information or to register\, please click here.  \nDay one: October 31\, 2019\nDay two: November 14\, 2019
URL:https://leadershipembodiment.com/event/level-1-with-anouk-brack-day-1-of-2-4/
LOCATION:Shambhala Centre Arnhem\, Rijnkade 32\, Arnhem\,  6811 HA\, Netherlands
CATEGORIES:Europe
ATTACH;FMTTYPE=:
ORGANIZER;CN="Anouk Brack":MAILTO:Anouk.Brack@anouka.nl
END:VEVENT
BEGIN:VEVENT
DTSTART;VALUE=DATE:20191030
DTEND;VALUE=DATE:20191101
DTSTAMP:20260424T171725
CREATED:20190717T132331Z
LAST-MODIFIED:20190717T132331Z
UID:10000328-1572393600-1572566399@leadershipembodiment.com
SUMMARY:Level 2 with Paul King
DESCRIPTION:Join Paul King for a 2-Day Level 2 in Basel\, Switzerland. You must have completed a Level 1 before enrolling in a Level 2.  For a description of a Level 2\, please see our courses page.   \nDates: 30-31 October 2019
URL:https://leadershipembodiment.com/event/level-2-with-paul-king-13/
LOCATION:Basel Venue\, Basel\, Switzerland
CATEGORIES:Europe
ATTACH;FMTTYPE=:
ORGANIZER;CN="Paul King":MAILTO:info@thebeyondpartnership.co.uk
END:VEVENT
BEGIN:VEVENT
DTSTART;VALUE=DATE:20191028
DTEND;VALUE=DATE:20191030
DTSTAMP:20260424T171725
CREATED:20190717T131551Z
LAST-MODIFIED:20190717T131551Z
UID:10000327-1572220800-1572393599@leadershipembodiment.com
SUMMARY:Level 1 with Paul King
DESCRIPTION:Join Paul King for a 2-Day Level 1 in Basel\, Switzerland. For a description of a Level 1\, please see our courses page.   \nDates: 28-29 October 2019
URL:https://leadershipembodiment.com/event/level-1-with-paul-king-38/
LOCATION:Basel Venue\, Basel\, Switzerland
CATEGORIES:Europe
ATTACH;FMTTYPE=:
ORGANIZER;CN="Paul King":MAILTO:info@thebeyondpartnership.co.uk
END:VEVENT
BEGIN:VEVENT
DTSTART;VALUE=DATE:20191028
DTEND;VALUE=DATE:20191030
DTSTAMP:20260424T171725
CREATED:20190306T165842Z
LAST-MODIFIED:20190306T165842Z
UID:10000298-1572220800-1572393599@leadershipembodiment.com
SUMMARY:Level 1 with Pierre Goirand
DESCRIPTION:Join Pierre in Köln\, Germany for a 2-Day Level 1. For a description of a Level 1\, please see our courses page. For more information or to register\, please click here.  \nThis course will be taught in English.   \nDates: 28-29 October 2019
URL:https://leadershipembodiment.com/event/level-1-with-pierre-goirand-11/
LOCATION:Köln\, Germany Venue\, Köln\, Germany
CATEGORIES:Europe
ATTACH;FMTTYPE=:
ORGANIZER;CN="Pierre Goirand":MAILTO:contact@presenceleadership.net
GEO:50.937531;6.9602786
END:VEVENT
BEGIN:VEVENT
DTSTART;VALUE=DATE:20191017
DTEND;VALUE=DATE:20191021
DTSTAMP:20260424T171725
CREATED:20181219T160205Z
LAST-MODIFIED:20181219T160205Z
UID:10000284-1571270400-1571615999@leadershipembodiment.com
SUMMARY:Intensive Retreat with Wendy Palmer
DESCRIPTION:Join Wendy Palmer for a 4-day Intensive Retreat at Domaine de Villers (between Reims and Soisson\, 150 km northeast of Paris).  For more information and to register\, please click here.   \nDates: 17-20 October 2019
URL:https://leadershipembodiment.com/event/intensive-retreat-with-wendy-palmer-16/
LOCATION:Domaine de Villers\, 1\, rue du Routy le Château\, Villers-en-Prayères\, France
CATEGORIES:Europe
ATTACH;FMTTYPE=:
ORGANIZER;CN="Pierre Goirand":MAILTO:contact@presenceleadership.net
END:VEVENT
BEGIN:VEVENT
DTSTART;VALUE=DATE:20191004
DTEND;VALUE=DATE:20191006
DTSTAMP:20260424T171725
CREATED:20190716T224207Z
LAST-MODIFIED:20190716T224207Z
UID:10000324-1570147200-1570319999@leadershipembodiment.com
SUMMARY:Level 1 with Monica Ross
DESCRIPTION:Join Monica for a 2-Day Level 1 in Kinsale\, Ireland. For a description of a Level 1\, please see our courses page.  \nDates: 4-5 October\, 2019
URL:https://leadershipembodiment.com/event/level-1-with-monica-ross/
LOCATION:Kinsale Ireland Venue\, Kinsale\, Cork\, Ireland
CATEGORIES:Europe
ATTACH;FMTTYPE=:
ORGANIZER;CN="Monica Ross":MAILTO:monicarosscoach@eircom.net
END:VEVENT
BEGIN:VEVENT
DTSTART;VALUE=DATE:20191002
DTEND;VALUE=DATE:20191004
DTSTAMP:20260424T171725
CREATED:20190724T180041Z
LAST-MODIFIED:20190724T180041Z
UID:10000332-1569974400-1570147199@leadershipembodiment.com
SUMMARY:Level 1 with Pierre Goirand
DESCRIPTION:Join Pierre for a 2-day Level 1 in Filzbach\, Switzerland. For a description of a Level 1\, please see our courses page.  For more information or to register\, please click here. This course is taught in English.  \nDates: 2-3 October 2019
URL:https://leadershipembodiment.com/event/level-1-with-pierre-goirand-14/
LOCATION:All In One Spirit\, Filzbach\, Zurich\, Switzerland
CATEGORIES:Europe
ATTACH;FMTTYPE=:
ORGANIZER;CN="Pierre Goirand":MAILTO:contact@presenceleadership.net
END:VEVENT
BEGIN:VEVENT
DTSTART;VALUE=DATE:20190928
DTEND;VALUE=DATE:20190930
DTSTAMP:20260424T171725
CREATED:20190607T200109Z
LAST-MODIFIED:20190607T200109Z
UID:10000314-1569628800-1569801599@leadershipembodiment.com
SUMMARY:Level 2 with Paul King
DESCRIPTION:Join Paul King in Wiltshire\, UK\, for a 2-Day Level 2.  You must have completed a Level 1 before enrolling in a Level 2.  For a description of a Level 2\, please see our courses page.
URL:https://leadershipembodiment.com/event/level-2-with-paul-king-12/
LOCATION:Royal Wootton Bassett\, Royal Wootton Bassett\, Wiltshire\, SN4\, United Kingdom
CATEGORIES:Europe
ATTACH;FMTTYPE=:
ORGANIZER;CN="Paul King":MAILTO:info@thebeyondpartnership.co.uk
END:VEVENT
BEGIN:VEVENT
DTSTART;VALUE=DATE:20190925
DTEND;VALUE=DATE:20190926
DTSTAMP:20260424T171725
CREATED:20190724T175459Z
LAST-MODIFIED:20190724T175459Z
UID:10000331-1569369600-1569455999@leadershipembodiment.com
SUMMARY:Level 1 with Pierre Goirand (Day 1 of 2)
DESCRIPTION:Join Pierre for a 2-day Level 1 in Paris. For a description of a Level 1\, please see our courses page.  For more information or to register\, please click here. This course is taught in French. \nDay 1: 25 September 2019\nDay 2: 7 November 2019
URL:https://leadershipembodiment.com/event/level-1-with-pierre-goirand-day-1-of-2-10/
LOCATION:Institut Protestant de Paris\, 83 Boulevard Arago\, Paris\, 75014\, France
CATEGORIES:Europe
ATTACH;FMTTYPE=:
ORGANIZER;CN="Pierre Goirand":MAILTO:contact@presenceleadership.net
END:VEVENT
BEGIN:VEVENT
DTSTART;VALUE=DATE:20190921
DTEND;VALUE=DATE:20190923
DTSTAMP:20260424T171725
CREATED:20190607T195716Z
LAST-MODIFIED:20190607T195716Z
UID:10000313-1569024000-1569196799@leadershipembodiment.com
SUMMARY:Level 1 with Paul King
DESCRIPTION:Join Paul King in Dublin\, Ireland for a 2-Day Level 1.  For a description of a Level 1\, please see our courses page.
URL:https://leadershipembodiment.com/event/level-1-with-paul-king-37/
LOCATION:Dublin Venue\, Dublin\, Ireland
CATEGORIES:Europe
ATTACH;FMTTYPE=:
ORGANIZER;CN="Paul King":MAILTO:info@thebeyondpartnership.co.uk
END:VEVENT
BEGIN:VEVENT
DTSTART;VALUE=DATE:20190919
DTEND;VALUE=DATE:20190921
DTSTAMP:20260424T171725
CREATED:20190513T191909Z
LAST-MODIFIED:20190513T191909Z
UID:10000311-1568851200-1569023999@leadershipembodiment.com
SUMMARY:Level 2 with Pierre Goirand
DESCRIPTION:Join Pierre Goirand in Paris for a 2-Day Level 2.  You must have completed a Level 1 before attending a Level 2. For descriptions of Level 1 & 2\, please see our courses page. This course is led in French. \nDates: 19-20 September 2019
URL:https://leadershipembodiment.com/event/level-2-with-pierre-goirand-8/
LOCATION:Paris Venue\, Paris\, France
CATEGORIES:Europe
ATTACH;FMTTYPE=:
ORGANIZER;CN="Pierre Goirand":MAILTO:contact@presenceleadership.net
END:VEVENT
BEGIN:VEVENT
DTSTART;VALUE=DATE:20190907
DTEND;VALUE=DATE:20190909
DTSTAMP:20260424T171725
CREATED:20190607T195139Z
LAST-MODIFIED:20190607T195139Z
UID:10000312-1567814400-1567987199@leadershipembodiment.com
SUMMARY:Level 1 with Paul King
DESCRIPTION:Join Paul King in Wiltshire\, UK for a 2-Day Level 1.  For a description of a Level 1\, please see our courses page.
URL:https://leadershipembodiment.com/event/level-1-with-paul-king-36/
LOCATION:Royal Wootton Bassett\, Royal Wootton Bassett\, Wiltshire\, SN4\, United Kingdom
CATEGORIES:Europe
ATTACH;FMTTYPE=:
ORGANIZER;CN="Paul King":MAILTO:info@thebeyondpartnership.co.uk
END:VEVENT
BEGIN:VEVENT
DTSTART;VALUE=DATE:20190820
DTEND;VALUE=DATE:20190821
DTSTAMP:20260424T171725
CREATED:20190801T171508Z
LAST-MODIFIED:20190801T171508Z
UID:10000338-1566259200-1566345599@leadershipembodiment.com
SUMMARY:Wendy Palmer Online - The Wisdom of the Body Summit
DESCRIPTION:Tune into an online Wisdom of the Body Summit with Wendy Palmer as one of the speakers. \nAlign with Your Body’s Intelligence for Healing\, Optimal Living\, and Spiritual Awakening is an online event where we’ll be exploring a wide span of body-based healing methodologies and practices with 32 experts that will lead you to discover and appreciate how the innate intelligence of your body can inform your life.  \nThrough the convergence of wisdom traditions and breakthrough science\, each of our presenters will share their unique perspective and approach to honoring the body as a sacred vehicle for loving\, serving\, and waking up. \nRegistration is now open for The Wisdom of the Body Summit. Please click here for registration.   \nOwn The Wisdom of the Body Summit upgrade package for lifetime access to every presentation\, bonuses and more. For more information on the upgrade package\, please click here.  \nDate: Wendy Palmer on August 20\, 2019\nTime: 9:00AM PDT
URL:https://leadershipembodiment.com/event/wendy-palmer-online-the-wisdom-of-the-body-summit/
LOCATION:Wiltshire
CATEGORIES:North America,Asia,Europe,South Africa
ATTACH;FMTTYPE=:
END:VEVENT
BEGIN:VEVENT
DTSTART;VALUE=DATE:20190708
DTEND;VALUE=DATE:20190710
DTSTAMP:20260424T171725
CREATED:20180207T215524Z
LAST-MODIFIED:20180207T215524Z
UID:10000210-1562544000-1562716799@leadershipembodiment.com
SUMMARY:Level 2 with Pierre Goirand
DESCRIPTION:Join Pierre Goirand for a 2-Day Level 2 in Köln\, Germany. You must have completed a Level 1 before enrolling in a Level 2. For a description of Level 1 and Level 2\, please see our courses page.  \nThis course will be taught in English. \nTo register or for more information\, please contact the organizer\, Holger Scholtz\, as listed below.
URL:https://leadershipembodiment.com/event/level-2-with-pierre-goirand-5/
LOCATION:Köln\, Germany Venue\, Köln\, Germany
CATEGORIES:Europe
ATTACH;FMTTYPE=:
ORGANIZER;CN="Holger Scholz":MAILTO:holger.scholz@kommunikationslotsen.de
GEO:50.937531;6.9602786
END:VEVENT
BEGIN:VEVENT
DTSTART;VALUE=DATE:20190702
DTEND;VALUE=DATE:20190706
DTSTAMP:20260424T171725
CREATED:20181019T152626Z
LAST-MODIFIED:20181019T152626Z
UID:10000258-1562025600-1562371199@leadershipembodiment.com
SUMMARY:Samye Ling Retreat with Wendy Palmer
DESCRIPTION:Wendy Palmer will be leading a 4-Day Intensive Leadership Embodiment Retreat at Samye Ling in Scotland.  You must have completed a Level 1 and Level 2 before attending a retreat.  For more information and to register\, please click here.  \nThe price of £795 includes accommodation and meals. Accommodations are reserved within 2 blocks of the monastery\, and rooms are allocated on a first-come\, first-served basis. \nDates: 2-5 July 2019
URL:https://leadershipembodiment.com/event/samye-ling-retreat-with-wendy-palmer-2/
LOCATION:Samye Ling\, Scotland\, United Kingdom
CATEGORIES:Europe
END:VEVENT
BEGIN:VEVENT
DTSTART;VALUE=DATE:20190621
DTEND;VALUE=DATE:20190623
DTSTAMP:20260424T171725
CREATED:20190206T224559Z
LAST-MODIFIED:20190206T224559Z
UID:10000295-1561075200-1561247999@leadershipembodiment.com
SUMMARY:Level 1 with Paul King
DESCRIPTION:Join Paul King for a 2-Day Level 1 in Vienna\, Austria.  For a description of a Level 1\, please see our courses page.   \nDates: 21-22 June 2019
URL:https://leadershipembodiment.com/event/level-1-with-paul-king-35/
LOCATION:Vienna Venue\, Vienna\, Austria
CATEGORIES:Europe
ATTACH;FMTTYPE=:
ORGANIZER;CN="Paul King":MAILTO:info@thebeyondpartnership.co.uk
GEO:48.2081743;16.3738189
END:VEVENT
BEGIN:VEVENT
DTSTART;VALUE=DATE:20190620
DTEND;VALUE=DATE:20190622
DTSTAMP:20260424T171725
CREATED:20181102T221947Z
LAST-MODIFIED:20181102T221947Z
UID:10000264-1560988800-1561161599@leadershipembodiment.com
SUMMARY:Level 2 with Pierre Goirand
DESCRIPTION:Join Pierre Goirand for a 2-Day Leadership Embodiment Level 2 course in Berlin\, Germany.  You must have completed a Level 1 before enrolling in a Level 2.  For more information\, please click here.   \nThis course will be taught in English.  \nDates: 20-21 June 2019
URL:https://leadershipembodiment.com/event/level-2-with-pierre-goirand-9/
LOCATION:Pilates Lab Berlin\, Choriner Str. 31\, Berlin\, 10435\, Germany
CATEGORIES:Europe
ATTACH;FMTTYPE=:
ORGANIZER;CN="Facilitation Academy":MAILTO:kontakt@facilitation-academy.de
END:VEVENT
BEGIN:VEVENT
DTSTART;VALUE=DATE:20190613
DTEND;VALUE=DATE:20190615
DTSTAMP:20260424T171725
CREATED:20181116T190822Z
LAST-MODIFIED:20181116T190822Z
UID:10000274-1560384000-1560556799@leadershipembodiment.com
SUMMARY:Level 2 with Anouk Brack
DESCRIPTION:Join Anouk for a 2-Day Level 2 Intermediate course in Arnhem\, the Netherlands. You must have completed a Level 1 before enrolling in a Level 2.  For a description of a Level 2\, please see our courses page.  \nDates: 13-14 June 2019 \nMore information and registration via anouk.brack@anouka.nl
URL:https://leadershipembodiment.com/event/level-2-with-anouk-brack-4/
LOCATION:Arnhem Venue\, Arnhem\, Netherlands
CATEGORIES:Europe
ATTACH;FMTTYPE=:
ORGANIZER;CN="Anouk Brack":MAILTO:Anouk.Brack@anouka.nl
END:VEVENT
BEGIN:VEVENT
DTSTART;VALUE=DATE:20190608
DTEND;VALUE=DATE:20190610
DTSTAMP:20260424T171725
CREATED:20190201T193148Z
LAST-MODIFIED:20190201T193148Z
UID:10000289-1559952000-1560124799@leadershipembodiment.com
SUMMARY:Level 1 with Paul King
DESCRIPTION:Join Paul King for a 2-Day Level 1 in Yorkshire\, UK. For a description of a Level 1\, please see our courses page.  \nDates: 8-9 June 2019
URL:https://leadershipembodiment.com/event/level-1-with-paul-king-34/
LOCATION:Yorkshire Venue\, Yorkshire\, United Kingdom
CATEGORIES:Europe
ATTACH;FMTTYPE=:
ORGANIZER;CN="Paul King":MAILTO:info@thebeyondpartnership.co.uk
GEO:53.699081;-1.1228683
END:VEVENT
END:VCALENDAR