BEGIN:VCALENDAR
VERSION:2.0
PRODID:-//Leadership Embodiment - ECPv6.15.20//NONSGML v1.0//EN
CALSCALE:GREGORIAN
METHOD:PUBLISH
X-ORIGINAL-URL:https://leadershipembodiment.com
X-WR-CALDESC:Events for Leadership Embodiment
REFRESH-INTERVAL;VALUE=DURATION:PT1H
X-Robots-Tag:noindex
X-PUBLISHED-TTL:PT1H
BEGIN:VTIMEZONE
TZID:America/Los_Angeles
BEGIN:DAYLIGHT
TZOFFSETFROM:-0800
TZOFFSETTO:-0700
TZNAME:PDT
DTSTART:20160313T100000
END:DAYLIGHT
BEGIN:STANDARD
TZOFFSETFROM:-0700
TZOFFSETTO:-0800
TZNAME:PST
DTSTART:20161106T090000
END:STANDARD
BEGIN:DAYLIGHT
TZOFFSETFROM:-0800
TZOFFSETTO:-0700
TZNAME:PDT
DTSTART:20170312T100000
END:DAYLIGHT
BEGIN:STANDARD
TZOFFSETFROM:-0700
TZOFFSETTO:-0800
TZNAME:PST
DTSTART:20171105T090000
END:STANDARD
BEGIN:DAYLIGHT
TZOFFSETFROM:-0800
TZOFFSETTO:-0700
TZNAME:PDT
DTSTART:20180311T100000
END:DAYLIGHT
BEGIN:STANDARD
TZOFFSETFROM:-0700
TZOFFSETTO:-0800
TZNAME:PST
DTSTART:20181104T090000
END:STANDARD
BEGIN:DAYLIGHT
TZOFFSETFROM:-0800
TZOFFSETTO:-0700
TZNAME:PDT
DTSTART:20190310T100000
END:DAYLIGHT
BEGIN:STANDARD
TZOFFSETFROM:-0700
TZOFFSETTO:-0800
TZNAME:PST
DTSTART:20191103T090000
END:STANDARD
END:VTIMEZONE
BEGIN:VEVENT
DTSTART;VALUE=DATE:20181020
DTEND;VALUE=DATE:20181022
DTSTAMP:20260425T052210
CREATED:20180511T220028Z
LAST-MODIFIED:20180511T220028Z
UID:10000713-1539993600-1540166399@leadershipembodiment.com
SUMMARY:Level 1 with Beth Follini
DESCRIPTION:Join Beth Follini for a 2-Day Level 1 in London\, UK.  For a description of a Level 1\, please see our courses page. For more information or to register\, please click here.   \nDates: 20-21 October 2018\n10:00AM – 4:00PM
URL:https://leadershipembodiment.com/event/level-1-with-beth-follini-2/
LOCATION:St. Edmunds Church\, Lombard Street\, London\, United Kingdom
CATEGORIES:Europe
ATTACH;FMTTYPE=:
ORGANIZER;CN="Beth Follini":MAILTO:beth@ticktockcoaching.co.uk
GEO:51.512647;-0.0871406
X-APPLE-STRUCTURED-LOCATION;VALUE=URI;X-ADDRESS=St. Edmunds Church Lombard Street London United Kingdom;X-APPLE-RADIUS=500;X-TITLE=Lombard Street:geo:-0.0871406,51.512647
END:VEVENT
BEGIN:VEVENT
DTSTART;VALUE=DATE:20181018
DTEND;VALUE=DATE:20181020
DTSTAMP:20260425T052210
CREATED:20180917T170712Z
LAST-MODIFIED:20180917T170712Z
UID:10000731-1539820800-1539993599@leadershipembodiment.com
SUMMARY:Level 1 with Paul King
DESCRIPTION:Join Paul King in Zurich\, Switzerland for a 2-Day Level 1.  For a description of a Level 1\, please see our courses page.   \nDates: 18-19 October 2018
URL:https://leadershipembodiment.com/event/level-1-with-paul-king-29/
LOCATION:Zurich Venue\, Zurich\, Switzerland
CATEGORIES:Europe
ATTACH;FMTTYPE=:
ORGANIZER;CN="Paul King":MAILTO:info@thebeyondpartnership.co.uk
GEO:47.3768866;8.541694
END:VEVENT
BEGIN:VEVENT
DTSTART;VALUE=DATE:20181013
DTEND;VALUE=DATE:20181015
DTSTAMP:20260425T052210
CREATED:20180517T141438Z
LAST-MODIFIED:20180517T141438Z
UID:10000720-1539388800-1539561599@leadershipembodiment.com
SUMMARY:Level 2 with Paul King
DESCRIPTION:Join Paul King for a 2-Day Level 2 in Wiltshire\, United Kingdom. For a description of a Level 2\, please see our courses page. You must have attended a Level 1 before enrolling in a Level 2 course.  New requisites to attend an Intensive Retreat with Wendy Palmer now include completion of both Level 1 and Level 2 courses.  \nDates: October 13-14\, 2018
URL:https://leadershipembodiment.com/event/level-2-with-paul-king-7/
LOCATION:Royal Wootton Bassett\, Royal Wootton Bassett\, Wiltshire\, SN4\, United Kingdom
CATEGORIES:Europe
ATTACH;FMTTYPE=:
ORGANIZER;CN="Paul King":MAILTO:paul@thebeyondpartnership.co.uk
END:VEVENT
BEGIN:VEVENT
DTSTART;VALUE=DATE:20181011
DTEND;VALUE=DATE:20181012
DTSTAMP:20260425T052210
CREATED:20180511T193204Z
LAST-MODIFIED:20180511T193204Z
UID:10000703-1539216000-1539302399@leadershipembodiment.com
SUMMARY:Level 1 with Anouk Brack (Day 2 of 2)
DESCRIPTION:Join Anouk for a 2-day Level 1 Fundamentals course in Arnhem\, Netherlands. Non-Dutch speaking interested participants should contact Anouk directly for available language options. Please click here for more information or to register.  \nDates\nDay One: 20 September 2018\nDay Two: 11 October 2018
URL:https://leadershipembodiment.com/event/level-1-with-anouk-brack-day-2-of-2/
LOCATION:Shambhala Centre Arnhem\, Rijnkade 32\, Arnhem\,  6811 HA\, Netherlands
CATEGORIES:Europe
ATTACH;FMTTYPE=:
ORGANIZER;CN="Anouk Brack":MAILTO:Anouk.Brack@anouka.nl
END:VEVENT
BEGIN:VEVENT
DTSTART;VALUE=DATE:20180920
DTEND;VALUE=DATE:20180921
DTSTAMP:20260425T052210
CREATED:20180511T192935Z
LAST-MODIFIED:20180511T192935Z
UID:10000702-1537401600-1537487999@leadershipembodiment.com
SUMMARY:Level 1 with Anouk Brack (Day 1 of 2)
DESCRIPTION:Join Anouk for a 2-day Level 1 Fundamentals course in Arnhem\, Netherlands. Non-Dutch speaking interested participants should contact Anouk directly for available language options. Please click here for more information or to register.  \nDates\nDay One: 20 September 2018\nDay Two: 11 October 2018
URL:https://leadershipembodiment.com/event/level-1-with-anouk-brack-day-1-of-2-2/
LOCATION:Shambhala Centre Arnhem\, Rijnkade 32\, Arnhem\,  6811 HA\, Netherlands
CATEGORIES:Europe
ATTACH;FMTTYPE=:
ORGANIZER;CN="Anouk Brack":MAILTO:Anouk.Brack@anouka.nl
END:VEVENT
BEGIN:VEVENT
DTSTART;VALUE=DATE:20180915
DTEND;VALUE=DATE:20180917
DTSTAMP:20260425T052210
CREATED:20180517T140921Z
LAST-MODIFIED:20180517T140921Z
UID:10000719-1536969600-1537142399@leadershipembodiment.com
SUMMARY:Level 1 with Paul King
DESCRIPTION:Join Paul King for a 2-Day Level 1 in Wiltshire\, United Kingdom. For a description of a Level 1\, please see our courses page.  \nDates: September 15-16\, 2018
URL:https://leadershipembodiment.com/event/level-1-with-paul-king-24/
LOCATION:Royal Wootton Bassett\, Royal Wootton Bassett\, Wiltshire\, SN4\, United Kingdom
CATEGORIES:Europe
ATTACH;FMTTYPE=:
ORGANIZER;CN="Paul King":MAILTO:paul@thebeyondpartnership.co.uk
END:VEVENT
BEGIN:VEVENT
DTSTART;VALUE=DATE:20180912
DTEND;VALUE=DATE:20180913
DTSTAMP:20260425T052210
CREATED:20180511T202546Z
LAST-MODIFIED:20180511T202546Z
UID:10000707-1536710400-1536796799@leadershipembodiment.com
SUMMARY:Level 1 with Pierre Goirand (Day 1 of 2)
DESCRIPTION:Join Pierre Goirand for a 2-Day Level 1 in Paris. For a description of a Level 1\, please see our courses page. To register for the course\, please click here. This course will be led in French.  \nDates\nDay 1: 12 September 2018\nDay 2: 7 November 2018
URL:https://leadershipembodiment.com/event/level-1-with-pierre-goirand-day-1-of-2-8/
LOCATION:Protestant Institute of Paris\, 83 Boulevard Arago\, Paris\, 75014\, France
CATEGORIES:Europe
ATTACH;FMTTYPE=:
ORGANIZER;CN="Pierre Goirand":MAILTO:contact@presenceleadership.net
END:VEVENT
BEGIN:VEVENT
DTSTART;VALUE=DATE:20180901
DTEND;VALUE=DATE:20180903
DTSTAMP:20260425T052210
CREATED:20180209T180511Z
LAST-MODIFIED:20180209T180511Z
UID:10000698-1535760000-1535932799@leadershipembodiment.com
SUMMARY:Level 2 with Pierre Goirand
DESCRIPTION:Join Pierre for a 2-Day Level 2 in St. Petersburg\, Russia. You must have completed a Level 1 before enrolling in a Level 2. For descriptions of Level 1 and Level 2\, please see our courses page.  \nDates: 1-2 September\, 2018 \nFor more information\, please contact one of the organizers\, Olga Kolganova or Valentina Popova\, listed below or see this website.
URL:https://leadershipembodiment.com/event/level-2-with-pierre-goirand-6/
LOCATION:St. Petersburg Venue\, St. Petersburg\, Russian Federation
CATEGORIES:Europe
ATTACH;FMTTYPE=:
ORGANIZER;CN="Olga Kolganova":MAILTO:shamada.space@gmail.com
END:VEVENT
BEGIN:VEVENT
DTSTART;VALUE=DATE:20180714
DTEND;VALUE=DATE:20180716
DTSTAMP:20260425T052210
CREATED:20180517T140418Z
LAST-MODIFIED:20180517T140418Z
UID:10000718-1531526400-1531699199@leadershipembodiment.com
SUMMARY:Level 1 with Paul King
DESCRIPTION:Join Paul King in Zurich\, Switzerland for a 2-Day Level 1. For a description of a Level 1\, please see our courses page.  \nDates: July 14-15\, 2018
URL:https://leadershipembodiment.com/event/level-1-with-paul-king-23/
LOCATION:Zurich Venue\, Zurich\, Switzerland
CATEGORIES:Europe
ATTACH;FMTTYPE=:
ORGANIZER;CN="Paul King":MAILTO:paul@thebeyondpartnership.co.uk
GEO:47.3768866;8.541694
END:VEVENT
BEGIN:VEVENT
DTSTART;VALUE=DATE:20180706
DTEND;VALUE=DATE:20180708
DTSTAMP:20260425T052210
CREATED:20180209T170456Z
LAST-MODIFIED:20180209T170456Z
UID:10000694-1530835200-1531007999@leadershipembodiment.com
SUMMARY:Level 2 with Maud Raber
DESCRIPTION:Join Maud Raber for a 2-Day Level 2 in Moscow\, Russia. You must have completed a Level 1 before enrolling in a Level 2. For descriptions of a Level 1 and Level 2\, please see our courses page.   \nTo confirm the venue and for more information\, please contact the organizer/leader\, Maud Raber. \nDates: 6-7 July\, 2018
URL:https://leadershipembodiment.com/event/level-2-with-maud-raber/
LOCATION:Moscow Venue\, TBD\, Moscow\, Russian Federation
CATEGORIES:Europe
ATTACH;FMTTYPE=:
ORGANIZER;CN="Maud Raber":MAILTO:maud@embodied-potential.com
GEO:55.833058;37.6391749
X-APPLE-STRUCTURED-LOCATION;VALUE=URI;X-ADDRESS=Moscow Venue TBD Moscow Russian Federation;X-APPLE-RADIUS=500;X-TITLE=TBD:geo:37.6391749,55.833058
END:VEVENT
BEGIN:VEVENT
DTSTART;VALUE=DATE:20180703
DTEND;VALUE=DATE:20180707
DTSTAMP:20260425T052210
CREATED:20171009T164242Z
LAST-MODIFIED:20171009T164242Z
UID:10000666-1530576000-1530921599@leadershipembodiment.com
SUMMARY:Samye Ling Intensive Retreat with Wendy Palmer
DESCRIPTION:Join Wendy Palmer for this very special intensive retreat at Samye Ling in Scotland. You must have completed at least a Level 1 before taking a retreat. For a description of a retreat\, please see our courses page. This popular retreat is normally held in the spring. This year the retreat is being held in mid-summer.   \nDates: 3-6 July 2018
URL:https://leadershipembodiment.com/event/samye-ling-intensive-retreat-with-wendy-palmer/
LOCATION:Samye Ling\, Scotland\, United Kingdom
CATEGORIES:Europe
ATTACH;FMTTYPE=:
END:VEVENT
BEGIN:VEVENT
DTSTART;VALUE=DATE:20180616
DTEND;VALUE=DATE:20180618
DTSTAMP:20260425T052210
CREATED:20180209T180123Z
LAST-MODIFIED:20180209T180123Z
UID:10000697-1529107200-1529279999@leadershipembodiment.com
SUMMARY:Level 1 with Pierre Goirand
DESCRIPTION:Join Pierre for a 2-Day Level 1 in St. Petersburg\, Russia. For a description of a Level 1\, please see our courses page.  \nDates: 16-17 June\, 2018 \nFor more information\, please contact one of the organizers\, Olga Kolganova or Valentina Popova\, listed below or see this website.
URL:https://leadershipembodiment.com/event/level-1-with-pierre-goirand-8/
LOCATION:St. Petersburg Venue\, St. Petersburg\, Russian Federation
CATEGORIES:Europe
ATTACH;FMTTYPE=:
ORGANIZER;CN="Olga Kolganova":MAILTO:shamada.space@gmail.com
END:VEVENT
BEGIN:VEVENT
DTSTART;VALUE=DATE:20180615
DTEND;VALUE=DATE:20180617
DTSTAMP:20260425T052210
CREATED:20171215T170422Z
LAST-MODIFIED:20171215T170422Z
UID:10000680-1529020800-1529193599@leadershipembodiment.com
SUMMARY:Level 1 with Paul King
DESCRIPTION:Join Paul King in Bucharest\, Romania for a 2-Day Level 1 Workshop.  For a description of a Level 1\, please see our courses page. \nDates: 16-15 June 2018
URL:https://leadershipembodiment.com/event/level-1-with-paul-king-19/
LOCATION:Bucharest Venue\, Bucharest\, Romania
CATEGORIES:Europe
ATTACH;FMTTYPE=:
ORGANIZER;CN="Paul King":MAILTO:paul@thebeyondpartnership.co.uk
END:VEVENT
BEGIN:VEVENT
DTSTART;VALUE=DATE:20180608
DTEND;VALUE=DATE:20180610
DTSTAMP:20260425T052210
CREATED:20180209T165543Z
LAST-MODIFIED:20180209T165543Z
UID:10000693-1528416000-1528588799@leadershipembodiment.com
SUMMARY:Level 1 with Maud Raber
DESCRIPTION:Join Maud Raber for a 2-Day Level 1 in Moscow\, Russia. For a description of a Level 1\, please see our courses page.   \nMore information to come regarding the venue\, please contact the organizer/leader\, Maud Raber\, with any questions. \nDates: 8-9 June\, 2018
URL:https://leadershipembodiment.com/event/level-1-with-maud-raber/
LOCATION:Moscow Venue\, TBD\, Moscow\, Russian Federation
CATEGORIES:Europe
ATTACH;FMTTYPE=:
ORGANIZER;CN="Maud Raber":MAILTO:maud@embodied-potential.com
GEO:55.833058;37.6391749
X-APPLE-STRUCTURED-LOCATION;VALUE=URI;X-ADDRESS=Moscow Venue TBD Moscow Russian Federation;X-APPLE-RADIUS=500;X-TITLE=TBD:geo:37.6391749,55.833058
END:VEVENT
BEGIN:VEVENT
DTSTART;VALUE=DATE:20180604
DTEND;VALUE=DATE:20180606
DTSTAMP:20260425T052210
CREATED:20180205T171103Z
LAST-MODIFIED:20180205T171103Z
UID:10000685-1528070400-1528243199@leadershipembodiment.com
SUMMARY:Level 2 with Anouk Brack
DESCRIPTION:Join Anouk Brack for a 2-Day Level 2 Intermediate workshop in Arnhem\, Netherlands. (You must have completed a Level 1 before attending a Level 2). For a description of a Level 2\, please see our courses page.   \nFor more information and to register\, please click here.\nDates: 4-5 June 2018
URL:https://leadershipembodiment.com/event/level-2-with-anouk-brack-2/
LOCATION:Shambhala Centre Arnhem\, Rijnkade 32\, Arnhem\,  6811 HA\, Netherlands
CATEGORIES:Europe
ATTACH;FMTTYPE=:
ORGANIZER;CN="Anouk Brack":MAILTO:Anouk.Brack@anouka.nl
END:VEVENT
BEGIN:VEVENT
DTSTART;VALUE=DATE:20180531
DTEND;VALUE=DATE:20180602
DTSTAMP:20260425T052210
CREATED:20170901T184323Z
LAST-MODIFIED:20170901T184323Z
UID:10000662-1527724800-1527897599@leadershipembodiment.com
SUMMARY:Level 1 with Pierre Goirand
DESCRIPTION:Join Pierre Goirand for a 2-day Level 1 in Berlin\, Germany.  (The course will be taught in English.) For a description of a Level 1\, please see our courses page. For more information on this class\, please click here.   \nYou may also check out this informative video of Pierre speaking about Leadership Embodiment.   \nDates: May 31 and June 1\, 2018
URL:https://leadershipembodiment.com/event/level-1-with-pierre-goirand-4/
LOCATION:Berlin\, Germany Venue\, Berlin\, Germany
CATEGORIES:Europe
ATTACH;FMTTYPE=:
ORGANIZER;CN="Pierre Goirand":MAILTO:contact@presenceleadership.net
GEO:52.5200066;13.404954
END:VEVENT
BEGIN:VEVENT
DTSTART;VALUE=DATE:20180528
DTEND;VALUE=DATE:20180530
DTSTAMP:20260425T052210
CREATED:20170901T155919Z
LAST-MODIFIED:20170901T155919Z
UID:10000661-1527465600-1527638399@leadershipembodiment.com
SUMMARY:Level 1 with Pierre Goirand
DESCRIPTION:Please join Pierre Goirand for a 2-day Leadership Embodiment Level 1 Course (English) in Köln\, Germany.  For a description of a Level 1\, please see our courses page. For more information\, please click here.   \nYou may also check out Pierre’s informative video about Leadership Embodiment. \nDates: 28 and 29 May 2018
URL:https://leadershipembodiment.com/event/level-1-with-pierre-goirand-3/
LOCATION:Köln\, Germany Venue\, Köln\, Germany
CATEGORIES:Europe
ATTACH;FMTTYPE=:
ORGANIZER;CN="Pierre Goirand":MAILTO:contact@presenceleadership.net
GEO:50.937531;6.9602786
END:VEVENT
BEGIN:VEVENT
DTSTART;VALUE=DATE:20180507
DTEND;VALUE=DATE:20180509
DTSTAMP:20260425T052210
CREATED:20180205T170447Z
LAST-MODIFIED:20180205T170447Z
UID:10000684-1525651200-1525823999@leadershipembodiment.com
SUMMARY:Level 1 with Anouk Brack
DESCRIPTION:Join Anouk Brack for a 2-Day Level 1 in Arnhem\, Netherlands. The course will be in Dutch\, unless non-Dutch speakers wish to join. Please contact Anouk if you would like to request the course in English.   \nDates: 7-8 May 2018 \nFor more information and to register\, please click here.
URL:https://leadershipembodiment.com/event/level-1-with-anouk-brack-2/
LOCATION:Shambhala Centre Arnhem\, Rijnkade 32\, Arnhem\,  6811 HA\, Netherlands
CATEGORIES:Europe
ATTACH;FMTTYPE=:
ORGANIZER;CN="Anouk Brack":MAILTO:Anouk.Brack@anouka.nl
END:VEVENT
BEGIN:VEVENT
DTSTART;VALUE=DATE:20180428
DTEND;VALUE=DATE:20180430
DTSTAMP:20260425T052210
CREATED:20180207T201957Z
LAST-MODIFIED:20180207T201957Z
UID:10000690-1524873600-1525046399@leadershipembodiment.com
SUMMARY:Level 2 with Paul King
DESCRIPTION:Join Paul King for a 2-Day Intermediate Level 2 in Wiltshire\, United Kingdom. You must have completed a Level 1 before enrolling in a Level 2.  For descriptions of Level 1 and Level 2\, please see our courses page. \nDates: 28-29 April 2018
URL:https://leadershipembodiment.com/event/level-2-with-paul-king-6/
LOCATION:Royal Wootton Bassett\, Royal Wootton Bassett\, Wiltshire\, SN4\, United Kingdom
CATEGORIES:Europe
ATTACH;FMTTYPE=:
ORGANIZER;CN="Paul King":MAILTO:paul@thebeyondpartnership.co.uk
END:VEVENT
BEGIN:VEVENT
DTSTART;VALUE=DATE:20180420
DTEND;VALUE=DATE:20180422
DTSTAMP:20260425T052210
CREATED:20180112T171700Z
LAST-MODIFIED:20180112T171700Z
UID:10000682-1524182400-1524355199@leadershipembodiment.com
SUMMARY:Level 1 with Beth Follini
DESCRIPTION:Join Beth Follini for a 2-day Leadership Embodiment Level 1 in London. For a description of a Level 1\, please see our courses page. For more information or to register\, please click here.  \nDates: 20-21 April 2018
URL:https://leadershipembodiment.com/event/level-1-with-beth-follini/
CATEGORIES:Europe
ATTACH;FMTTYPE=:
ORGANIZER;CN="Beth Follini":MAILTO:beth@ticktockcoaching.co.uk
END:VEVENT
BEGIN:VEVENT
DTSTART;VALUE=DATE:20180414
DTEND;VALUE=DATE:20180416
DTSTAMP:20260425T052210
CREATED:20180207T212132Z
LAST-MODIFIED:20180207T212132Z
UID:10000691-1523664000-1523836799@leadershipembodiment.com
SUMMARY:Level 1 with Pierre Goirand
DESCRIPTION:Join Pierre Goirand for a 2-Day Level 1 in Casablanca\, Morocco. For more information or to register\, please click here.   \nDates: 14-15 April 2018
URL:https://leadershipembodiment.com/event/level-1-with-pierre-goirand-6/
LOCATION:Blue Storm Institute\, 23\, Lot. les Arenes\, rue no 2 - 5e etage\, Casablanca\, Morocco
CATEGORIES:Europe
ATTACH;FMTTYPE=:
ORGANIZER;CN="Nayla Choueiter":MAILTO:n.choueiter@bluestorm.ma
END:VEVENT
BEGIN:VEVENT
DTSTART;VALUE=DATE:20180414
DTEND;VALUE=DATE:20180416
DTSTAMP:20260425T052210
CREATED:20180207T194915Z
LAST-MODIFIED:20180207T194915Z
UID:10000688-1523664000-1523836799@leadershipembodiment.com
SUMMARY:Level 1 with Paul King
DESCRIPTION:Join Paul King for a 2-Day Level 1 in Zurich\, Switzerland. For a description of a Level 1\, please see our courses page.  \nDates: 14-15 April 2018
URL:https://leadershipembodiment.com/event/level-1-with-paul-king-21/
LOCATION:Zurich Venue\, Zurich\, Switzerland
CATEGORIES:Europe
ATTACH;FMTTYPE=:
ORGANIZER;CN="Paul King":MAILTO:paul@thebeyondpartnership.co.uk
GEO:47.3768866;8.541694
END:VEVENT
BEGIN:VEVENT
DTSTART;VALUE=DATE:20180411
DTEND;VALUE=DATE:20180413
DTSTAMP:20260425T052210
CREATED:20170619T210259Z
LAST-MODIFIED:20170619T210259Z
UID:10000641-1523404800-1523577599@leadershipembodiment.com
SUMMARY:Level 2 with Pierre Goirand
DESCRIPTION:Join Pierre Goirand in Paris\, France for a 2-day Level 2 course.  You must have completed a Level 1 before taking a Level 2. For a description of Level 2\, please see our courses page.  For more information\, please click here.  \nDates: 11-12 April 2018
URL:https://leadershipembodiment.com/event/level-2-with-pierre-goirand-3/
LOCATION:Paris Venue\, Paris\, France
CATEGORIES:Europe
ATTACH;FMTTYPE=:
ORGANIZER;CN="Pierre Goirand":MAILTO:contact@presenceleadership.net
END:VEVENT
BEGIN:VEVENT
DTSTART;VALUE=DATE:20180407
DTEND;VALUE=DATE:20180409
DTSTAMP:20260425T052210
CREATED:20180207T201556Z
LAST-MODIFIED:20180207T201556Z
UID:10000689-1523059200-1523231999@leadershipembodiment.com
SUMMARY:Level 1 with Paul King
DESCRIPTION:Join Paul King for a 2-Day Level 1 in Wiltshire\, United Kingdom. For a description of a Level 1\, please see our courses page.  \nDates: 7-8 April 2018
URL:https://leadershipembodiment.com/event/level-1-with-paul-king-22/
LOCATION:Royal Wootton Bassett\, Royal Wootton Bassett\, Wiltshire\, SN4\, United Kingdom
CATEGORIES:Europe
ATTACH;FMTTYPE=:
ORGANIZER;CN="Paul King":MAILTO:paul@thebeyondpartnership.co.uk
END:VEVENT
BEGIN:VEVENT
DTSTART;VALUE=DATE:20180328
DTEND;VALUE=DATE:20180329
DTSTAMP:20260425T052210
CREATED:20171009T190238Z
LAST-MODIFIED:20171009T190238Z
UID:10000668-1522195200-1522281599@leadershipembodiment.com
SUMMARY:Level 1 with Pierre Goirand (Day 1 of 2)
DESCRIPTION:Join Pierre Goirand for a 2-day Level 1 in Paris\, France.  For a description of a Level 1\, please see our courses page.  \nPlease click here for more information or to register.  \nDay One: 28 March 2018\nDay Two: 16 May 2018
URL:https://leadershipembodiment.com/event/level-1-with-pierre-goirand-5/
LOCATION:Paris Venue\, Paris\, France
CATEGORIES:Europe
ATTACH;FMTTYPE=:
ORGANIZER;CN="Pierre Goirand":MAILTO:contact@presenceleadership.net
END:VEVENT
BEGIN:VEVENT
DTSTART;VALUE=DATE:20180306
DTEND;VALUE=DATE:20180308
DTSTAMP:20260425T052210
CREATED:20180207T194457Z
LAST-MODIFIED:20180207T194457Z
UID:10000687-1520294400-1520467199@leadershipembodiment.com
SUMMARY:Level 1 with Paul King
DESCRIPTION:Join Paul King for a 2-Day Level 1 in Amsterdam\, Netherlands. For a description of a Level 1\, please see our courses page.   \nDates: 6-7 March 2018
URL:https://leadershipembodiment.com/event/level-1-with-paul-king-20/
LOCATION:Amsterdam Venue\, Amsterdam\, Netherlands
CATEGORIES:Europe
ATTACH;FMTTYPE=:
ORGANIZER;CN="Paul King":MAILTO:paul@thebeyondpartnership.co.uk
GEO:52.3702157;4.8951679
END:VEVENT
BEGIN:VEVENT
DTSTART;VALUE=DATE:20180303
DTEND;VALUE=DATE:20180305
DTSTAMP:20260425T052210
CREATED:20171215T162823Z
LAST-MODIFIED:20171215T162823Z
UID:10000679-1520035200-1520207999@leadershipembodiment.com
SUMMARY:Level 1 with Paul King
DESCRIPTION:Join Paul King in Copenhagen\, Denmark for a 2-Day Level 1 workshop.  For a description of a Level 1\, please see our courses page.   \nDates: 3-4 March 2018
URL:https://leadershipembodiment.com/event/level-1-with-paul-king-18/
LOCATION:Copenhagen Venue\, Copenhagen\, Denmark
CATEGORIES:Europe
ATTACH;FMTTYPE=:
ORGANIZER;CN="Paul King":MAILTO:paul@thebeyondpartnership.co.uk
END:VEVENT
BEGIN:VEVENT
DTSTART;VALUE=DATE:20180208
DTEND;VALUE=DATE:20180209
DTSTAMP:20260425T052210
CREATED:20171009T185925Z
LAST-MODIFIED:20171009T185925Z
UID:10000667-1518048000-1518134399@leadershipembodiment.com
SUMMARY:Level 1 with Pierre Goirand (Day 1 of 2)
DESCRIPTION:Join Pierre Goirand in Paris\, France for a 2-day Level 1. For a description of Level 1\, please see our courses page.   \nPlease click here for more information or to register. \nDay One: 8 February 2018\nDay Two: 23 March 2018
URL:https://leadershipembodiment.com/event/level-1-with-pierre-goirand-day-1-of-2-7/
CATEGORIES:Europe
ATTACH;FMTTYPE=:
END:VEVENT
BEGIN:VEVENT
DTSTART;VALUE=DATE:20180127
DTEND;VALUE=DATE:20180129
DTSTAMP:20260425T052210
CREATED:20171215T162241Z
LAST-MODIFIED:20171215T162241Z
UID:10000678-1517011200-1517183999@leadershipembodiment.com
SUMMARY:Level 1 with Paul King
DESCRIPTION:Join Paul King for a 2-Day Level 1 in Wiltshire\, UK.  For a description of a Level 1\, please see our courses page.   \nDates 27 & 28 January 2018
URL:https://leadershipembodiment.com/event/level-1-with-paul-king-17/
LOCATION:Royal Wootton Bassett\, Royal Wootton Bassett\, Wiltshire\, SN4\, United Kingdom
CATEGORIES:Europe
ATTACH;FMTTYPE=:
ORGANIZER;CN="Paul King":MAILTO:paul@thebeyondpartnership.co.uk
END:VEVENT
BEGIN:VEVENT
DTSTART;VALUE=DATE:20171214
DTEND;VALUE=DATE:20171215
DTSTAMP:20260425T052210
CREATED:20170619T205240Z
LAST-MODIFIED:20170619T205240Z
UID:10000640-1513209600-1513295999@leadershipembodiment.com
SUMMARY:Level 1 with Pierre Goirand (Day 2 of 2)
DESCRIPTION:Pierre Goirand is offering a 2-day Level 1 in Paris\, France.  For a description of a Level 1\, please see our courses page.  For more information\, please click here.  \nDay 1: 9 November 2017\nDay 2: 14 December 2017
URL:https://leadershipembodiment.com/event/level-1-with-pierre-goirand-day-2-of-2/
LOCATION:Paris Venue\, Paris\, France
CATEGORIES:Europe
ATTACH;FMTTYPE=:
ORGANIZER;CN="Pierre Goirand":MAILTO:contact@presenceleadership.net
END:VEVENT
END:VCALENDAR