BEGIN:VCALENDAR
VERSION:2.0
PRODID:-//Leadership Embodiment - ECPv6.15.20//NONSGML v1.0//EN
CALSCALE:GREGORIAN
METHOD:PUBLISH
X-ORIGINAL-URL:https://leadershipembodiment.com
X-WR-CALDESC:Events for Leadership Embodiment
REFRESH-INTERVAL;VALUE=DURATION:PT1H
X-Robots-Tag:noindex
X-PUBLISHED-TTL:PT1H
BEGIN:VTIMEZONE
TZID:America/Los_Angeles
BEGIN:DAYLIGHT
TZOFFSETFROM:-0800
TZOFFSETTO:-0700
TZNAME:PDT
DTSTART:20150308T100000
END:DAYLIGHT
BEGIN:STANDARD
TZOFFSETFROM:-0700
TZOFFSETTO:-0800
TZNAME:PST
DTSTART:20151101T090000
END:STANDARD
BEGIN:DAYLIGHT
TZOFFSETFROM:-0800
TZOFFSETTO:-0700
TZNAME:PDT
DTSTART:20160313T100000
END:DAYLIGHT
BEGIN:STANDARD
TZOFFSETFROM:-0700
TZOFFSETTO:-0800
TZNAME:PST
DTSTART:20161106T090000
END:STANDARD
BEGIN:DAYLIGHT
TZOFFSETFROM:-0800
TZOFFSETTO:-0700
TZNAME:PDT
DTSTART:20170312T100000
END:DAYLIGHT
BEGIN:STANDARD
TZOFFSETFROM:-0700
TZOFFSETTO:-0800
TZNAME:PST
DTSTART:20171105T090000
END:STANDARD
BEGIN:DAYLIGHT
TZOFFSETFROM:-0800
TZOFFSETTO:-0700
TZNAME:PDT
DTSTART:20180311T100000
END:DAYLIGHT
BEGIN:STANDARD
TZOFFSETFROM:-0700
TZOFFSETTO:-0800
TZNAME:PST
DTSTART:20181104T090000
END:STANDARD
END:VTIMEZONE
BEGIN:VTIMEZONE
TZID:Europe/Amsterdam
BEGIN:DAYLIGHT
TZOFFSETFROM:+0100
TZOFFSETTO:+0200
TZNAME:CEST
DTSTART:20150329T010000
END:DAYLIGHT
BEGIN:STANDARD
TZOFFSETFROM:+0200
TZOFFSETTO:+0100
TZNAME:CET
DTSTART:20151025T010000
END:STANDARD
BEGIN:DAYLIGHT
TZOFFSETFROM:+0100
TZOFFSETTO:+0200
TZNAME:CEST
DTSTART:20160327T010000
END:DAYLIGHT
BEGIN:STANDARD
TZOFFSETFROM:+0200
TZOFFSETTO:+0100
TZNAME:CET
DTSTART:20161030T010000
END:STANDARD
BEGIN:DAYLIGHT
TZOFFSETFROM:+0100
TZOFFSETTO:+0200
TZNAME:CEST
DTSTART:20170326T010000
END:DAYLIGHT
BEGIN:STANDARD
TZOFFSETFROM:+0200
TZOFFSETTO:+0100
TZNAME:CET
DTSTART:20171029T010000
END:STANDARD
END:VTIMEZONE
BEGIN:VTIMEZONE
TZID:Europe/London
BEGIN:DAYLIGHT
TZOFFSETFROM:+0000
TZOFFSETTO:+0100
TZNAME:BST
DTSTART:20150329T010000
END:DAYLIGHT
BEGIN:STANDARD
TZOFFSETFROM:+0100
TZOFFSETTO:+0000
TZNAME:GMT
DTSTART:20151025T010000
END:STANDARD
BEGIN:DAYLIGHT
TZOFFSETFROM:+0000
TZOFFSETTO:+0100
TZNAME:BST
DTSTART:20160327T010000
END:DAYLIGHT
BEGIN:STANDARD
TZOFFSETFROM:+0100
TZOFFSETTO:+0000
TZNAME:GMT
DTSTART:20161030T010000
END:STANDARD
BEGIN:DAYLIGHT
TZOFFSETFROM:+0000
TZOFFSETTO:+0100
TZNAME:BST
DTSTART:20170326T010000
END:DAYLIGHT
BEGIN:STANDARD
TZOFFSETFROM:+0100
TZOFFSETTO:+0000
TZNAME:GMT
DTSTART:20171029T010000
END:STANDARD
END:VTIMEZONE
BEGIN:VEVENT
DTSTART;VALUE=DATE:20170114
DTEND;VALUE=DATE:20170116
DTSTAMP:20260425T135224
CREATED:20160924T160207Z
LAST-MODIFIED:20160924T160207Z
UID:10000588-1484352000-1484524799@leadershipembodiment.com
SUMMARY:Level 1 with Paul King
DESCRIPTION:Join Paul King for a 2-day Level 1 Fundamentals workshop at Psykoterapeutisk Klinik in Copenhagen\, Denmark.  For a description of a Level 1\, please see our courses page.  \nDates: 14 & 15 January 2017
URL:https://leadershipembodiment.com/event/level-1-with-paul-king-7/
LOCATION:Psykoterapeutisk Klinik\, Nannasgade 28\, Copenhagen\, 2200\, Denmark
CATEGORIES:Europe
ATTACH;FMTTYPE=:
ORGANIZER;CN="Paul King":MAILTO:paul@thebeyondpartnership.co.uk
GEO:55.701006;12.5464939
X-APPLE-STRUCTURED-LOCATION;VALUE=URI;X-ADDRESS=Psykoterapeutisk Klinik Nannasgade 28 Copenhagen 2200 Denmark;X-APPLE-RADIUS=500;X-TITLE=Nannasgade 28:geo:12.5464939,55.701006
END:VEVENT
BEGIN:VEVENT
DTSTART;VALUE=DATE:20161209
DTEND;VALUE=DATE:20161211
DTSTAMP:20260425T135224
CREATED:20160712T171826Z
LAST-MODIFIED:20160712T171826Z
UID:10000579-1481241600-1481414399@leadershipembodiment.com
SUMMARY:Level 1 with Paul King
DESCRIPTION:Join Paul King for a 2-day Level 1 in Bucharest\, Romania.  For a description of Level 1\, please see our courses page.  \nDates: 9-10 December 2016
URL:https://leadershipembodiment.com/event/level-1-with-paul-king-6/
CATEGORIES:Europe
ATTACH;FMTTYPE=:
ORGANIZER;CN="Paul King":MAILTO:paul@thebeyondpartnership.co.uk
END:VEVENT
BEGIN:VEVENT
DTSTART;VALUE=DATE:20161206
DTEND;VALUE=DATE:20161207
DTSTAMP:20260425T135224
CREATED:20160816T162402Z
LAST-MODIFIED:20160816T162402Z
UID:10000584-1480982400-1481068799@leadershipembodiment.com
SUMMARY:Level 2 with Maud Raber (Day 1 of 2)
DESCRIPTION:Join Maud Raber in Central Paris for a Level 2 Intermediate course in French\, “Leadership puissant et authentique – Approfondissement”.  You must have completed a Level 1 before taking this course.  For a description of our Level 2\, please see our courses page. \nDates:\nDecember 6th\, 2016 – Day 1\nJanuary 10th\, 2017 – Day 2 \nTimes: 9:30 AM (Welcome coffee and tea at 9:00 AM) to 5:30 PM \nRegistration Link
URL:https://leadershipembodiment.com/event/level-2-with-maud-raber-day-1-of-2/
LOCATION:Espace Babylone\, 91\, rue de Sèvres\, Paris\, France
CATEGORIES:Europe
ATTACH;FMTTYPE=:
ORGANIZER;CN="Maud Raber":MAILTO:maud@embodied-potential.com
GEO:48.8488038;2.3223797
X-APPLE-STRUCTURED-LOCATION;VALUE=URI;X-ADDRESS=Espace Babylone 91 rue de Sèvres Paris France;X-APPLE-RADIUS=500;X-TITLE=91\, rue de Sèvres:geo:2.3223797,48.8488038
END:VEVENT
BEGIN:VEVENT
DTSTART;VALUE=DATE:20161203
DTEND;VALUE=DATE:20161205
DTSTAMP:20260425T135224
CREATED:20160712T173304Z
LAST-MODIFIED:20160712T173304Z
UID:10000580-1480723200-1480895999@leadershipembodiment.com
SUMMARY:Level 2 with Paul King
DESCRIPTION:Join Paul King for a 2-day Level 2 in Wilshire\, UK.  You must have completed a Level 1 before taking this course.  For a description of our Level 2\, please see our courses page.
URL:https://leadershipembodiment.com/event/level-2-with-paul-king/
LOCATION:Marsh Farm Hotel\, Royal Wootton Bassett\, Swindon\, Wiltshire\, United Kingdom
CATEGORIES:Europe
ATTACH;FMTTYPE=:
ORGANIZER;CN="Paul King":MAILTO:paul@thebeyondpartnership.co.uk
GEO:51.541395;-1.902318
X-APPLE-STRUCTURED-LOCATION;VALUE=URI;X-ADDRESS=Marsh Farm Hotel Royal Wootton Bassett Swindon Wiltshire United Kingdom;X-APPLE-RADIUS=500;X-TITLE=Royal Wootton Bassett:geo:-1.902318,51.541395
END:VEVENT
BEGIN:VEVENT
DTSTART;VALUE=DATE:20161125
DTEND;VALUE=DATE:20161127
DTSTAMP:20260425T135224
CREATED:20151106T000733Z
LAST-MODIFIED:20151106T000733Z
UID:10000538-1480032000-1480204799@leadershipembodiment.com
SUMMARY:Level 2 Intermediate with Anouk Brack
DESCRIPTION:Join Anouk Brack for a 2 Day Level 2 Intermediate workshop in Arnhem. For more information\, please go to Anouk’s website. \nDates:\n25 & 26 November 2016
URL:https://leadershipembodiment.com/event/level-2-with-anouk-brack/
LOCATION:Shambhala Centre Arnhem\, Rijnkade 32\, Arnhem\,  6811 HA\, Netherlands
CATEGORIES:Europe
ATTACH;FMTTYPE=:
ORGANIZER;CN="Anouk Brack":MAILTO:Anouk.Brack@anouka.nl
END:VEVENT
BEGIN:VEVENT
DTSTART;VALUE=DATE:20161118
DTEND;VALUE=DATE:20161119
DTSTAMP:20260425T135224
CREATED:20160419T182005Z
LAST-MODIFIED:20160419T182005Z
UID:10000575-1479427200-1479513599@leadershipembodiment.com
SUMMARY:Level 1 Fundamentals with James Knight (Day 1 of 2)
DESCRIPTION:Join James Knight for a 2-day Level 1 Fundamentals in Fort William\, Scotland. \nDay 1: 18 November 2016\nDay 2: 25 November 2016
URL:https://leadershipembodiment.com/event/level-1-fundamentals-with-james-knight-day-1-of-2/
LOCATION:Fort William Venue\, Fort William\, Scotland\, United Kingdom
CATEGORIES:Europe
ATTACH;FMTTYPE=:
END:VEVENT
BEGIN:VEVENT
DTSTART;VALUE=DATE:20161117
DTEND;VALUE=DATE:20161119
DTSTAMP:20260425T135224
CREATED:20160728T164327Z
LAST-MODIFIED:20160728T164327Z
UID:10000582-1479340800-1479513599@leadershipembodiment.com
SUMMARY:Level 2 with Michele Seymour
DESCRIPTION:Join Michele Seymour for her 2-day Level 2 workshop\, “Blossoming Under Pressure”\, in central London.  For more information\, please see this flyer: Blossoming Under Pressure
URL:https://leadershipembodiment.com/event/level-2-with-michele-seymour-2/
LOCATION:Central London Venue\, London\, United Kingdom
CATEGORIES:Europe
ATTACH;FMTTYPE=:
ORGANIZER;CN="Michele Seymour":MAILTO:Jacky (at) balancematters (dot) com
END:VEVENT
BEGIN:VEVENT
DTSTART;VALUE=DATE:20161111
DTEND;VALUE=DATE:20161113
DTSTAMP:20260425T135224
CREATED:20160419T181048Z
LAST-MODIFIED:20160419T181048Z
UID:10000574-1478822400-1478995199@leadershipembodiment.com
SUMMARY:Level 1 Fundamentals with Anouk Brack
DESCRIPTION:Join Anouk Brack for a 2-day Level 1 Fundamentals in Arnhem\, The Netherlands. \nDates: 25 & 26 November 2016
URL:https://leadershipembodiment.com/event/level-1-fundamentals-with-anouk-brack/
CATEGORIES:Europe
ATTACH;FMTTYPE=:
ORGANIZER;CN="Anouk Brack":MAILTO:Anouk.Brack@anouka.nl
END:VEVENT
BEGIN:VEVENT
DTSTART;VALUE=DATE:20161110
DTEND;VALUE=DATE:20161112
DTSTAMP:20260425T135224
CREATED:20160412T233650Z
LAST-MODIFIED:20160412T233650Z
UID:10000572-1478736000-1478908799@leadershipembodiment.com
SUMMARY:Level 2 with Pierre Goirand
DESCRIPTION:Join Pierre Goirand for a 2-day Level 2 Intermediate Leadership Embodiment course in Paris\, France. For a description of Level 2\, see our courses page. For more information or to register\, please contact Pierre. \nDates: November 10 & 11\, 2016
URL:https://leadershipembodiment.com/event/level-2-with-pierre-goirand-2/
LOCATION:Paris Venue\, Paris\, France
CATEGORIES:Europe
ATTACH;FMTTYPE=:
ORGANIZER;CN="Pierre Goirand":MAILTO:contact@presenceleadership.net
END:VEVENT
BEGIN:VEVENT
DTSTART;VALUE=DATE:20161015
DTEND;VALUE=DATE:20161017
DTSTAMP:20260425T135224
CREATED:20160412T231116Z
LAST-MODIFIED:20160412T231116Z
UID:10000570-1476489600-1476662399@leadershipembodiment.com
SUMMARY:Level 2 Intermediate with John Tuite
DESCRIPTION:Join John Tuite for a 2-day Level 2 Intermediate course in London.  For more information and to register\, please click here.   \nDates: October 15 & 16\, 2016
URL:https://leadershipembodiment.com/event/level-2-intermediate-with-john-tuite/
LOCATION:The Constructive Teaching Centre\, 13\, The Boulevard\, Imperial Wharf\, London\, United Kingdom
CATEGORIES:Europe
ATTACH;FMTTYPE=:
ORGANIZER;CN="John Tuite":MAILTO:john.tuite@centreforembodiedwisdom.com
GEO:51.4737571;-0.1822894
X-APPLE-STRUCTURED-LOCATION;VALUE=URI;X-ADDRESS=The Constructive Teaching Centre 13 The Boulevard Imperial Wharf London United Kingdom;X-APPLE-RADIUS=500;X-TITLE=13\, The Boulevard\, Imperial Wharf:geo:-0.1822894,51.4737571
END:VEVENT
BEGIN:VEVENT
DTSTART;VALUE=DATE:20161007
DTEND;VALUE=DATE:20161008
DTSTAMP:20260425T135224
CREATED:20160412T230642Z
LAST-MODIFIED:20160412T230642Z
UID:10000569-1475798400-1475884799@leadershipembodiment.com
SUMMARY:Level 1 Fundamentals with Beth Follini (Day 1 of 2)
DESCRIPTION:Join Beth Follini for a 2-day Level 1 Fundamentals course in London. For a description of Level 1\, please see our courses page.   \nDay 1: October 7\, 2016\nDay 2: November 11\, 2016
URL:https://leadershipembodiment.com/event/level-1-fundamentals-with-beth-follini-day-1-of-2/
LOCATION:Central London Venue\, London\, United Kingdom
CATEGORIES:Europe
ORGANIZER;CN="Beth Follini":MAILTO:beth@ticktockcoaching.co.uk
END:VEVENT
BEGIN:VEVENT
DTSTART;VALUE=DATE:20161004
DTEND;VALUE=DATE:20161005
DTSTAMP:20260425T135224
CREATED:20160816T161140Z
LAST-MODIFIED:20160816T161140Z
UID:10000583-1475539200-1475625599@leadershipembodiment.com
SUMMARY:Level 1 with Maud Raber (Day 1 of 2)
DESCRIPTION:Join Maud Raber in Central Paris for a 2-day Level 1 Fundamentals course in French\, “Leadership puissant et authentique”.  See a description of Level 1 on our courses page. \nDay 1: October 4th\, 2016\nDay 2: November 10th\, 2016 \nTime: 9:30 AM (Welcome coffee and tea at 9:00 AM) to 5:30 PM. \nFor more information\, please see this flyer. Leadership puissant et authentique \nRegistration link
URL:https://leadershipembodiment.com/event/level-1-with-maud-raber-day-1-of-2-2/
LOCATION:Espace Babylone\, 91\, rue de Sèvres\, Paris\, France
CATEGORIES:Europe
ATTACH;FMTTYPE=:
ORGANIZER;CN="Maud Raber":MAILTO:maud@embodied-potential.com
GEO:48.8488038;2.3223797
X-APPLE-STRUCTURED-LOCATION;VALUE=URI;X-ADDRESS=Espace Babylone 91 rue de Sèvres Paris France;X-APPLE-RADIUS=500;X-TITLE=91\, rue de Sèvres:geo:2.3223797,48.8488038
END:VEVENT
BEGIN:VEVENT
DTSTART;VALUE=DATE:20160924
DTEND;VALUE=DATE:20160926
DTSTAMP:20260425T135224
CREATED:20160412T225207Z
LAST-MODIFIED:20160412T225207Z
UID:10000568-1474675200-1474847999@leadershipembodiment.com
SUMMARY:Level 1 Fundamentals with Paul King
DESCRIPTION:Join Paul King for a 2-day Level 1 Fundamentals course in Royal Wootton Bassett\, UK. For a description of Level 1\, please see our courses page.    \nDates: September 24 & 25\, 2016
URL:https://leadershipembodiment.com/event/level-1-fundamentals-with-paul-king/
LOCATION:Royal Wootton Bassett\, Royal Wootton Bassett\, Wiltshire\, SN4\, United Kingdom
CATEGORIES:Europe
ATTACH;FMTTYPE=:
ORGANIZER;CN="Paul King":MAILTO:paul@thebeyondpartnership.co.uk
END:VEVENT
BEGIN:VEVENT
DTSTART;VALUE=DATE:20160923
DTEND;VALUE=DATE:20160924
DTSTAMP:20260425T135224
CREATED:20160412T224543Z
LAST-MODIFIED:20160412T224543Z
UID:10000567-1474588800-1474675199@leadershipembodiment.com
SUMMARY:Level 1 Fundamentals with Anouk Brack (Day 1 of 2)
DESCRIPTION:Join Anouk Brack for a 2-day Level 1 Fundamentals in Amsterdam. For more information or to register\, please click here. \nDay 1: September 23\, 2016\nDay 2: October 21\, 2016
URL:https://leadershipembodiment.com/event/level-1-fundamentals-with-anouk-brack-day-1-of-2/
CATEGORIES:Europe
ATTACH;FMTTYPE=:
ORGANIZER;CN="Anouk Brack":MAILTO:Anouk.Brack@anouka.nl
END:VEVENT
BEGIN:VEVENT
DTSTART;VALUE=DATE:20160922
DTEND;VALUE=DATE:20160924
DTSTAMP:20260425T135224
CREATED:20160726T205043Z
LAST-MODIFIED:20160726T205043Z
UID:10000581-1474502400-1474675199@leadershipembodiment.com
SUMMARY:Level 1 with Michele Seymour
DESCRIPTION:Join Michele Seymour in London for a 2-Day Level 1\, “Flourishing Under Pressure”.  For a description of Level 1\, please see our courses page.  \nFor more information\, please see this flyer: Flourishing Under Pressure \nBM_FUP_Sept 16
URL:https://leadershipembodiment.com/event/level-1-with-michele-seymour-3/
LOCATION:Central London Venue\, London\, United Kingdom
CATEGORIES:Europe
ATTACH;FMTTYPE=:
ORGANIZER;CN="Michele Seymour":MAILTO:Jacky (at) balancematters (dot) com
END:VEVENT
BEGIN:VEVENT
DTSTART;VALUE=DATE:20160922
DTEND;VALUE=DATE:20160924
DTSTAMP:20260425T135224
CREATED:20160412T223908Z
LAST-MODIFIED:20160412T223908Z
UID:10000566-1474502400-1474675199@leadershipembodiment.com
SUMMARY:Level 1 Fundamentals with John Tuite
DESCRIPTION:Join John Tuite for a 2-day Level 1 Fundamentals in London.  For more information and to register\, please click here.   \nDates: September 22 & 23\, 2016
URL:https://leadershipembodiment.com/event/level-1-fundamentals-with-john-tuite-2/
LOCATION:The Constructive Teaching Centre\, 13\, The Boulevard\, Imperial Wharf\, London\, United Kingdom
CATEGORIES:Europe
ATTACH;FMTTYPE=:
ORGANIZER;CN="John Tuite":MAILTO:john.tuite@centreforembodiedwisdom.com
GEO:51.4737571;-0.1822894
X-APPLE-STRUCTURED-LOCATION;VALUE=URI;X-ADDRESS=The Constructive Teaching Centre 13 The Boulevard Imperial Wharf London United Kingdom;X-APPLE-RADIUS=500;X-TITLE=13\, The Boulevard\, Imperial Wharf:geo:-0.1822894,51.4737571
END:VEVENT
BEGIN:VEVENT
DTSTART;VALUE=DATE:20160917
DTEND;VALUE=DATE:20160919
DTSTAMP:20260425T135224
CREATED:20160412T223304Z
LAST-MODIFIED:20160412T223304Z
UID:10000565-1474070400-1474243199@leadershipembodiment.com
SUMMARY:Level 1 Fundamentals with James Knight
DESCRIPTION:Join James Knight for a 2-day Level 1 Fundamentals course in Inverness\, Scotland.  For more information or to register\, please click here.  \nDates: September 17 & 18\, 2016
URL:https://leadershipembodiment.com/event/level-1-fundamentals-with-james-knight-3/
LOCATION:Inverness Venue\, Inverness\, Scotland\, United Kingdom
CATEGORIES:Europe
ATTACH;FMTTYPE=:
GEO:57.477773;-4.224721
END:VEVENT
BEGIN:VEVENT
DTSTART;VALUE=DATE:20160912
DTEND;VALUE=DATE:20160913
DTSTAMP:20260425T135224
CREATED:20160412T222650Z
LAST-MODIFIED:20160412T222650Z
UID:10000564-1473638400-1473724799@leadershipembodiment.com
SUMMARY:Level 1 with Pierre Goirand (Day 1 of 2)
DESCRIPTION:Join Pierre Goirand for a 2-day Level 1 Fundamentals course in Paris\, France.  For a description of our Level 1\, please see our courses page.   \nDay 1 – September 12\, 2016\nDay 2 – October 6\, 2016
URL:https://leadershipembodiment.com/event/level-1-with-pierre-goirand-day-1-of-2-2/
LOCATION:Paris Venue\, Paris\, France
CATEGORIES:Europe
ATTACH;FMTTYPE=:
ORGANIZER;CN="Pierre Goirand":MAILTO:contact@presenceleadership.net
END:VEVENT
BEGIN:VEVENT
DTSTART;VALUE=DATE:20160903
DTEND;VALUE=DATE:20160905
DTSTAMP:20260425T135224
CREATED:20160712T170024Z
LAST-MODIFIED:20160712T170024Z
UID:10000578-1472860800-1473033599@leadershipembodiment.com
SUMMARY:Level 1 with Paul King
DESCRIPTION:Join Paul King for a 2-day Level 1 course in Copenhagen\, Denmark.  For a description of a Level 1\, please see our courses page.
URL:https://leadershipembodiment.com/event/level-1-with-paul-king-5/
LOCATION:Psykoterapeutisk Klinik\, Nannasgade 28\, Copenhagen\, 2200\, Denmark
CATEGORIES:Europe
ATTACH;FMTTYPE=:
ORGANIZER;CN="Paul King":MAILTO:paul@thebeyondpartnership.co.uk
GEO:55.701006;12.5464939
X-APPLE-STRUCTURED-LOCATION;VALUE=URI;X-ADDRESS=Psykoterapeutisk Klinik Nannasgade 28 Copenhagen 2200 Denmark;X-APPLE-RADIUS=500;X-TITLE=Nannasgade 28:geo:12.5464939,55.701006
END:VEVENT
BEGIN:VEVENT
DTSTART;VALUE=DATE:20160718
DTEND;VALUE=DATE:20160720
DTSTAMP:20260425T135224
CREATED:20160412T220344Z
LAST-MODIFIED:20160412T220344Z
UID:10000561-1468800000-1468972799@leadershipembodiment.com
SUMMARY:Level 1 Fundamentals with James Knight
DESCRIPTION:Join James Knight in Glasgow\, Scotland for a 2-day Level 1 Fundamentals.  For more information and to register\, please click here.   \nDates: July 18 & 19\, 2016
URL:https://leadershipembodiment.com/event/level-1-fundamentals-with-james-knight/
LOCATION:Central Glasgow\, Glasgow\, Scotland\, United Kingdom
CATEGORIES:Europe
ATTACH;FMTTYPE=:
GEO:55.864237;-4.251806
END:VEVENT
BEGIN:VEVENT
DTSTART;VALUE=DATE:20160705
DTEND;VALUE=DATE:20160706
DTSTAMP:20260425T135224
CREATED:20160505T202348Z
LAST-MODIFIED:20160505T202348Z
UID:10000577-1467676800-1467763199@leadershipembodiment.com
SUMMARY:Level 1 with Maud Raber (Day 2 of 2)
DESCRIPTION:Join Maud Raber in Central Paris for a 2-day Level 1 Fundamentals course in French\, “Leadership puissant et authentique”. See a description of Level 1 on our courses page. \nDates : June 9th and July 5th\, 2016 \nTimings : 9:30 AM (welcome coffee and tea as of 9:00 AM) – 5:30 PM \nAddress : Espace Babylone\, 91\, rue de Sèvres\, Paris 6ème arrondissement – Salle Luxembourg.  \nFor more information\, please see this flyer: Leadership puissant & authentique – Fondamentaux – Fiche pédag._VF \nRegistration link: Sign up
URL:https://leadershipembodiment.com/event/level-1-with-maud-raber-day-2-of-2/
LOCATION:Espace Babylone\, 91\, rue de Sèvres\, Paris\, France
CATEGORIES:Europe
ATTACH;FMTTYPE=:
ORGANIZER;CN="Maud Raber":MAILTO:maud@embodied-potential.com
GEO:48.8488038;2.3223797
X-APPLE-STRUCTURED-LOCATION;VALUE=URI;X-ADDRESS=Espace Babylone 91 rue de Sèvres Paris France;X-APPLE-RADIUS=500;X-TITLE=91\, rue de Sèvres:geo:2.3223797,48.8488038
END:VEVENT
BEGIN:VEVENT
DTSTART;VALUE=DATE:20160625
DTEND;VALUE=DATE:20160627
DTSTAMP:20260425T135224
CREATED:20160412T215455Z
LAST-MODIFIED:20160412T215455Z
UID:10000560-1466812800-1466985599@leadershipembodiment.com
SUMMARY:Level 1 Fundamentals with John Tuite
DESCRIPTION:Join John Tuite in London for a 2-day Level 1 Fundamentals course.  For more information\, please click here. \nDates: June 25 & 26\, 2016
URL:https://leadershipembodiment.com/event/level-1-fundamentals-with-john-tuite/
LOCATION:The Constructive Teaching Centre\, 13\, The Boulevard\, Imperial Wharf\, London\, United Kingdom
CATEGORIES:Europe
ATTACH;FMTTYPE=:
ORGANIZER;CN="John Tuite":MAILTO:john.tuite@centreforembodiedwisdom.com
GEO:51.4737571;-0.1822894
X-APPLE-STRUCTURED-LOCATION;VALUE=URI;X-ADDRESS=The Constructive Teaching Centre 13 The Boulevard Imperial Wharf London United Kingdom;X-APPLE-RADIUS=500;X-TITLE=13\, The Boulevard\, Imperial Wharf:geo:-0.1822894,51.4737571
END:VEVENT
BEGIN:VEVENT
DTSTART;VALUE=DATE:20160624
DTEND;VALUE=DATE:20160626
DTSTAMP:20260425T135224
CREATED:20151108T204628Z
LAST-MODIFIED:20151108T204628Z
UID:10000541-1466726400-1466899199@leadershipembodiment.com
SUMMARY:Level 2 with Pierre Goirand
DESCRIPTION:Join Pierre Goirand for a 2 Day Level 2 workshop in lovely Paris\, France. Read a full description of our Level 2 course here. For more information\, see the detailed program here: Presence & Leadership Calendrie Formations 2015 \nDates: 24 & 25 June 2016
URL:https://leadershipembodiment.com/event/level-2-with-pierre-goirand/
LOCATION:Paris Venue\, Paris\, France
CATEGORIES:Europe
ATTACH;FMTTYPE=:
ORGANIZER;CN="Pierre Goirand":MAILTO:contact@presenceleadership.net
END:VEVENT
BEGIN:VEVENT
DTSTART;VALUE=DATE:20160611
DTEND;VALUE=DATE:20160613
DTSTAMP:20260425T135224
CREATED:20151022T191125Z
LAST-MODIFIED:20151022T191125Z
UID:10000524-1465603200-1465775999@leadershipembodiment.com
SUMMARY:Level 1 with Paul King
DESCRIPTION:Join Paul King in Wiltshire\, England for a 2-day Level 1 workshop at the Marsh Farm Hotel. For a description of Level 1 Fundamentals\, please see our courses page. For more information on this workshop\, please contact Paul King. \n \nDates: 11 & 12 June 2016
URL:https://leadershipembodiment.com/event/level-1-with-paul-king-3/
LOCATION:Marsh Farm Hotel\, Royal Wootton Bassett\, Swindon\, Wiltshire\, United Kingdom
CATEGORIES:Europe
ORGANIZER;CN="Paul King":MAILTO:paul@thebeyondpartnership.co.uk
GEO:51.541395;-1.902318
X-APPLE-STRUCTURED-LOCATION;VALUE=URI;X-ADDRESS=Marsh Farm Hotel Royal Wootton Bassett Swindon Wiltshire United Kingdom;X-APPLE-RADIUS=500;X-TITLE=Royal Wootton Bassett:geo:-1.902318,51.541395
END:VEVENT
BEGIN:VEVENT
DTSTART;VALUE=DATE:20160609
DTEND;VALUE=DATE:20160610
DTSTAMP:20260425T135224
CREATED:20160505T202044Z
LAST-MODIFIED:20160505T202044Z
UID:10000576-1465430400-1465516799@leadershipembodiment.com
SUMMARY:Level 1 with Maud Raber (Day 1 of 2)
DESCRIPTION:Join Maud Raber in Central Paris for a 2-day Level 1 Fundamentals course in French\, “Leadership puissant et authentique”. See a description of Level 1 on our courses page. \nDates : June 9th and July 5th\, 2016 \nTimings : 9:30 AM (welcome coffee and tea as of 9:00 AM) – 5:30 PM \nAddress : Espace Babylone\, 91\, rue de Sèvres\, Paris 6ème arrondissement – Salle Luxembourg.  \nFor more information\, please see this flyer: Leadership puissant & authentique – Fondamentaux – Fiche pédag._VF \nRegistration link: Sign up
URL:https://leadershipembodiment.com/event/level-1-with-maud-raber-day-1-of-2/
LOCATION:Espace Babylone\, 91\, rue de Sèvres\, Paris\, France
CATEGORIES:Europe
ATTACH;FMTTYPE=:
GEO:48.8488038;2.3223797
X-APPLE-STRUCTURED-LOCATION;VALUE=URI;X-ADDRESS=Espace Babylone 91 rue de Sèvres Paris France;X-APPLE-RADIUS=500;X-TITLE=91\, rue de Sèvres:geo:2.3223797,48.8488038
END:VEVENT
BEGIN:VEVENT
DTSTART;TZID=America/Los_Angeles:20160608T080000
DTEND;TZID=America/Los_Angeles:20160609T170000
DTSTAMP:20260425T135224
CREATED:20160412T214645Z
LAST-MODIFIED:20160412T214645Z
UID:10000559-1465372800-1465491600@leadershipembodiment.com
SUMMARY:Level 1 with Michele Seymour
DESCRIPTION:Join Michele Seymour in Central London for a 2-day Level 1 Fundamentals course\, “Flourishing Under Pressure”.  See a description of Level 1 on our courses page.   \nDates: June 8 & 9\, 2016 \nFor more information or to register\, please see this flyer: Flourishing Under Pressure
URL:https://leadershipembodiment.com/event/level-1-with-michele-seymour-2/
LOCATION:Central London Venue\, London\, United Kingdom
CATEGORIES:Europe
ATTACH;FMTTYPE=:
ORGANIZER;CN="Michele Seymour":MAILTO:Jacky (at) balancematters (dot) com
END:VEVENT
BEGIN:VEVENT
DTSTART;VALUE=DATE:20160531
DTEND;VALUE=DATE:20160604
DTSTAMP:20260425T135224
CREATED:20151113T101619Z
LAST-MODIFIED:20151113T101619Z
UID:10000546-1464652800-1464998399@leadershipembodiment.com
SUMMARY:Samye Ling Intensive Retreat\, May 2016
DESCRIPTION:The next European Leadership Embodiment Retreat will be held at the beautiful Samye Ling Monastery in Scotland. It will be led by Wendy Palmer\, the founder of Leadership Embodiment. \nAt retreats\, the LE community comes together for more intensive practice of the LE work. It’s a deeper dive that involves extended 30 minute sitting meditation and longer periods of practicing LE exercises\, deepening our practice and our understanding of our own patterns. Therefore\, participants are required to have completed a Fundamentals course before joining a retreat. \n \nSamye Ling is the Tibetan Buddhist monastery founded by Akong Rinpoche and Chogyam Trungpa Rinpoche in 1967\, providing a rich and inspiring background to the practices and learning of leadership\, and enhancing a keen awareness that the LE practices are rooted in centuries of practice and stress-testing. \nFor further information\, please visit the Centre for Embodied Wisdom \nYou must have completed a Leadership Embodiment Level 1 to register for a retreat.
URL:https://leadershipembodiment.com/event/samye-ling-intensive-retreat-may-2016/
LOCATION:Samye Ling\, Scotland\, United Kingdom
CATEGORIES:Europe
ATTACH;FMTTYPE=:
END:VEVENT
BEGIN:VEVENT
DTSTART;VALUE=DATE:20160520
DTEND;VALUE=DATE:20160522
DTSTAMP:20260425T135224
CREATED:20160412T221521Z
LAST-MODIFIED:20160412T221521Z
UID:10000562-1463702400-1463875199@leadershipembodiment.com
SUMMARY:Level 1 Fundamentals with James Knight
DESCRIPTION:Join James Knight for a 2-day Level 1 Fundamentals in Fort William\, Scotland.  For more information or to register\, please click here.   \nDates: May 20 & 21\, 2016
URL:https://leadershipembodiment.com/event/level-1-fundamentals-with-james-knight-2/
LOCATION:Fort Williams Venue\, Fort Williams\, Scotland\, United Kingdom
CATEGORIES:Europe
ATTACH;FMTTYPE=:
GEO:56.819817;-5.105218
END:VEVENT
BEGIN:VEVENT
DTSTART;VALUE=DATE:20160513
DTEND;VALUE=DATE:20160515
DTSTAMP:20260425T135224
CREATED:20151106T000411Z
LAST-MODIFIED:20151106T000411Z
UID:10000537-1463097600-1463270399@leadershipembodiment.com
SUMMARY:Level 1 Fundamentals with Anouk Brack
DESCRIPTION:Join Anouk Brack in Amsterdam for a 2 Day Level 1 workshop. For more information\, please see Anouk’s website. \nDates:\n13 & 14 May 2016
URL:https://leadershipembodiment.com/event/level-1-with-anouk-brack/
CATEGORIES:Europe
ATTACH;FMTTYPE=:
ORGANIZER;CN="Anouk Brack":MAILTO:Anouk.Brack@anouka.nl
END:VEVENT
BEGIN:VEVENT
DTSTART;VALUE=DATE:20160421
DTEND;VALUE=DATE:20160423
DTSTAMP:20260425T135224
CREATED:20140416T220300Z
LAST-MODIFIED:20140416T220300Z
UID:10000511-1461196800-1461369599@leadershipembodiment.com
SUMMARY:Blossoming Under Pressure with Michele Seymour
DESCRIPTION:Join Michele Seymour for her Level 2 Leadership Embodiment course\, “Blossoming Under Pressure”. \n \nFor more information\, please click here or see the below flyer:
URL:https://leadershipembodiment.com/event/blossomingunderpressure/
LOCATION:Central London Venue\, London\, United Kingdom
CATEGORIES:Europe
ATTACH;FMTTYPE=:
ORGANIZER;CN="Michele Seymour":MAILTO:Jacky (at) balancematters (dot) com
END:VEVENT
END:VCALENDAR