BEGIN:VCALENDAR
VERSION:2.0
PRODID:-//Leadership Embodiment - ECPv6.15.20//NONSGML v1.0//EN
CALSCALE:GREGORIAN
METHOD:PUBLISH
X-ORIGINAL-URL:https://leadershipembodiment.com
X-WR-CALDESC:Events for Leadership Embodiment
REFRESH-INTERVAL;VALUE=DURATION:PT1H
X-Robots-Tag:noindex
X-PUBLISHED-TTL:PT1H
BEGIN:VTIMEZONE
TZID:America/Los_Angeles
BEGIN:DAYLIGHT
TZOFFSETFROM:-0800
TZOFFSETTO:-0700
TZNAME:PDT
DTSTART:20240310T100000
END:DAYLIGHT
BEGIN:STANDARD
TZOFFSETFROM:-0700
TZOFFSETTO:-0800
TZNAME:PST
DTSTART:20241103T090000
END:STANDARD
BEGIN:DAYLIGHT
TZOFFSETFROM:-0800
TZOFFSETTO:-0700
TZNAME:PDT
DTSTART:20250309T100000
END:DAYLIGHT
BEGIN:STANDARD
TZOFFSETFROM:-0700
TZOFFSETTO:-0800
TZNAME:PST
DTSTART:20251102T090000
END:STANDARD
BEGIN:DAYLIGHT
TZOFFSETFROM:-0800
TZOFFSETTO:-0700
TZNAME:PDT
DTSTART:20260308T100000
END:DAYLIGHT
BEGIN:STANDARD
TZOFFSETFROM:-0700
TZOFFSETTO:-0800
TZNAME:PST
DTSTART:20261101T090000
END:STANDARD
END:VTIMEZONE
BEGIN:VEVENT
DTSTART;TZID=America/Los_Angeles:20250109T170000
DTEND;TZID=America/Los_Angeles:20250109T180000
DTSTAMP:20260425T085942
CREATED:20250103T154204Z
LAST-MODIFIED:20250103T154204Z
UID:10001135-1736442000-1736445600@leadershipembodiment.com
SUMMARY:LE Community Training - Integrating Past and Future
DESCRIPTION:Leadership Embodiment Community\nOnline Drop-in Training Sessions* \nExploring the practices of Leadership Embodiment together\nfacilitated by Paul Ciske & other LE Instructors \n2nd Thursdays each month \nJoin our Asian\, West Coast and East Coast LE community in practice.\nThursdays\, 5-6pm Pacific time\n(note shorter time) \nMust register for link. Register once for any or all of the sessions. \nDATES: January 9\, February 13\, March 13\, April 10\, May 8\, June 12 \n*Note: All are welcome to participate in these trainings. They accommodate all that are present from those familiar with the work to those new to it. \nAll online community trainings are offered on generosity. The generosity of sharing and the generosity of gratitude. Gratitude offerings can be sent through Venmo (@Paul-Ciske\, paul@paulciske.com)\, Pay Paul Ciske using PayPal.Me (USD; paul@paulciske.com)\, or Zelle (mobile number 510-912-5775\, paul@paulciske.com)\,Transferwise (Paul Everett Ciske\, paul@paulciske.com\, 510-912-5775). \n \nPaul E. Ciske\, Ph.D.\, MATm\, RTSm\nYour Well-Being\,\nMuscle Activation Techniques\nZ-Health Performance Solutions\nPersonal Fitness Coaching\nwww.paulciske.com\nwww.muscleactivation.com\nwww.pdtrusa.com/\nwww.resistancetrainingspecialist.com\nwww.zhealth.net \nNorth America\, Asia\, Online
URL:https://leadershipembodiment.com/event/le-community-training-integrating-past-and-future/
LOCATION:Online
CATEGORIES:North America,Asia,Online
ORGANIZER;CN="Paul Ciske":MAILTO:paul@paulciske.com
END:VEVENT
BEGIN:VEVENT
DTSTART;VALUE=DATE:20250118
DTEND;VALUE=DATE:20250120
DTSTAMP:20260425T085942
CREATED:20240905T154138Z
LAST-MODIFIED:20241202T184725Z
UID:10001126-1737158400-1737331199@leadershipembodiment.com
SUMMARY:Leadership Embodiment Level 1 with Paul Ciske
DESCRIPTION:Join Paul Ciske for a 2-Day Leadership Embodiment Level 1 in Oakland\, California. For a description of a Level 1\, please see our Public Courses page.  \nEarly registration cost: $550 until January 5th ($100 non-refundable* deposit to hold your space)\nLater registration cost: $600 after January 5th \nSpecial pricing for signing up for both Level 1 & Level 2 ($200 savings from full price; Requires a $200 deposit) \n*For uncontrollable circumstances\, the deposit can be applied to a future training with Paul Ciske. \nTo register\, contact Paul Ciske: 510-912-5775 or email – paul(at)paulciske.com\, Include “DECEMBER LE Fundamentals” in subject line. \n \nNorth America
URL:https://leadershipembodiment.com/event/leadership-embodiment-level-1-with-paul-ciske-3/
LOCATION:Oakland Venue\, Oakland\, CA\, United States
CATEGORIES:North America
ORGANIZER;CN="Paul Ciske":MAILTO:paul@paulciske.com
END:VEVENT
END:VCALENDAR