BEGIN:VCALENDAR
VERSION:2.0
PRODID:-//Leadership Embodiment - ECPv6.15.20//NONSGML v1.0//EN
CALSCALE:GREGORIAN
METHOD:PUBLISH
X-ORIGINAL-URL:https://leadershipembodiment.com
X-WR-CALDESC:Events for Leadership Embodiment
REFRESH-INTERVAL;VALUE=DURATION:PT1H
X-Robots-Tag:noindex
X-PUBLISHED-TTL:PT1H
BEGIN:VTIMEZONE
TZID:America/Los_Angeles
BEGIN:DAYLIGHT
TZOFFSETFROM:-0800
TZOFFSETTO:-0700
TZNAME:PDT
DTSTART:20240310T100000
END:DAYLIGHT
BEGIN:STANDARD
TZOFFSETFROM:-0700
TZOFFSETTO:-0800
TZNAME:PST
DTSTART:20241103T090000
END:STANDARD
BEGIN:DAYLIGHT
TZOFFSETFROM:-0800
TZOFFSETTO:-0700
TZNAME:PDT
DTSTART:20250309T100000
END:DAYLIGHT
BEGIN:STANDARD
TZOFFSETFROM:-0700
TZOFFSETTO:-0800
TZNAME:PST
DTSTART:20251102T090000
END:STANDARD
BEGIN:DAYLIGHT
TZOFFSETFROM:-0800
TZOFFSETTO:-0700
TZNAME:PDT
DTSTART:20260308T100000
END:DAYLIGHT
BEGIN:STANDARD
TZOFFSETFROM:-0700
TZOFFSETTO:-0800
TZNAME:PST
DTSTART:20261101T090000
END:STANDARD
END:VTIMEZONE
BEGIN:VEVENT
DTSTART;TZID=America/Los_Angeles:20250213T170000
DTEND;TZID=America/Los_Angeles:20250213T180000
DTSTAMP:20260425T072922
CREATED:20250103T154412Z
LAST-MODIFIED:20250103T154412Z
UID:10001136-1739466000-1739469600@leadershipembodiment.com
SUMMARY:LE Community Training - Working with and Cultivating a Personal Quality
DESCRIPTION:Leadership Embodiment Community\nOnline Drop-in Training Sessions* \nExploring the practices of Leadership Embodiment together\nfacilitated by Paul Ciske & other LE Instructors \n2nd Thursdays each month \nJoin our Asian\, West Coast and East Coast LE community in practice.\nThursdays\, 5-6pm Pacific time\n(note shorter time) \nMust register for link. Register once for any or all of the sessions. \nDATES: February 13\, March 13\, April 10\, May 8\, June 12 \n*Note: All are welcome to participate in these trainings. They accommodate all that are present from those familiar with the work to those new to it. \nAll online community trainings are offered on generosity. The generosity of sharing and the generosity of gratitude. Gratitude offerings can be sent through Venmo (@Paul-Ciske\, paul@paulciske.com)\, Pay Paul Ciske using PayPal.Me (USD; paul@paulciske.com)\, or Zelle (mobile number 510-912-5775\, paul@paulciske.com)\,Transferwise (Paul Everett Ciske\, paul@paulciske.com\, 510-912-5775). \n \nPaul E. Ciske\, Ph.D.\, MATm\, RTSm\nYour Well-Being\,\nMuscle Activation Techniques\nZ-Health Performance Solutions\nPersonal Fitness Coaching\nwww.paulciske.com\nwww.muscleactivation.com\nwww.pdtrusa.com/\nwww.resistancetrainingspecialist.com\nwww.zhealth.net \nNorth America\, Asia\, Online
URL:https://leadershipembodiment.com/event/le-community-training-working-with-and-cultivating-a-personal-quality/
LOCATION:Online
CATEGORIES:North America,Asia,Online
ORGANIZER;CN="Paul Ciske":MAILTO:paul@paulciske.com
END:VEVENT
BEGIN:VEVENT
DTSTART;VALUE=DATE:20250222
DTEND;VALUE=DATE:20250224
DTSTAMP:20260425T072922
CREATED:20240905T155105Z
LAST-MODIFIED:20241202T184934Z
UID:10001127-1740182400-1740355199@leadershipembodiment.com
SUMMARY:Level 2 with Paul Ciske
DESCRIPTION:Join Paul for a 2-Day Level 2 in Oakland\, California. For a description of a Leadership Embodiment Level 2\, please see our Public Courses Page. You must have completed a Level 1 before enrolling in a Level 2.  \nDates: February 22-23\, 2025 \nEarly registration cost: $550 until February 7th ($100 non-refundable* deposit to hold your space)\nLater registration cost: $600 after February 7th \n*For uncontrollable circumstances\, the deposit can be applied to a future training with Paul Ciske. \nTo register\, contact Paul Ciske: 510-912-5775 or email – paul(at)paulciske.com\, Include “FEBRUARY LE Fundamentals Level 2” in subject line”. \n \nNorth America
URL:https://leadershipembodiment.com/event/level-2-with-paul-ciske-6/
LOCATION:Oakland Venue\, Oakland\, CA\, United States
CATEGORIES:North America
ORGANIZER;CN="Paul Ciske":MAILTO:paul@paulciske.com
END:VEVENT
END:VCALENDAR