BEGIN:VCALENDAR
VERSION:2.0
PRODID:-//Leadership Embodiment - ECPv6.15.20//NONSGML v1.0//EN
CALSCALE:GREGORIAN
METHOD:PUBLISH
X-WR-CALNAME:Leadership Embodiment
X-ORIGINAL-URL:https://leadershipembodiment.com
X-WR-CALDESC:Events for Leadership Embodiment
REFRESH-INTERVAL;VALUE=DURATION:PT1H
X-Robots-Tag:noindex
X-PUBLISHED-TTL:PT1H
BEGIN:VTIMEZONE
TZID:America/Los_Angeles
BEGIN:DAYLIGHT
TZOFFSETFROM:-0800
TZOFFSETTO:-0700
TZNAME:PDT
DTSTART:20230312T100000
END:DAYLIGHT
BEGIN:STANDARD
TZOFFSETFROM:-0700
TZOFFSETTO:-0800
TZNAME:PST
DTSTART:20231105T090000
END:STANDARD
BEGIN:DAYLIGHT
TZOFFSETFROM:-0800
TZOFFSETTO:-0700
TZNAME:PDT
DTSTART:20240310T100000
END:DAYLIGHT
BEGIN:STANDARD
TZOFFSETFROM:-0700
TZOFFSETTO:-0800
TZNAME:PST
DTSTART:20241103T090000
END:STANDARD
BEGIN:DAYLIGHT
TZOFFSETFROM:-0800
TZOFFSETTO:-0700
TZNAME:PDT
DTSTART:20250309T100000
END:DAYLIGHT
BEGIN:STANDARD
TZOFFSETFROM:-0700
TZOFFSETTO:-0800
TZNAME:PST
DTSTART:20251102T090000
END:STANDARD
END:VTIMEZONE
BEGIN:VEVENT
DTSTART;VALUE=DATE:20241005
DTEND;VALUE=DATE:20241007
DTSTAMP:20260425T145500
CREATED:20240620T144354Z
LAST-MODIFIED:20240905T154550Z
UID:10001112-1728086400-1728259199@leadershipembodiment.com
SUMMARY:Leadership Embodiment Level 1 with Paul Ciske
DESCRIPTION:Join Paul Ciske for a 2-Day Leadership Embodiment Level 1 in Oakland\, California. For a description of a Level 1\, please see our Public Courses page.  \nEarly registration cost: $550 until September 20 ($100 non-refundable* deposit to hold your space)\nLater registration cost: $600 after September 20 \nSpecial pricing for signing up for both Level 1 & Level 2 ($200 savings from full price; Requires a $200 deposit) \n*For uncontrollable circumstances\, the deposit can be applied to a future training with Paul Ciske. \nTo register\, contact Paul Ciske: 510-912-5775 or email – paul(at)paulciske.com\, Include “OCTOBER LE Fundamentals” in subject line. \n \nNorth America
URL:https://leadershipembodiment.com/event/leadership-embodiment-level-1-with-paul-ciske-2/
LOCATION:Oakland Venue\, Oakland\, CA\, United States
CATEGORIES:North America
ORGANIZER;CN="Paul Ciske":MAILTO:paul@paulciske.com
END:VEVENT
END:VCALENDAR