BEGIN:VCALENDAR
VERSION:2.0
PRODID:-//Leadership Embodiment - ECPv6.15.20//NONSGML v1.0//EN
CALSCALE:GREGORIAN
METHOD:PUBLISH
X-ORIGINAL-URL:https://leadershipembodiment.com
X-WR-CALDESC:Events for Leadership Embodiment
REFRESH-INTERVAL;VALUE=DURATION:PT1H
X-Robots-Tag:noindex
X-PUBLISHED-TTL:PT1H
BEGIN:VTIMEZONE
TZID:UTC
BEGIN:STANDARD
TZOFFSETFROM:+0000
TZOFFSETTO:+0000
TZNAME:UTC
DTSTART:20130101T000000
END:STANDARD
END:VTIMEZONE
BEGIN:VTIMEZONE
TZID:America/Los_Angeles
BEGIN:DAYLIGHT
TZOFFSETFROM:-0800
TZOFFSETTO:-0700
TZNAME:PDT
DTSTART:20140309T100000
END:DAYLIGHT
BEGIN:STANDARD
TZOFFSETFROM:-0700
TZOFFSETTO:-0800
TZNAME:PST
DTSTART:20141102T090000
END:STANDARD
BEGIN:DAYLIGHT
TZOFFSETFROM:-0800
TZOFFSETTO:-0700
TZNAME:PDT
DTSTART:20150308T100000
END:DAYLIGHT
BEGIN:STANDARD
TZOFFSETFROM:-0700
TZOFFSETTO:-0800
TZNAME:PST
DTSTART:20151101T090000
END:STANDARD
BEGIN:DAYLIGHT
TZOFFSETFROM:-0800
TZOFFSETTO:-0700
TZNAME:PDT
DTSTART:20160313T100000
END:DAYLIGHT
BEGIN:STANDARD
TZOFFSETFROM:-0700
TZOFFSETTO:-0800
TZNAME:PST
DTSTART:20161106T090000
END:STANDARD
END:VTIMEZONE
BEGIN:VEVENT
DTSTART;VALUE=DATE:20150729
DTEND;VALUE=DATE:20150731
DTSTAMP:20260425T155524
CREATED:20150120T222241Z
LAST-MODIFIED:20150120T222241Z
UID:10000892-1438128000-1438300799@leadershipembodiment.com
SUMMARY:Level 1 with RJ Jennings in San Rafael (2-Day Workshop)
DESCRIPTION:Join RJ Jennings in San Rafael for a 2-day Level 1 workshop.  The cost is $379 for the both days. Please note that a completion of a Level 1 course is required to attend a Leadership Embodiment retreat with Wendy Palmer.  You will find a complete description of our courses here.   \nDates:\nJuly 29\, 2015\nJuly 30\, 2015 \nTimes:\n9:00am – 4:00pm
URL:https://leadershipembodiment.com/event/level-1-with-ron-jennings-in-san-rafael-2-day-workshop/
LOCATION:Creekside Center\, 7 Mount Lassen Drive\, San Rafael\, CA\, 94903\, United States
CATEGORIES:North America
GEO:38.0258755;-122.5695532
X-APPLE-STRUCTURED-LOCATION;VALUE=URI;X-ADDRESS=Creekside Center 7 Mount Lassen Drive San Rafael CA 94903 United States;X-APPLE-RADIUS=500;X-TITLE=7 Mount Lassen Drive:geo:-122.5695532,38.0258755
END:VEVENT
BEGIN:VEVENT
DTSTART;VALUE=DATE:20150718
DTEND;VALUE=DATE:20150720
DTSTAMP:20260425T155524
CREATED:20150521T220821Z
LAST-MODIFIED:20150521T220821Z
UID:10000926-1437177600-1437350399@leadershipembodiment.com
SUMMARY:Level 1 with Florian Tan - 2 Day Workshop
DESCRIPTION:Join Florian in Berkeley\, California for a 2-Day Fundamentals Level 1 workshop. To register and for additional information\, please see this flyer: Level 1 with Florian  July 2015  \nFor a description of a Level 1\, see our courses page.   \nDates:\nJuly 18\, 2015 10:00am – 5:00pm\nJuly 19\, 2015 10:00am – 5:00pm
URL:https://leadershipembodiment.com/event/level-1-with-florian-tan-2-day-workshop-3/
LOCATION:Harmony Yoga Studio\, 1533 Shattuck Avenue\, Berkeley\, CA\, United States
CATEGORIES:North America
END:VEVENT
BEGIN:VEVENT
DTSTART;VALUE=DATE:20150711
DTEND;VALUE=DATE:20150712
DTSTAMP:20260425T155524
CREATED:20150430T185135Z
LAST-MODIFIED:20150430T185135Z
UID:10000515-1436572800-1436659199@leadershipembodiment.com
SUMMARY:Level 1 Fundamentals\, Alameda\, California – Continuing Class with Cathy Dana
DESCRIPTION:Join Cathy for an ongoing Level 1 Class on the 2nd Saturday of each month. For newcomers and experienced practitioners alike. \nPlease contact Cathy for cost details and more information.
URL:https://leadershipembodiment.com/event/level-1-fundamentals-alameda-california-continuing-class-with-cathy-dana-2/2015-07-11/
LOCATION:Home of Truth Spiritual Center\, 1300 Grand Street\, Alameda\, 94501\, United States
CATEGORIES:North America
ORGANIZER;CN="Cathy Dana":MAILTO:cathydana@gmail.com
GEO:37.769516;-122.257123
X-APPLE-STRUCTURED-LOCATION;VALUE=URI;X-ADDRESS=Home of Truth Spiritual Center 1300 Grand Street Alameda 94501 United States;X-APPLE-RADIUS=500;X-TITLE=1300 Grand Street:geo:-122.257123,37.769516
END:VEVENT
BEGIN:VEVENT
DTSTART;VALUE=DATE:20150613
DTEND;VALUE=DATE:20150614
DTSTAMP:20260425T155524
CREATED:20150430T184857Z
LAST-MODIFIED:20150430T184857Z
UID:10000922-1434153600-1434239999@leadershipembodiment.com
SUMMARY:Level 1 Fundamentals\, Alameda\, California – Continuing Class with Cathy Dana
DESCRIPTION:Join Cathy for an ongoing Level 1 Class on the 2nd Saturday of each month. For newcomers and experienced practitioners alike. \nPlease contact Cathy for cost details and more information.
URL:https://leadershipembodiment.com/event/level-1-fundamentals-alameda-california-continuing-class-with-cathy-dana/
LOCATION:Home of Truth Spiritual Center\, 1300 Grand Street\, Alameda\, 94501\, United States
CATEGORIES:North America
ORGANIZER;CN="Cathy Dana":MAILTO:cathydana@gmail.com
GEO:37.769516;-122.257123
X-APPLE-STRUCTURED-LOCATION;VALUE=URI;X-ADDRESS=Home of Truth Spiritual Center 1300 Grand Street Alameda 94501 United States;X-APPLE-RADIUS=500;X-TITLE=1300 Grand Street:geo:-122.257123,37.769516
END:VEVENT
BEGIN:VEVENT
DTSTART;VALUE=DATE:20150605
DTEND;VALUE=DATE:20150608
DTSTAMP:20260425T155524
CREATED:20150120T203431Z
LAST-MODIFIED:20150120T203431Z
UID:10000881-1433462400-1433721599@leadershipembodiment.com
SUMMARY:Level 1 with Wendy Palmer in Ojai\, CA
DESCRIPTION:Join Wendy Palmer for a Level 1 at the Ojai Foundation in Southern California.  (See a full description of Level 1 on our courses page). Please note that accommodations are available at this beautiful venue for an additional cost.  For more information or to reserve your spot\, you may register at the Ojai Foundation.
URL:https://leadershipembodiment.com/event/level-1-with-wendy-palmer-in-ojai-ca/
LOCATION:CA
CATEGORIES:North America
END:VEVENT
BEGIN:VEVENT
DTSTART;TZID=America/Los_Angeles:20150604T180000
DTEND;TZID=America/Los_Angeles:20150604T200000
DTSTAMP:20260425T155524
CREATED:20150303T204336Z
LAST-MODIFIED:20150303T204336Z
UID:10000514-1433440800-1433448000@leadershipembodiment.com
SUMMARY:Ongoing Leadership Embodiment Classes
DESCRIPTION:Weekly Leadership Embodiment classes are held on Thursdays at Aikido of Tamalpais in Corte Madera\, CA.  These are led by either Wendy Palmer or certified LE trainers. Everyone is welcome and there is no need to reserve a space.  Wear comfortable clothes and be prepared to remove your shoes. No experience is necessary. There is a small donation payable to the dojo if you are not a member.\nDates: Thursday evenings\nTimes: 6:00pm – 8:00pm
URL:https://leadershipembodiment.com/event/ongoing-leadership-embodiment-classes-2/2015-06-04/
LOCATION:Aikido of Tamalpais\, 142 Redwood Avenue\, Corte Madera\, CA\, United States
CATEGORIES:North America
ORGANIZER;CN="LE Office":MAILTO:office@leadershipembodiment.com
END:VEVENT
BEGIN:VEVENT
DTSTART;TZID=UTC:20150517T100000
DTEND;TZID=UTC:20150517T170000
DTSTAMP:20260425T155524
CREATED:20150203T203008Z
LAST-MODIFIED:20150203T203008Z
UID:10000910-1431856800-1431882000@leadershipembodiment.com
SUMMARY:Level 1 with Florian Tan (Day 2 of 2)
DESCRIPTION:Join Florian Tan in Berkeley\, California for a 2-day Fundamentals Level 1 Workshop on May 16th & 17th.  To register or find out more\, please see the attached flyer.  Level 1 with Florian May 2015 You will find a full description of Level 1 on our Courses page.    \nDay 1: 16 May 2015\nDay 2: 17 May 2015
URL:https://leadershipembodiment.com/event/level-1-with-florian-tan-day-2-of-2/
LOCATION:Harmony Yoga Studio\, 1533 Shattuck Avenue\, Berkeley\, CA\, United States
CATEGORIES:North America
END:VEVENT
BEGIN:VEVENT
DTSTART;TZID=UTC:20150516T100000
DTEND;TZID=UTC:20150516T170000
DTSTAMP:20260425T155524
CREATED:20150203T202804Z
LAST-MODIFIED:20150203T202804Z
UID:10000909-1431770400-1431795600@leadershipembodiment.com
SUMMARY:Level 1 with Florian Tan (Day 1 of 2)
DESCRIPTION:Join Florian Tan in Berkeley\, California for a 2-day Fundamentals Level 1 Workshop on May 16th & 17th.  To register or find out more\, please see the attached flyer.  Level 1 with Florian May 2015 You will find a full description of Level 1 on our Courses page.    \nDay 1: 16 May 2015\nDay 2: 17 May 2015
URL:https://leadershipembodiment.com/event/level-1-with-florian-tan-day-1-of-2/
LOCATION:CA
CATEGORIES:North America
END:VEVENT
BEGIN:VEVENT
DTSTART;VALUE=DATE:20150516
DTEND;VALUE=DATE:20150518
DTSTAMP:20260425T155524
CREATED:20150331T233326Z
LAST-MODIFIED:20150331T233326Z
UID:10000919-1431734400-1431907199@leadershipembodiment.com
SUMMARY:Aligning Brain & Body - Level 1 Workshop with Madeline McNeely & Elizabeth Valentine (2 Day workshop)
DESCRIPTION:Join Madeline McNeely and Elizabeth Valentine for a 2-day workshop: “Leadership: Aligning Brain and Body” at the Watertown Center for Healing Arts. For more information\, please see the attached flyer. Leadership Brain and Body Workshop May 2015 \nWhere: Watertown\, Massachusetts \nWhen: May 16 & 17\, 2015
URL:https://leadershipembodiment.com/event/aligning-brain-body-level-1-workshop-with-madeline-mcneely-elizabeth-valentine-2-day-workshop/
LOCATION:Watertown Center for the Healing Arts\, Watertown\, MA\, United States
CATEGORIES:North America
END:VEVENT
BEGIN:VEVENT
DTSTART;VALUE=DATE:20150509
DTEND;VALUE=DATE:20150510
DTSTAMP:20260425T155524
CREATED:20131215T060701Z
LAST-MODIFIED:20131215T060701Z
UID:10000809-1431129600-1431215999@leadershipembodiment.com
SUMMARY:Level 1 Fundamentals\, Alameda\, California - Continuing Class with Cathy Dana
DESCRIPTION:Join Cathy for an ongoing Level 1 Class on the 2nd Saturday of each month. For newcomers and experienced practitioners alike. \nPlease contact Cathy for cost details and more information.
URL:https://leadershipembodiment.com/event/level-1-continuing-class-with-cathy-dana-2/
LOCATION:Home of Truth Spiritual Center\, 1300 Grand Street\, Alameda\, 94501\, United States
CATEGORIES:North America
ORGANIZER;CN="Cathy Dana":MAILTO:cathydana@gmail.com
GEO:37.769516;-122.257123
X-APPLE-STRUCTURED-LOCATION;VALUE=URI;X-ADDRESS=Home of Truth Spiritual Center 1300 Grand Street Alameda 94501 United States;X-APPLE-RADIUS=500;X-TITLE=1300 Grand Street:geo:-122.257123,37.769516
END:VEVENT
BEGIN:VEVENT
DTSTART;VALUE=DATE:20150506
DTEND;VALUE=DATE:20150511
DTSTAMP:20260425T155524
CREATED:20141215T225853Z
LAST-MODIFIED:20141215T225853Z
UID:10000861-1430870400-1431302399@leadershipembodiment.com
SUMMARY:Montreal Retreat with Wendy Palmer
DESCRIPTION:Join Wendy Palmer for a Leadership Embodiment retreat in Montreal\, Quebec\, Canada.   Previous completion of a Level 1 course is required to attend the retreat.  A full description of an intensive Retreat can be found on the Courses page.  For more information regarding costs\, times\, and location\, please contact Suzanne.Martel@axion.ca.
URL:https://leadershipembodiment.com/event/montreal-retreat-with-wendy-palmer/
LOCATION:CA
CATEGORIES:North America
ORGANIZER;CN="Suzanne Martel":MAILTO:suzanne.martel@axion.ca
END:VEVENT
BEGIN:VEVENT
DTSTART;TZID=UTC:20150415T180000
DTEND;TZID=UTC:20150415T200000
DTSTAMP:20260425T155524
CREATED:20150120T214625Z
LAST-MODIFIED:20150120T214625Z
UID:10000887-1429120800-1429128000@leadershipembodiment.com
SUMMARY:5-Week Level 1 Course with RJ Jennings in San Rafael\, CA - Day 5 of 5
DESCRIPTION:Join RJ for a five-week Level 1 course to be held in San Rafael\, CA.  You will find a complete description of our courses here.  The cost is $379.00 for five evenings from 6:00pm to 8:00pm.  (Please note that a completion of a Level 1 course is required to attend a Leadership Embodiment retreat with Wendy Palmer.)\nDates:\nMarch 16\, 2015\nMarch 23\, 2015\nMarch 30\, 2015\nApril 6\, 2015\nApril 15\, 2015
URL:https://leadershipembodiment.com/event/6-week-level-1-course-with-ron-jennings-in-san-rafael-ca-day-2-of-6-2015-03-30/
LOCATION:CA
CATEGORIES:North America
END:VEVENT
BEGIN:VEVENT
DTSTART;TZID=UTC:20150408T090000
DTEND;TZID=UTC:20150408T130000
DTSTAMP:20260425T155524
CREATED:20150120T221822Z
LAST-MODIFIED:20150120T221822Z
UID:10000891-1428483600-1428498000@leadershipembodiment.com
SUMMARY:Level 1 with RJ Jennings in San Rafael\, CA - Day 4 of 4
DESCRIPTION:Join RJ Jennings in San Rafael for 4 half-day Level 1 workshops.  The cost is $379 for the complete series. Please note that a completion of a Level 1 course is required to attend a Leadership Embodiment retreat with Wendy Palmer.  You will find a complete description of our courses here.   \nDates:\nApril 1\, 2015\nApril 2\, 2015\nApril 7\, 2015\nApril 8\, 2015
URL:https://leadershipembodiment.com/event/level-1-with-ron-jennings-in-san-rafael-ca-day-4-of-4/
LOCATION:CA
CATEGORIES:North America
END:VEVENT
BEGIN:VEVENT
DTSTART;TZID=UTC:20150407T090000
DTEND;TZID=UTC:20150407T130000
DTSTAMP:20260425T155524
CREATED:20150120T221621Z
LAST-MODIFIED:20150120T221621Z
UID:10000890-1428397200-1428411600@leadershipembodiment.com
SUMMARY:Level 1 with RJ Jennings in San Rafael\, CA - Day 3 of 4
DESCRIPTION:Join RJ Jennings in San Rafael for 4 half-day Level 1 workshops.  The cost is $379 for the complete series. Please note that a completion of a Level 1 course is required to attend a Leadership Embodiment retreat with Wendy Palmer.  You will find a complete description of our courses here.   \nDates:\nApril 1\, 2015\nApril 2\, 2015\nApril 7\, 2015\nApril 8\, 2015
URL:https://leadershipembodiment.com/event/level-1-with-ron-jennings-in-san-rafael-ca-day-3-of-4/
LOCATION:CA
CATEGORIES:North America
END:VEVENT
BEGIN:VEVENT
DTSTART;TZID=UTC:20150406T180000
DTEND;TZID=UTC:20150406T200000
DTSTAMP:20260425T155524
CREATED:20150120T214625Z
LAST-MODIFIED:20150120T214625Z
UID:10000886-1428343200-1428350400@leadershipembodiment.com
SUMMARY:5-Week Level 1 Course with RJ Jennings in San Rafael\, CA - Day 4 of 5
DESCRIPTION:Join RJ for a five-week Level 1 course to be held in San Rafael\, CA.  You will find a complete description of our courses here.  The cost is $379.00 for five evenings from 6:00pm to 8:00pm.  (Please note that a completion of a Level 1 course is required to attend a Leadership Embodiment retreat with Wendy Palmer.)\nDates:\nMarch 16\, 2015\nMarch 23\, 2015\nMarch 30\, 2015\nApril 6\, 2015\nApril 15\, 2015
URL:https://leadershipembodiment.com/event/6-week-level-1-course-with-ron-jennings-in-san-rafael-ca-day-2-of-6-2015-03-23/
LOCATION:CA
CATEGORIES:North America
END:VEVENT
BEGIN:VEVENT
DTSTART;TZID=UTC:20150402T090000
DTEND;TZID=UTC:20150402T130000
DTSTAMP:20260425T155524
CREATED:20150120T221403Z
LAST-MODIFIED:20150120T221403Z
UID:10000889-1427965200-1427979600@leadershipembodiment.com
SUMMARY:Level 1 with RJ Jennings in San Rafael\, CA - Day 2 of 4
DESCRIPTION:Join RJ Jennings in San Rafael for 4 half-day Level 1 workshops.  The cost is $379 for the complete series. Please note that a completion of a Level 1 course is required to attend a Leadership Embodiment retreat with Wendy Palmer.  You will find a complete description of our courses here.   \nDates:\nApril 1\, 2015\nApril 2\, 2015\nApril 7\, 2015\nApril 8\, 2015
URL:https://leadershipembodiment.com/event/level-1-with-ron-jennings-in-san-rafael-ca-day-2-of-4/
LOCATION:CA
CATEGORIES:North America
END:VEVENT
BEGIN:VEVENT
DTSTART;TZID=UTC:20150401T090000
DTEND;TZID=UTC:20150401T130000
DTSTAMP:20260425T155524
CREATED:20150120T220948Z
LAST-MODIFIED:20150120T220948Z
UID:10000888-1427878800-1427893200@leadershipembodiment.com
SUMMARY:Level 1 with RJ Jennings in San Rafael\, CA - Day 1 of 4
DESCRIPTION:Join RJ Jennings in San Rafael for 4 half-day Level 1 workshops.  The cost is $379 for the complete series. Please note that a completion of a Level 1 course is required to attend a Leadership Embodiment retreat with Wendy Palmer.  You will find a complete description of our courses here.   \nDates:\nApril 1\, 2015\nApril 2\, 2015\nApril 7\, 2015\nApril 8\, 2015
URL:https://leadershipembodiment.com/event/level-1-with-ron-jennings-in-san-rafael-ca-day-1-of-4/
LOCATION:CA
CATEGORIES:North America
END:VEVENT
BEGIN:VEVENT
DTSTART;TZID=UTC:20150330T180000
DTEND;TZID=UTC:20150330T200000
DTSTAMP:20260425T155524
CREATED:20150120T214625Z
LAST-MODIFIED:20150120T214625Z
UID:10000885-1427738400-1427745600@leadershipembodiment.com
SUMMARY:5-Week Level 1 Course with RJ Jennings in San Rafael\, CA - Day 3 of 5
DESCRIPTION:Join RJ for a five-week Level 1 course to be held in San Rafael\, CA.  You will find a complete description of our courses here.  The cost is $379.00 for five evenings from 6:00pm to 8:00pm.  (Please note that a completion of a Level 1 course is required to attend a Leadership Embodiment retreat with Wendy Palmer.)\nDates:\nMarch 16\, 2015\nMarch 23\, 2015\nMarch 30\, 2015\nApril 6\, 2015\nApril 15\, 2015
URL:https://leadershipembodiment.com/event/6-week-level-1-course-with-ron-jennings-in-san-rafael-ca-day-2-of-6-2015-03-16/
LOCATION:CA
CATEGORIES:North America
END:VEVENT
BEGIN:VEVENT
DTSTART;VALUE=DATE:20150326
DTEND;VALUE=DATE:20150330
DTSTAMP:20260425T155524
CREATED:20141127T005748Z
LAST-MODIFIED:20141127T005748Z
UID:10000859-1427328000-1427673599@leadershipembodiment.com
SUMMARY:Leadership Embodiment Retreat with Wendy Palmer
DESCRIPTION:Join Wendy Palmer for a 3 day retreat at Whidbey Institute on Whidbey Island\, Washington. A completed Level 1 course is required to attend.  To register or for more information\, please contact Julia Smith (juliarsmith@gmail.com) or the Leadership Embodiment office (office@embodimentinternational.com).  Total cost of $725 includes accommodations\, 3 meals per day\, and 3 days of guided practice with Wendy Palmer. A non-refundable deposit of $100 will hold your place.  Space is limited to 16 participants. \nNote: As of January 26th\, the Retreat is fully booked.  Please contact us to be added to the wait list.
URL:https://leadershipembodiment.com/event/leadership-embodiment-retreat-with-wendy-palmer/
LOCATION:CA
CATEGORIES:North America
ORGANIZER;CN="Julia Smith":MAILTO:juliarsmith (at) gmail.com
END:VEVENT
BEGIN:VEVENT
DTSTART;TZID=UTC:20150323T180000
DTEND;TZID=UTC:20150323T200000
DTSTAMP:20260425T155524
CREATED:20150120T214624Z
LAST-MODIFIED:20150120T214624Z
UID:10000884-1427133600-1427140800@leadershipembodiment.com
SUMMARY:5-Week Level 1 Course with RJ Jennings in San Rafael\, CA - Day 2 of 5
DESCRIPTION:Join RJ for a five-week Level 1 course to be held in San Rafael\, CA.  You will find a complete description of our courses here.  The cost is $379.00 for five evenings from 6:00pm to 8:00pm.  (Please note that a completion of a Level 1 course is required to attend a Leadership Embodiment retreat with Wendy Palmer.)\nDates:\nMarch 16\, 2015\nMarch 23\, 2015\nMarch 30\, 2015\nApril 6\, 2015\nApril 15\, 2015
URL:https://leadershipembodiment.com/event/6-week-level-1-course-with-ron-jennings-in-san-rafael-ca-day-2-of-6/
LOCATION:CA
CATEGORIES:North America
END:VEVENT
BEGIN:VEVENT
DTSTART;TZID=UTC:20150322T090000
DTEND;TZID=UTC:20150322T160000
DTSTAMP:20260425T155524
CREATED:20150120T234122Z
LAST-MODIFIED:20150120T234122Z
UID:10000900-1427014800-1427040000@leadershipembodiment.com
SUMMARY:Level 1 with Madeline McNeely & Elizabeth Valentine (Day 2 of 2)
DESCRIPTION:Join Madeline McNeely & Elizabeth Valentine in the Boston area for a 2-day Level 1 workshop at the Watertown Center for Healing Arts. (See a description of our courses here). For costs\, registration\, and more information\, please see: Level 1 with Madeline & Elizabeth
URL:https://leadershipembodiment.com/event/level-1-with-madeline-mcneely-elizabeth-valentine-day-2-of-2/
LOCATION:Watertown Center for the Healing Arts\, Watertown\, MA\, United States
CATEGORIES:North America
END:VEVENT
BEGIN:VEVENT
DTSTART;TZID=UTC:20150321T090000
DTEND;TZID=UTC:20150321T160000
DTSTAMP:20260425T155524
CREATED:20150120T233632Z
LAST-MODIFIED:20150120T233632Z
UID:10000899-1426928400-1426953600@leadershipembodiment.com
SUMMARY:Level 1 with Madeline McNeely & Elizabeth Valentine (Day 1 of 2)
DESCRIPTION:Join Madeline McNeely & Elizabeth Valentine in the Boston area for a 2-day Level 1 workshop at the Watertown Center for Healing Arts on March 21st and 22nd. (See a description of our courses here). For costs\, registration\, and more information\, please see: Level 1 with Madeline & Elizabeth
URL:https://leadershipembodiment.com/event/level-1-with-madeline-mcneely-elizabeth-valentine-day-1-of-2/
LOCATION:Watertown Center for the Healing Arts\, Watertown\, MA\, United States
CATEGORIES:North America
END:VEVENT
BEGIN:VEVENT
DTSTART;VALUE=DATE:20150320
DTEND;VALUE=DATE:20150323
DTSTAMP:20260425T155524
CREATED:20141215T225250Z
LAST-MODIFIED:20141215T225250Z
UID:10000860-1426809600-1427068799@leadershipembodiment.com
SUMMARY:Level 1 with Wendy Palmer in Montreal
DESCRIPTION:Join Wendy Palmer for a weekend Level 1 course in Montreal\, Quebec\, Canada.  A full description of a Level 1 can be found on the Courses page.  For more information regarding costs\, times\, and location\, please contact Suzanne.Martel@axion.ca.
URL:https://leadershipembodiment.com/event/level-1-with-wendy-palmer-in-montreal/
LOCATION:CA
CATEGORIES:North America
END:VEVENT
BEGIN:VEVENT
DTSTART;TZID=UTC:20150316T180000
DTEND;TZID=UTC:20150316T200000
DTSTAMP:20260425T155524
CREATED:20150120T214205Z
LAST-MODIFIED:20150120T214205Z
UID:10000883-1426528800-1426536000@leadershipembodiment.com
SUMMARY:5-Week Level 1 Course with RJ Jennings in San Rafael\, CA - Day 1 of 5
DESCRIPTION:Join RJ for a five-week Level 1 course to be held in San Rafael\, CA.  You will find a complete description of our courses here.  The cost is $379.00 for five evenings from 6:00pm to 8:00pm.  (Please note that a completion of a Level 1 course is required to attend a Leadership Embodiment retreat with Wendy Palmer.)\nDates:\nMarch 16\, 2015\nMarch 23\, 2015\nMarch 30\, 2015\nApril 6\, 2015\nApril 15\, 2015
URL:https://leadershipembodiment.com/event/6-week-level-1-course-with-ron-jennings-in-san-rafael-ca-day-1-of-6/
LOCATION:CA
CATEGORIES:North America
ORGANIZER;CN="RJ":MAILTO:rj@soulfulview.com
END:VEVENT
BEGIN:VEVENT
DTSTART;TZID=UTC:20150305T180000
DTEND;TZID=UTC:20150305T193000
DTSTAMP:20260425T155524
CREATED:20150303T204034Z
LAST-MODIFIED:20150303T204034Z
UID:10000918-1425578400-1425583800@leadershipembodiment.com
SUMMARY:Ongoing Leadership Embodiment Classes
DESCRIPTION:Weekly Leadership Embodiment classes are held most Thursdays at Aikido of Tamalpais in Corte Madera\, CA.  These are led by either Wendy Palmer or certified LE trainers. Everyone is welcome.  No experience is necessary. There is a small fee payable to the dojo if you are not a member.\nDates: Thursday evenings\nTimes: 6:00pm – 7:30pm
URL:https://leadershipembodiment.com/event/ongoing-leadership-embodiment-classes/2015-03-05/
LOCATION:Aikido of Tamalpais\, 142 Redwood Avenue\, Corte Madera\, CA\, United States
CATEGORIES:North America
ORGANIZER;CN="LE Office":MAILTO:office@leadershipembodiment.com
END:VEVENT
BEGIN:VEVENT
DTSTART;VALUE=DATE:20150228
DTEND;VALUE=DATE:20150302
DTSTAMP:20260425T155524
CREATED:20150129T234153Z
LAST-MODIFIED:20150129T234153Z
UID:10000908-1425081600-1425254399@leadershipembodiment.com
SUMMARY:Level 1 with Theo Colburn & Olivia Cheever
DESCRIPTION:Join Theo and Olivia for a 2-day Level 1 workshop in Westwood\, MA.  Learn to lead with embodied presence\, confidence\, and compassion.  See our courses page for a full description of a Level 1. For more information\, please see: LE Workshop Westwood MA
URL:https://leadershipembodiment.com/event/level-1-with-theo-colburn-olivia-cheever/
LOCATION:Center at Westwoods\, 590 Gay Street\, Westwood\, MA\, 02090\, United States
CATEGORIES:North America
GEO:42.2219368;-71.1962182
X-APPLE-STRUCTURED-LOCATION;VALUE=URI;X-ADDRESS=Center at Westwoods 590 Gay Street Westwood MA 02090 United States;X-APPLE-RADIUS=500;X-TITLE=590 Gay Street:geo:-71.1962182,42.2219368
END:VEVENT
BEGIN:VEVENT
DTSTART;TZID=UTC:20150211T190000
DTEND;TZID=UTC:20150211T201500
DTSTAMP:20260425T155524
CREATED:20150210T225445Z
LAST-MODIFIED:20150210T225445Z
UID:10000914-1423681200-1423685700@leadershipembodiment.com
SUMMARY:Embodiment Classes with Joan Marie Passalacqua
DESCRIPTION:Learn\, explore\, and practice embodiment techniques from\nWendy Palmer’s two books: The Intuitive Body and Leadership Embodiment \n• Develop your personal presence to be more skillful\nin day-to-day interactions and professional life \n• Integrate awareness and posture to short-circuit reactive patterns\nand be more responsive and compassionate \nDrop-In Embodiment Classes \nAttend when you can–All levels welcome. \nWhen: Wednesdays\, 7-8:15p\n​February 11th  thru April 22nd \nLocation:  2700 Eighth Street\, Berkeley\, CA 94710 \nFee:  $15 each class\, $75 for 6-class package = one class free \nTaught by:  Joan Marie Passalacqua\, founder of the Applied Anatomy Institute\,\nCertified Leadership Embodiment Coach\, and student of Wendy Palmer \nDuring class we’ll: \n• Cultivate body language that supports our intentions \n• Embody techniques that lessen the impact of stress \n• Create states-of-being that encourage confidence \nMore Information:  AppliedAnatomy@gmail.com  OR  510-843-2270 \nSuggested\, but not required\, reading:\nThe Intuitive Body and Leadership Embodiment—available at Amazon.com
URL:https://leadershipembodiment.com/event/embodiment-classes-with-joan-marie-passalacqua/2015-02-11/
LOCATION:Applied Anatomy Institute\, 2700 Eighth Street\, Berkeley\, 94710\, United States
CATEGORIES:North America
ORGANIZER;CN="Joan Marie Passalacqua":MAILTO:AppliedAnatomy (at) gmail.com
END:VEVENT
BEGIN:VEVENT
DTSTART;TZID=UTC:20150206T190000
DTEND;TZID=UTC:20150206T213000
DTSTAMP:20260425T155524
CREATED:20150129T221727Z
LAST-MODIFIED:20150129T221727Z
UID:10000907-1423249200-1423258200@leadershipembodiment.com
SUMMARY:Somatic Coaching Women's Group for Embodiment in Transition
DESCRIPTION:Anjali Sawhney uses Level 1 and Level 2 Leadership Embodiment exercises in a twice monthly women’s group workshop focusing on Embodiment in Transition. The workshop series begins on February 6th and is generally held on the first & third Friday evenings from 7:00pm-9:30pm through May 2015.  For more information\, please contact Anjali at (415)269-5151 or anjalilifecoach@gmail.com
URL:https://leadershipembodiment.com/event/using-leadership-embodiment-in-transition/2015-02-06/
LOCATION:CA
CATEGORIES:North America
ORGANIZER;CN="Anjali Sawhney":MAILTO:anjalilifecoach@gmail.com
END:VEVENT
BEGIN:VEVENT
DTSTART;VALUE=DATE:20141023
DTEND;VALUE=DATE:20141024
DTSTAMP:20260425T155524
CREATED:20140703T203820Z
LAST-MODIFIED:20140703T203820Z
UID:10000842-1414022400-1414108799@leadershipembodiment.com
SUMMARY:Leadership Embodiment Level 1 (6-week series) with Bettina Rothe - Day 6 of 6
DESCRIPTION:Join Bettina Rothe in beautiful Vancouver\, BC for a 6-week (1 day each week) Leadership Embodiment Fundamentals Level 1.  Beginning Thursday\, September 18th\, and continuing on every Thursday through October 23rd.
URL:https://leadershipembodiment.com/event/leadership-embodiment-level-1-6-week-series-with-bettina-rothe-day-1-of-6-2014-10-23/
LOCATION:Unnamed Venue\, Vancouver\, British Columbia\, Canada
CATEGORIES:North America
GEO:49.261226;-123.1139268
END:VEVENT
BEGIN:VEVENT
DTSTART;TZID=UTC:20141018T090000
DTEND;TZID=UTC:20141019T160000
DTSTAMP:20260425T155524
CREATED:20140703T210643Z
LAST-MODIFIED:20140703T210643Z
UID:10000844-1413622800-1413734400@leadershipembodiment.com
SUMMARY:Leadership Embodiment Level 2 (2 days) with Tiphani Palmer & LE Associates
DESCRIPTION:Join the Boston area LE Professional Associates and Tiphani Palmer for a Level 2 in Watertown\, MA.
URL:https://leadershipembodiment.com/event/leadership-embodiment-level-2-2-days-with-tiphani-palmer-le-associates/
LOCATION:Watertown Center for the Healing Arts\, Watertown\, MA\, United States
CATEGORIES:North America
END:VEVENT
END:VCALENDAR