BEGIN:VCALENDAR
VERSION:2.0
PRODID:-//Leadership Embodiment - ECPv6.15.20//NONSGML v1.0//EN
CALSCALE:GREGORIAN
METHOD:PUBLISH
X-WR-CALNAME:Leadership Embodiment
X-ORIGINAL-URL:https://leadershipembodiment.com
X-WR-CALDESC:Events for Leadership Embodiment
REFRESH-INTERVAL;VALUE=DURATION:PT1H
X-Robots-Tag:noindex
X-PUBLISHED-TTL:PT1H
BEGIN:VTIMEZONE
TZID:UTC
BEGIN:STANDARD
TZOFFSETFROM:+0000
TZOFFSETTO:+0000
TZNAME:UTC
DTSTART:20130101T000000
END:STANDARD
END:VTIMEZONE
BEGIN:VEVENT
DTSTART;TZID=UTC:20140920T090000
DTEND;TZID=UTC:20140921T160000
DTSTAMP:20260425T202625
CREATED:20140429T223725Z
LAST-MODIFIED:20140429T223725Z
UID:10000824-1411203600-1411315200@leadershipembodiment.com
SUMMARY:Somatics for Social Leaders with Madeline McNeely & Elizabeth Valentine
DESCRIPTION:Leadership Embodiment Associates\, Madeline McNeely & Elizabeth Valentine lead a two-day workshop in Watertown\, Massachusetts:\nSaturday-Sunday\, September 20-21\, 2014\, 9am-4pm\nWatertown Center for the Healing Arts\, Watertown\, MA \nFor more information\, contact Madeline at (617) 320-7381 or Elizabeth at (339) 221-0523
URL:https://leadershipembodiment.com/event/somatics-for-social-leaders-with-madeline-mcneely-elizabeth-valentine/
LOCATION:Watertown Center for the Healing Arts\, Watertown\, MA\, United States
CATEGORIES:North America
END:VEVENT
BEGIN:VEVENT
DTSTART;VALUE=DATE:20140918
DTEND;VALUE=DATE:20140919
DTSTAMP:20260425T202625
CREATED:20140703T203820Z
LAST-MODIFIED:20140703T203820Z
UID:10000837-1410998400-1411084799@leadershipembodiment.com
SUMMARY:Leadership Embodiment Level 1 (6-week series) with Bettina Rothe - Day 1 of 6
DESCRIPTION:Join Bettina Rothe in beautiful Vancouver\, BC for a 6-week (1 day each week) Leadership Embodiment Fundamentals Level 1.  Beginning Thursday\, September 18th\, and continuing on every Thursday through October 23rd.
URL:https://leadershipembodiment.com/event/leadership-embodiment-level-1-6-week-series-with-bettina-rothe-day-1-of-6/2014-09-18/
LOCATION:Unnamed Venue\, Vancouver\, British Columbia\, Canada
CATEGORIES:North America
GEO:49.261226;-123.1139268
END:VEVENT
BEGIN:VEVENT
DTSTART;TZID=UTC:20140820T190000
DTEND;TZID=UTC:20140820T201500
DTSTAMP:20260425T202625
CREATED:20140812T223256Z
LAST-MODIFIED:20140812T223256Z
UID:10000852-1408561200-1408565700@leadershipembodiment.com
SUMMARY:Embodiment Drop-In Classes
DESCRIPTION:Join Joan Marie Passalacqua for Embodiment Drop-In classes in Berkeley\, CA.\n• Develop your personal presence to be more skillful in day-to-day\ninteractions and professional life \n• Integrate awareness and posture to short-circuit reactive patterns\nand become more responsive and skillful \nDuring class we’ll:\n• Embody techniques that lessen the impact of stress\n• Learn postures that cultivate effective body language\n• Practice embodied ways to respond to everyday situations \nDates: Wednesdays\, August 20th and 27th \nTime: 7-8:15pm \nWhere: 2700 Eighth Street\, Berkeley\, CA 94710 \nFee: $15 each class \nTaught by: Joan Marie Passalacqua\,\nfounder of the Applied Anatomy Institute\,\nCertified Leadership Embodiment Coach\, and\nstudent of Wendy Palmer \nSuggested\, but not required\, reading:\n1) The Intuitive Body and 2) Leadership Embodiment\n—both books are by Wendy Palmer and available on Amazon
URL:https://leadershipembodiment.com/event/embodiment-drop-in-classes/2014-08-20/
LOCATION:Applied Anatomy Institute\, 2700 Eighth Street\, Berkeley\, 94710\, United States
CATEGORIES:North America
ORGANIZER;CN="Joan Marie Passalacqua":MAILTO:AppliedAnatomy (at) gmail.com
END:VEVENT
BEGIN:VEVENT
DTSTART;VALUE=DATE:20140815
DTEND;VALUE=DATE:20140818
DTSTAMP:20260425T202625
CREATED:20140425T172024Z
LAST-MODIFIED:20140425T172024Z
UID:10000823-1408060800-1408319999@leadershipembodiment.com
SUMMARY:Esalen Level 1 with Wendy Palmer
DESCRIPTION:Attend a very special Level 1 with Wendy Palmer at Esalen in Big Sur\, CA.  For more information and to register with Esalen\, please see here.
URL:https://leadershipembodiment.com/event/esalen-level-1-with-wendy-palmer/
LOCATION:Esalen\, 55000 Highway 1\, Big Sur\, CA\, United States
CATEGORIES:North America
END:VEVENT
BEGIN:VEVENT
DTSTART;VALUE=DATE:20140809
DTEND;VALUE=DATE:20140810
DTSTAMP:20260425T202625
CREATED:20140728T173114Z
LAST-MODIFIED:20140728T173114Z
UID:10000851-1407542400-1407628799@leadershipembodiment.com
SUMMARY:Embodied Awareness\, Embodied Action
DESCRIPTION:Attend the Embodied Awareness\, Embodied Action class series with LE Associates\, Paul Ciske\, Ph.D.\, Anjali Sawhney\, MBA\, and “RJ” Ron Jennings\, ICF at the East Bay Meditation Center.  This series begins on Saturday\, August 9th and continues on the three following Monday evenings\, August 11th\, 18th\, and 15th.  For further details and to register\, click here.
URL:https://leadershipembodiment.com/event/embodied-awareness-embodied-action/2014-08-09/
LOCATION:East Bay Meditation Center\, 285 17th Street\, Oakland\, CA\, United States
CATEGORIES:North America
END:VEVENT
BEGIN:VEVENT
DTSTART;TZID=UTC:20140710T180000
DTEND;TZID=UTC:20140710T193000
DTSTAMP:20260425T202625
CREATED:20140121T190938Z
LAST-MODIFIED:20140121T190938Z
UID:10000813-1405015200-1405020600@leadershipembodiment.com
SUMMARY:Ongoing LE Classes at Aikido of Tamalpais
DESCRIPTION:Wendy Palmer and other certified LE trainers are offering weekly ongoing Leadership Embodiment classes. Everyone is welcome. No experience necessary. $15 donation for non-Dojo members.
URL:https://leadershipembodiment.com/event/ongoing-le-classes-at-aikido-of-tamalpais-3-2014-02-20/2014-07-10/
LOCATION:Aikido of Tamalpais\, 142 Redwood Avenue\, Corte Madera\, CA\, 94925\, United States
CATEGORIES:North America
ORGANIZER;CN="LE Office":MAILTO:office@leadershipembodiment.com
END:VEVENT
BEGIN:VEVENT
DTSTART;TZID=UTC:20140503T100000
DTEND;TZID=UTC:20140503T120000
DTSTAMP:20260425T202625
CREATED:20140115T000249Z
LAST-MODIFIED:20140115T000249Z
UID:10000812-1399111200-1399118400@leadershipembodiment.com
SUMMARY:Level 1 Fundamentals\, Alameda\, California - Continuing Class with Cathy Dana
DESCRIPTION:Join Cathy for an ongoing Level 1 Class. For newcomers and experienced practitioners alike. \nPlease contact Cathy for cost details.
URL:https://leadershipembodiment.com/event/level-1-continuing-class-with-cathy-dana-2-2-3/
LOCATION:Home of Truth Spiritual Center\, 1300 Grand Street\, Alameda\, 94501\, United States
CATEGORIES:North America
ORGANIZER;CN="Cathy Dana":MAILTO:cathydana@gmail.com
GEO:37.769516;-122.257123
X-APPLE-STRUCTURED-LOCATION;VALUE=URI;X-ADDRESS=Home of Truth Spiritual Center 1300 Grand Street Alameda 94501 United States;X-APPLE-RADIUS=500;X-TITLE=1300 Grand Street:geo:-122.257123,37.769516
END:VEVENT
END:VCALENDAR