BEGIN:VCALENDAR
VERSION:2.0
PRODID:-//Leadership Embodiment - ECPv6.15.20//NONSGML v1.0//EN
CALSCALE:GREGORIAN
METHOD:PUBLISH
X-ORIGINAL-URL:https://leadershipembodiment.com
X-WR-CALDESC:Events for Leadership Embodiment
REFRESH-INTERVAL;VALUE=DURATION:PT1H
X-Robots-Tag:noindex
X-PUBLISHED-TTL:PT1H
BEGIN:VTIMEZONE
TZID:America/Los_Angeles
BEGIN:DAYLIGHT
TZOFFSETFROM:-0800
TZOFFSETTO:-0700
TZNAME:PDT
DTSTART:20150308T100000
END:DAYLIGHT
BEGIN:STANDARD
TZOFFSETFROM:-0700
TZOFFSETTO:-0800
TZNAME:PST
DTSTART:20151101T090000
END:STANDARD
BEGIN:DAYLIGHT
TZOFFSETFROM:-0800
TZOFFSETTO:-0700
TZNAME:PDT
DTSTART:20160313T100000
END:DAYLIGHT
BEGIN:STANDARD
TZOFFSETFROM:-0700
TZOFFSETTO:-0800
TZNAME:PST
DTSTART:20161106T090000
END:STANDARD
BEGIN:DAYLIGHT
TZOFFSETFROM:-0800
TZOFFSETTO:-0700
TZNAME:PDT
DTSTART:20170312T100000
END:DAYLIGHT
BEGIN:STANDARD
TZOFFSETFROM:-0700
TZOFFSETTO:-0800
TZNAME:PST
DTSTART:20171105T090000
END:STANDARD
BEGIN:DAYLIGHT
TZOFFSETFROM:-0800
TZOFFSETTO:-0700
TZNAME:PDT
DTSTART:20180311T100000
END:DAYLIGHT
BEGIN:STANDARD
TZOFFSETFROM:-0700
TZOFFSETTO:-0800
TZNAME:PST
DTSTART:20181104T090000
END:STANDARD
BEGIN:DAYLIGHT
TZOFFSETFROM:-0800
TZOFFSETTO:-0700
TZNAME:PDT
DTSTART:20190310T100000
END:DAYLIGHT
BEGIN:STANDARD
TZOFFSETFROM:-0700
TZOFFSETTO:-0800
TZNAME:PST
DTSTART:20191103T090000
END:STANDARD
END:VTIMEZONE
BEGIN:VTIMEZONE
TZID:Africa/Johannesburg
BEGIN:STANDARD
TZOFFSETFROM:+0200
TZOFFSETTO:+0200
TZNAME:SAST
DTSTART:20150101T000000
END:STANDARD
END:VTIMEZONE
BEGIN:VTIMEZONE
TZID:UTC
BEGIN:STANDARD
TZOFFSETFROM:+0000
TZOFFSETTO:+0000
TZNAME:UTC
DTSTART:20140101T000000
END:STANDARD
END:VTIMEZONE
BEGIN:VEVENT
DTSTART;VALUE=DATE:20181108
DTEND;VALUE=DATE:20181112
DTSTAMP:20260424T142417
CREATED:20180611T190024Z
LAST-MODIFIED:20180611T190024Z
UID:10000721-1541635200-1541980799@leadershipembodiment.com
SUMMARY:Intensive Retreat with Wendy Palmer
DESCRIPTION:Please join Wendy Palmer for a 4-Day Intensive Retreat near Cape Town\, South Africa. You must have completed a Level 1 and a Level 2 before attending a retreat.  For a description of our offerings\, please see our courses page.\nMeals and lodging are included in the fee for the retreat. \nDates: 8-11 November 2018 \nFor pricing and more information\, please see this flyer: LE Retreat – November 2018.
URL:https://leadershipembodiment.com/event/intensive-retreat-with-wendy-palmer-12/
LOCATION:Temenos\, McGregor\, South Africa
CATEGORIES:South Africa
ATTACH;FMTTYPE=:
ORGANIZER;CN="Karen White":MAILTO:karen@thehumanconnection.co.za
END:VEVENT
BEGIN:VEVENT
DTSTART;VALUE=DATE:20181018
DTEND;VALUE=DATE:20181020
DTSTAMP:20260424T142417
CREATED:20180820T124224Z
LAST-MODIFIED:20180820T124224Z
UID:10000730-1539820800-1539993599@leadershipembodiment.com
SUMMARY:Level 1 with Julia Bonadei
DESCRIPTION:Join Julia for a 2-Day Level 1 in Johannesburg.  For a description of a Level 1\, review our courses page. For more information\, please see Johannesburg Level 1. \nDates: 18-19 October 2018
URL:https://leadershipembodiment.com/event/level-1-with-julia-bonadei-2/
LOCATION:Campbell House\, 2 Campbell St\, Johannesburg\, 2090\, South Africa
CATEGORIES:South Africa
ATTACH;FMTTYPE=:
ORGANIZER;CN="Julia Bonadei":MAILTO:julia@wideopenspaces.co.za
END:VEVENT
BEGIN:VEVENT
DTSTART;VALUE=DATE:20180904
DTEND;VALUE=DATE:20180906
DTSTAMP:20260424T142417
CREATED:20171113T154326Z
LAST-MODIFIED:20171113T154326Z
UID:10000670-1536019200-1536191999@leadershipembodiment.com
SUMMARY:Level 1 with Karen White & Lisa Hansford
DESCRIPTION:Join Karen White & Lisa Hansford for a 2-day Level 1 in Cape Town\, South Africa. For a description of a Level 1\, please see our courses page.  For more information\, please see this flyer: LE Level 1 – Cape Town – 2018 \nDates: 4 & 5 September 2018
URL:https://leadershipembodiment.com/event/level-1-with-karen-white-lisa-hansford-3/
LOCATION:Old Mutual House\, 33 Klaassens Rd\, Constantia\, Western Cape\, South Africa
CATEGORIES:South Africa
ATTACH;FMTTYPE=:
ORGANIZER;CN="Karen White":MAILTO:karen@thehumanconnection.co.za
END:VEVENT
BEGIN:VEVENT
DTSTART;TZID=America/Los_Angeles:20180810T080000
DTEND;TZID=America/Los_Angeles:20180810T170000
DTSTAMP:20260424T142417
CREATED:20180810T200748Z
LAST-MODIFIED:20180810T200748Z
UID:10000725-1533888000-1533920400@leadershipembodiment.com
SUMMARY:Level 1 with Julia Bonadei
DESCRIPTION:Join Julia Bonadei in Johannesburg for a 2 day Level 1. For a description of a Level 1\, please see our courses page. For more information including pricing and registration\, please LE Level 1_Jhb_18-19 October 2018. An early bird discount is offered if booked and paid for by 21 September 2018. \nDates: 18-29 October 2018
URL:https://leadershipembodiment.com/event/level-1-with-julia-bonadei/
LOCATION:Campbell House\, 2 Campbell St\, Johannesburg\, 2090\, South Africa
CATEGORIES:South Africa
ATTACH;FMTTYPE=:
ORGANIZER;CN="Julia Bonadei":MAILTO:julia@wideopenspaces.co.za
END:VEVENT
BEGIN:VEVENT
DTSTART;VALUE=DATE:20180807
DTEND;VALUE=DATE:20180809
DTSTAMP:20260424T142417
CREATED:20171113T154725Z
LAST-MODIFIED:20171113T154725Z
UID:10000671-1533600000-1533772799@leadershipembodiment.com
SUMMARY:Level 2 with Karen White & Lisa Hansford
DESCRIPTION:Join Karen White & Lisa Hansford for a 2-day Level 2 in Cape Town\, South Africa. For a description of a Level 2\, please see our courses page.  For more information\, please see this flyer: LE Level 2 – Cape Town – 2018 \nDates: 7 & 8 August 2018
URL:https://leadershipembodiment.com/event/level-2-with-karen-white-lisa-hansford/
LOCATION:Old Mutual House\, 33 Klaassens Rd\, Constantia\, Western Cape\, South Africa
CATEGORIES:South Africa
ATTACH;FMTTYPE=:
ORGANIZER;CN="Karen White":MAILTO:karen@thehumanconnection.co.za
END:VEVENT
BEGIN:VEVENT
DTSTART;VALUE=DATE:20180517
DTEND;VALUE=DATE:20180521
DTSTAMP:20260424T142417
CREATED:20171113T160016Z
LAST-MODIFIED:20171113T160016Z
UID:10000672-1526515200-1526860799@leadershipembodiment.com
SUMMARY:Intensive Retreat with Wendy Palmer
DESCRIPTION:Join Wendy Palmer at the Temenos Retreat in McGregor\, South Africa for a 4-day intensive retreat. For a description of a retreat\, please see our courses page. Before attending a retreat\, you must have completed both Level 1 and Level 2 courses. Accommodations and meals are included.  For more information\, please see this flyer: LE Retreat – May 2018 SA \nDates: 17 – 20 May 2018
URL:https://leadershipembodiment.com/event/intensive-retreat-with-wendy-palmer-10/
LOCATION:Temenos\, McGregor\, South Africa
CATEGORIES:South Africa
ATTACH;FMTTYPE=:
ORGANIZER;CN="Karen White":MAILTO:karen@thehumanconnection.co.za
END:VEVENT
BEGIN:VEVENT
DTSTART;TZID=America/Los_Angeles:20180320T120000
DTEND;TZID=America/Los_Angeles:20180320T153000
DTSTAMP:20260424T142417
CREATED:20180306T141152Z
LAST-MODIFIED:20180306T141152Z
UID:10000700-1521547200-1521559800@leadershipembodiment.com
SUMMARY:Leadership Embodiment Presentation with Wendy Palmer
DESCRIPTION:Join Wendy Palmer at The Novalis Ubuntu Institute in Kenilworth (Cape Town) for an afternoon Leadership Embodiment presentation.  \nDate: March 20\, 2018\nTime: 12:00 pm – 3:30 pm \nOrganized by SAODN (South African Organisation Development Network)  \nFor more information and to reserve your seat\, please click here.
URL:https://leadershipembodiment.com/event/wendy-palmer-presentation/
LOCATION:The Novalis Ubuntu Institute\, Kenilworth\, Cape Town\, South Africa
CATEGORIES:South Africa
ATTACH;FMTTYPE=:
GEO:-33.9958463;18.4780523
END:VEVENT
BEGIN:VEVENT
DTSTART;VALUE=DATE:20180207
DTEND;VALUE=DATE:20180209
DTSTAMP:20260424T142417
CREATED:20171009T201104Z
LAST-MODIFIED:20171009T201104Z
UID:10000669-1517961600-1518134399@leadershipembodiment.com
SUMMARY:Level 1 with Karen White & Lisa Hansford
DESCRIPTION:Join Karen White & Lisa Hansford at the Old Mutual House in Cape Town for a 2-Day Level 1. For a description of a Level 1\, please see our courses page.   \nDates: 7-8 February 2018
URL:https://leadershipembodiment.com/event/level-1-with-karen-white-lisa-hansford-2/
LOCATION:Old Mutual House\, 33 Klaassens Rd\, Constantia\, Western Cape\, South Africa
CATEGORIES:South Africa
ATTACH;FMTTYPE=:
ORGANIZER;CN="Karen White":MAILTO:karen@thehumanconnection.co.za
END:VEVENT
BEGIN:VEVENT
DTSTART;VALUE=DATE:20171115
DTEND;VALUE=DATE:20171117
DTSTAMP:20260424T142417
CREATED:20170313T162432Z
LAST-MODIFIED:20170313T162432Z
UID:10000627-1510704000-1510876799@leadershipembodiment.com
SUMMARY:Level 1 with Karen White & Lisa Hansford
DESCRIPTION:Join Karen White and Lisa Hansford for a 2-Day Level 1 in Cape Town\, South Africa. See a description of Level 1 on our courses page.   \nFor more details and registration information\, please see this flyer: LE Level 1 – Cape Town – 2017 \nDates 15-16 November 2017
URL:https://leadershipembodiment.com/event/level-1-with-karen-white-lisa-hansford/
LOCATION:Old Mutual House\, 33 Klaassens Rd\, Constantia\, Western Cape\, South Africa
CATEGORIES:South Africa
ATTACH;FMTTYPE=:
ORGANIZER;CN="Karen White":MAILTO:karen@thehumanconnection.co.za
END:VEVENT
BEGIN:VEVENT
DTSTART;VALUE=DATE:20170907
DTEND;VALUE=DATE:20170909
DTSTAMP:20260424T142417
CREATED:20170630T155716Z
LAST-MODIFIED:20170630T155716Z
UID:10000648-1504742400-1504915199@leadershipembodiment.com
SUMMARY:Level 1 with Julia Bonadei Thorns
DESCRIPTION:Join Julia Bonadei Thorns for a 2-day Level 1 at the Campbell House in Johannesburg. For a description of a Level 1\, please see our Courses page.  For more information or to register\, please see this flyer: Julia Level 1 on 7-8 Sept 2017 \nDates: 7-8 September 2017
URL:https://leadershipembodiment.com/event/level-1-with-julia-bonadei-thorns-4/
LOCATION:Campbell House\, 2 Campbell St\, Johannesburg\, 2090\, South Africa
CATEGORIES:South Africa
ATTACH;FMTTYPE=:
END:VEVENT
BEGIN:VEVENT
DTSTART;VALUE=DATE:20170512
DTEND;VALUE=DATE:20170514
DTSTAMP:20260424T142417
CREATED:20170227T201952Z
LAST-MODIFIED:20170227T201952Z
UID:10000625-1494547200-1494719999@leadershipembodiment.com
SUMMARY:Level 2 with Wendy Palmer
DESCRIPTION:Wendy will offer a Level 2 on 12 & 13 May in Cape Town.  You must have completed a Level 1 before taking a Level 2.  For a description of a Level 2\, please see our courses page.  Again\, this is especially applicable for those of you who are considering the coach training beginning in November. \nDates: 12-13 May 2017
URL:https://leadershipembodiment.com/event/level-2-with-wendy-palmer-2/
LOCATION:Old Mutual House\, 33 Klaassens Rd\, Constantia\, Western Cape\, South Africa
CATEGORIES:South Africa
ATTACH;FMTTYPE=:
ORGANIZER;CN="Karen White":MAILTO:karen@thehumanconnection.co.za
END:VEVENT
BEGIN:VEVENT
DTSTART;VALUE=DATE:20170512
DTEND;VALUE=DATE:20170522
DTSTAMP:20260424T142417
CREATED:20170502T185237Z
LAST-MODIFIED:20170502T185237Z
UID:10000635-1494547200-1495411199@leadershipembodiment.com
SUMMARY:Aikido At The Leading Edge with Wendy Palmer
DESCRIPTION:Aikido At The Leading Edge  \nFREE Online Tele-Summit – May 12th – 21st\nWendy Palmer is scheduled for Wednesday\, May 17th at 11:00 am PST\, 2:00 pm EST\, 20:00 CET.\nOur friends at the Integral Dojo are putting together a FREE online Tele-Summit called “Aikido At The Leading Edge”. This 10-day tele-summit will host over 40 Aikido teachers including Wendy Palmer\, Robert Frager\, Richard Strozzi-Heckler\, Paul Linden and so many more! \nJoin them as they share decades of experience\, deep discoveries\, and wisdom from the art of Aikido. This is your access to the essential Aikido teachings for embodying the Way Of Harmony in your life. \nThis is sure to be the Aikido world’s biggest educational experience of the year! Click HERE to register.
URL:https://leadershipembodiment.com/event/aikido-at-the-leading-edge-with-wendy-palmer/
LOCATION:Call-in\, United States
CATEGORIES:North America,Asia,Europe,South Africa
ATTACH;FMTTYPE=:
GEO:37.09024;-95.712891
END:VEVENT
BEGIN:VEVENT
DTSTART;VALUE=DATE:20170510
DTEND;VALUE=DATE:20170512
DTSTAMP:20260424T142417
CREATED:20170313T161745Z
LAST-MODIFIED:20170313T161745Z
UID:10000626-1494374400-1494547199@leadershipembodiment.com
SUMMARY:Level 1 with Karen White and Lisa Hansford
DESCRIPTION:Join Karen White and Lisa Hansford for a 2-Day Level 1 in Cape Town\, South Africa. See a description of Level 1 on our courses page.   \nFor more details and registration information\, please see this flyer: LE Level 1 – Cape Town – 2017 \nDates: 10-11 May 2017
URL:https://leadershipembodiment.com/event/level-1-with-karen-white-and-lisa-hansford-4/
LOCATION:Old Mutual House\, 33 Klaassens Rd\, Constantia\, Western Cape\, South Africa
CATEGORIES:South Africa
ATTACH;FMTTYPE=:
ORGANIZER;CN="Karen White":MAILTO:karen@thehumanconnection.co.za
END:VEVENT
BEGIN:VEVENT
DTSTART;TZID=America/Los_Angeles:20170301T160000
DTEND;TZID=America/Los_Angeles:20170304T110000
DTSTAMP:20260424T142417
CREATED:20161125T214038Z
LAST-MODIFIED:20161125T214038Z
UID:10000599-1488384000-1488625200@leadershipembodiment.com
SUMMARY:Intensive Retreat with Wendy Palmer
DESCRIPTION:Wendy Palmer is leading a 4-day Intensive Retreat in the Cape Town region of South Africa. To attend a retreat\, you must have completed a Leadership Embodiment Level 1 course. For more information\, please see the Leadership Embodiment South Africa website. \nDates: March 1st – 4th\, 2017 \nVenue to be announced.
URL:https://leadershipembodiment.com/event/intensive-retreat-with-wendy-palmer-5/
CATEGORIES:South Africa
ATTACH;FMTTYPE=:
ORGANIZER;CN="Karen White":MAILTO:karen@thehumanconnection.co.za
END:VEVENT
BEGIN:VEVENT
DTSTART;VALUE=DATE:20170220
DTEND;VALUE=DATE:20170222
DTSTAMP:20260424T142417
CREATED:20161125T162001Z
LAST-MODIFIED:20161125T162001Z
UID:10000597-1487548800-1487721599@leadershipembodiment.com
SUMMARY:Level 1 with Wendy Palmer
DESCRIPTION:Join Wendy Palmer in Cape Town\, South Africa for a 2-Day Level 1 course.  For more information and to register\, please click here.  To attend one of Wendy Palmer’s Intensive Retreats\, a completed Level 1 is required.
URL:https://leadershipembodiment.com/event/level-1-with-wendy-palmer-6/
LOCATION:Old Mutual House\, 33 Klaassens Rd\, Constantia\, Western Cape\, South Africa
CATEGORIES:South Africa
ATTACH;FMTTYPE=:
ORGANIZER;CN="Karen White":MAILTO:karen@thehumanconnection.co.za
END:VEVENT
BEGIN:VEVENT
DTSTART;TZID=America/Los_Angeles:20170215T083000
DTEND;TZID=America/Los_Angeles:20170215T163000
DTSTAMP:20260424T142417
CREATED:20161125T191720Z
LAST-MODIFIED:20161125T191720Z
UID:10000598-1487147400-1487176200@leadershipembodiment.com
SUMMARY:Cultivating Leadership with and through horses
DESCRIPTION:Join Karen White and Ute Kuhlmann in Cape Town\, South Africa for a day of experiential and embodied learning with these powerful\, spirited and graceful animals. \nWe won’t ride the horses and no previous horse experience is required. For more information\, please click here.   \nDate: February 15\, 2017\nTime: 8:30AM – 4:30PM
URL:https://leadershipembodiment.com/event/cultivating-leadership-with-and-through-horses/
CATEGORIES:South Africa
ATTACH;FMTTYPE=:
ORGANIZER;CN="Karen White":MAILTO:karen@thehumanconnection.co.za
END:VEVENT
BEGIN:VEVENT
DTSTART;VALUE=DATE:20161107
DTEND;VALUE=DATE:20161111
DTSTAMP:20260424T142417
CREATED:20160412T231742Z
LAST-MODIFIED:20160412T231742Z
UID:10000571-1478476800-1478822399@leadershipembodiment.com
SUMMARY:Intensive Retreat with Wendy Palmer
DESCRIPTION:Join Wendy Palmer for a 4-day Intensive Leadership Embodiment Retreat in the Cape Town area of South Africa.  You must have completed a Level 1 course before attending a retreat.  For a description of a retreat\, please see our courses page.   \nDates: November 7\, 8\, 9\, and 10\, 2016
URL:https://leadershipembodiment.com/event/intensive-retreat-with-wendy-palmer-3/
CATEGORIES:South Africa
ATTACH;FMTTYPE=:
ORGANIZER;CN="Karen White":MAILTO:karen@thehumanconnection.co.za
END:VEVENT
BEGIN:VEVENT
DTSTART;VALUE=DATE:20160921
DTEND;VALUE=DATE:20160923
DTSTAMP:20260424T142417
CREATED:20151029T230930Z
LAST-MODIFIED:20151029T230930Z
UID:10000527-1474416000-1474588799@leadershipembodiment.com
SUMMARY:Level 1 with Karen White and Lisa Hansford
DESCRIPTION:Join Karen White and Lisa Hansford for a Level 1 workshop in the Cape Town area of South Africa. \n \nDates:\n21 September 2015\n22 September 2015
URL:https://leadershipembodiment.com/event/level-1-with-karen-white-and-lisa-hansford-3/
LOCATION:Old Mutual House\, 33 Klaassens Rd\, Constantia\, Western Cape\, South Africa
CATEGORIES:South Africa
ORGANIZER;CN="Karen White":MAILTO:karen@thehumanconnection.co.za
END:VEVENT
BEGIN:VEVENT
DTSTART;VALUE=DATE:20160901
DTEND;VALUE=DATE:20160903
DTSTAMP:20260424T142417
CREATED:20160412T222128Z
LAST-MODIFIED:20160412T222128Z
UID:10000563-1472688000-1472860799@leadershipembodiment.com
SUMMARY:Level 1 with Karen White and Julia Bonadei-Thorns
DESCRIPTION:Join Karen White and Julia Bonadei-Thorns for a 2-day Level 1 Fundamentals workshop in Johannesburg\, South Africa.  For a description of a Level 1\, please see our courses page.   \nDates: September 1 & 2\, 2016
URL:https://leadershipembodiment.com/event/level-1-with-karen-white-and-julia-bonadei-thorns-3/
LOCATION:Campbell House\, 2 Campbell St\, Johannesburg\, 2090\, South Africa
CATEGORIES:South Africa
ORGANIZER;CN="Karen White":MAILTO:karen@thehumanconnection.co.za
END:VEVENT
BEGIN:VEVENT
DTSTART;VALUE=DATE:20160720
DTEND;VALUE=DATE:20160722
DTSTAMP:20260424T142417
CREATED:20160412T213841Z
LAST-MODIFIED:20160412T213841Z
UID:10000558-1468972800-1469145599@leadershipembodiment.com
SUMMARY:Level 1 with Julia Bonadei-Thorns
DESCRIPTION:Join Julia Bonadei-Thorns in Durban\, South Africa for a 2-day Level 1.  For a description of Level 1\, please see our courses page.  \nDates: July 20 & 21\, 2016
URL:https://leadershipembodiment.com/event/level-1-with-julia-bonadei-thorns-3/
LOCATION:Makaranga\, 1 Igwababa Rd\, Kloof\, KZN\, 3640\, South Africa
CATEGORIES:South Africa
ATTACH;FMTTYPE=:
END:VEVENT
BEGIN:VEVENT
DTSTART;VALUE=DATE:20160620
DTEND;VALUE=DATE:20160622
DTSTAMP:20260424T142417
CREATED:20151105T231620Z
LAST-MODIFIED:20151105T231620Z
UID:10000532-1466380800-1466553599@leadershipembodiment.com
SUMMARY:Level 1 with Julia Bonadei-Thorns & Kerry Hammerton
DESCRIPTION:Join Julia Bonadei-Thorns & Kerry Hammerton for a 2 day Level 1 in Durban. For more information and to register\, please see contact Julia (julia@wideopenspaces.co.za) or Kerry (k_hammerton@mweb.co.za). \nDates:\nJuly 20th & 21st\, 2016
URL:https://leadershipembodiment.com/event/level-1-with-julia-bonadei-thorns-kerry-hammerton/
LOCATION:Makaranga\, 1 Igwababa Rd\, Kloof\, KZN\, 3640\, South Africa
CATEGORIES:South Africa
END:VEVENT
BEGIN:VEVENT
DTSTART;VALUE=DATE:20160518
DTEND;VALUE=DATE:20160520
DTSTAMP:20260424T142417
CREATED:20151029T225539Z
LAST-MODIFIED:20151029T225539Z
UID:10000526-1463529600-1463702399@leadershipembodiment.com
SUMMARY:Level 2 with Karen White and Lisa Hansford
DESCRIPTION:Join Karen White and Lisa Hansford for a Level 2 workshop in the Cape Town\, South Africa area. \n \nDates:\n18 May 2016\n19 May 2016
URL:https://leadershipembodiment.com/event/level-2-with-karen-white-and-lisa-hansford/
LOCATION:Old Mutual House\, 33 Klaassens Rd\, Constantia\, Western Cape\, South Africa
CATEGORIES:South Africa
ORGANIZER;CN="Karen White":MAILTO:karen@thehumanconnection.co.za
END:VEVENT
BEGIN:VEVENT
DTSTART;VALUE=DATE:20160316
DTEND;VALUE=DATE:20160318
DTSTAMP:20260424T142417
CREATED:20151029T232801Z
LAST-MODIFIED:20151029T232801Z
UID:10000528-1458086400-1458259199@leadershipembodiment.com
SUMMARY:Level 1 with Karen White and Julia Bonadei-Thorns
DESCRIPTION:Join Karen White and Julia Bonadei-Thorns for a Level 1 workshop in Johannesburg South Africa. \nDates:\n16-17 March 2016 \nCampbell HouseJohannesburg
URL:https://leadershipembodiment.com/event/level-1-with-karen-white-and-julia-bonadei-thorns/
LOCATION:Campbell House\, 2 Campbell St\, Johannesburg\, 2090\, South Africa
CATEGORIES:South Africa
ORGANIZER;CN="Karen White":MAILTO:karen@thehumanconnection.co.za
END:VEVENT
BEGIN:VEVENT
DTSTART;VALUE=DATE:20160310
DTEND;VALUE=DATE:20160311
DTSTAMP:20260424T142417
CREATED:20151119T191610Z
LAST-MODIFIED:20151119T191610Z
UID:10000548-1457568000-1457654399@leadershipembodiment.com
SUMMARY:Learning Day with Wendy Palmer
DESCRIPTION:Join Wendy Palmer for a Leadership Embodiment Learning Day in the Cape Town region.  More information will be provided when the venue and times are confirmed.
URL:https://leadershipembodiment.com/event/learning-day-with-wendy-palmer/
LOCATION:Unnamed Venue\, Cape Town\, South Africa
CATEGORIES:South Africa
ORGANIZER;CN="Karen White":MAILTO:karen@thehumanconnection.co.za
GEO:-33.9248685;18.4240553
END:VEVENT
BEGIN:VEVENT
DTSTART;VALUE=DATE:20160302
DTEND;VALUE=DATE:20160306
DTSTAMP:20260424T142417
CREATED:20151119T191225Z
LAST-MODIFIED:20151119T191225Z
UID:10000547-1456876800-1457222399@leadershipembodiment.com
SUMMARY:Intensive Retreat with Wendy Palmer near Cape Town
DESCRIPTION:Join Wendy Palmer for an intensive retreat in the Cape Town region. The fee for the 4 day retreat includes accommodations and meals. Please note that you must have completed a Level 1 before attending a retreat. You may find a description of our retreats on the courses page. \nWhat the retreat offers: \n\nWorking with Leadership Embodiment practices that gives us relevant and useful information that is immediately transferable into life.\nDeveloping a sitting practice\, and with it the ability to make friends with ourselves.\nCrystallising and articulating a clear intention\, and using Bokkens (a sword) to cut the intention into place.\nBeing in community with others and learning from each other.\nA combination of depth and lightness that invites further personal development.\nExperiencing reactive patterns and creating valid alternatives that are more skillful and allow us to be more effective in life.\n\nGuided meditation – Wendy gently guides us during meditation offering a reminder to return to the present moment. Her style of leading a meditation is incredibly helpful for both beginners and long term meditators. She brings to the practice a simplicity\, ease\, and compassion\, and creates a safe container to explore whatever is arising. \n\n\nWhen \n2 – 5 March 2016\nstarts late afternoon/early evening on 2 March and ends at 11.00am on 5 March. \nVenue \nStill to be confirmed.  No more than a 2 hour drive from Cape Town \nNumber of Delegates \nA maximum of 15 people will be accommodated at the retreat. \nPricing \nR10 500 which is inclusive of teachings\, accommodation and food. \nA 50% deposit is required to secure the booking. \nEnquiries \nFor more information please contact Karen White\, at 021-532 3291 or at karen@thehumanconnection.co.za
URL:https://leadershipembodiment.com/event/intensive-retreat-with-wendy-palmer-cape-town/
CATEGORIES:South Africa
ATTACH;FMTTYPE=:
END:VEVENT
BEGIN:VEVENT
DTSTART;VALUE=DATE:20160203
DTEND;VALUE=DATE:20160205
DTSTAMP:20260424T142417
CREATED:20151029T223534Z
LAST-MODIFIED:20151029T223534Z
UID:10000525-1454457600-1454630399@leadershipembodiment.com
SUMMARY:Level 1 with Karen White and Lisa Hansford
DESCRIPTION:Join Karen White and Lisa Hansford in the Cape Town area of South Africa for a 2-day Level 1 workshop. \nDates: February 3rd & 4th\, 2016
URL:https://leadershipembodiment.com/event/level-1-with-karen-white-and-lisa-hansford-2/
LOCATION:Old Mutual House\, 33 Klaassens Rd\, Constantia\, Western Cape\, South Africa
CATEGORIES:South Africa
ORGANIZER;CN="Karen White":MAILTO:karen@thehumanconnection.co.za
END:VEVENT
BEGIN:VEVENT
DTSTART;VALUE=DATE:20151029
DTEND;VALUE=DATE:20151031
DTSTAMP:20260424T142417
CREATED:20150702T124956Z
LAST-MODIFIED:20150702T124956Z
UID:10000940-1446076800-1446249599@leadershipembodiment.com
SUMMARY:Level 1 with Julia Bonadei-Thorns
DESCRIPTION:Join Julia Bonadei-Thorns for a 2-day Level 1 workshop in Durban\, South Africa.  For more information see this flyer Level 1 in Durban. \nDates: 29 & 30 October 2015\nTimes: 9:00 am – 4:00 pm
URL:https://leadershipembodiment.com/event/level-1-with-julia-bonadei-thorns-2/
LOCATION:Makaranga\, 1 Igwababa Rd\, Kloof\, KZN\, 3640\, South Africa
CATEGORIES:South Africa
ORGANIZER;CN="Julia Bonadei-Thorns":MAILTO:julia@wideopenspaces.co.za
END:VEVENT
BEGIN:VEVENT
DTSTART;VALUE=DATE:20151021
DTEND;VALUE=DATE:20151024
DTSTAMP:20260424T142417
CREATED:20140221T200329Z
LAST-MODIFIED:20140221T200329Z
UID:10000822-1445385600-1445644799@leadershipembodiment.com
SUMMARY:9 Month LE Teacher Training (5th of 5 sessions)
DESCRIPTION:Wendy Palmer and Karen White will be leading a 9-month teacher training course in the Cape Town area of South Africa.  The course dates are:\n12 – 14 November\, 2014 (Led by Wendy Palmer)\n11 – 13 February\, 2015 (led by Karen White)\n15 – 17 April 2015 (led by Wendy Palmer)\n15 – 17 July 2015 (led by Karen White)\n21 – 23 October 2015 (led by Wendy Palmer) \nYou must have attended/completed a Leadership Embodiment Level 1\, Level 2\, and Retreat to register for this training.  \nAll sessions will take place at the Old Mutual House (map below).  Registration and enrollment fees will be handled by Karen White at The Human Connection (contact information below).  Please check out our calendar for opportunities to attend the prerequisite courses before November.
URL:https://leadershipembodiment.com/event/9-month-le-teacher-training-5th-of-5-sessions/
LOCATION:Old Mutual House\, 33 Klaassens Rd\, Constantia\, Western Cape\, South Africa
CATEGORIES:South Africa
ORGANIZER;CN="Karen White":MAILTO:karen@thehumanconnection.co.za
END:VEVENT
BEGIN:VEVENT
DTSTART;VALUE=DATE:20150929
DTEND;VALUE=DATE:20151001
DTSTAMP:20260424T142417
CREATED:20150702T210304Z
LAST-MODIFIED:20150702T210304Z
UID:10000942-1443484800-1443657599@leadershipembodiment.com
SUMMARY:Level 1 with Karen White and Lisa Hansford
DESCRIPTION:Join Karen White and Lisa Hansford for a 2-day workshop at Old Mutual House in the Cape Town area of South Africa.   \nDates: September 29 & 30\, 2015\nTimes: 9:30 am – 4:00 pm
URL:https://leadershipembodiment.com/event/level-1-with-karen-white-and-lisa-hansford/
LOCATION:Old Mutual House\, 33 Klaassens Rd\, Constantia\, Western Cape\, South Africa
CATEGORIES:South Africa
ORGANIZER;CN="Karen White":MAILTO:karen@thehumanconnection.co.za
END:VEVENT
BEGIN:VEVENT
DTSTART;VALUE=DATE:20150903
DTEND;VALUE=DATE:20150905
DTSTAMP:20260424T142417
CREATED:20150402T211059Z
LAST-MODIFIED:20150402T211059Z
UID:10000920-1441238400-1441411199@leadershipembodiment.com
SUMMARY:Level 1 with Karen White & Julia Bonadei-Thorns
DESCRIPTION:Karen White and Julia Bonadei-Thorns offer a Leadership Embodiment Level 1 at the Campbell House in Johannesburg. For a description of Level 1\, please see our Courses page.
URL:https://leadershipembodiment.com/event/level-1-with-karen-white-julia-bonadei-thorns/
LOCATION:Campbell House\, 2 Campbell St\, Johannesburg\, 2090\, South Africa
CATEGORIES:South Africa
ORGANIZER;CN="Karen White":MAILTO:karen@thehumanconnection.co.za
END:VEVENT
END:VCALENDAR