BEGIN:VCALENDAR
VERSION:2.0
PRODID:-//Leadership Embodiment - ECPv6.15.20//NONSGML v1.0//EN
CALSCALE:GREGORIAN
METHOD:PUBLISH
X-ORIGINAL-URL:https://leadershipembodiment.com
X-WR-CALDESC:Events for Leadership Embodiment
REFRESH-INTERVAL;VALUE=DURATION:PT1H
X-Robots-Tag:noindex
X-PUBLISHED-TTL:PT1H
BEGIN:VTIMEZONE
TZID:America/Los_Angeles
BEGIN:DAYLIGHT
TZOFFSETFROM:-0800
TZOFFSETTO:-0700
TZNAME:PDT
DTSTART:20240310T100000
END:DAYLIGHT
BEGIN:STANDARD
TZOFFSETFROM:-0700
TZOFFSETTO:-0800
TZNAME:PST
DTSTART:20241103T090000
END:STANDARD
BEGIN:DAYLIGHT
TZOFFSETFROM:-0800
TZOFFSETTO:-0700
TZNAME:PDT
DTSTART:20250309T100000
END:DAYLIGHT
BEGIN:STANDARD
TZOFFSETFROM:-0700
TZOFFSETTO:-0800
TZNAME:PST
DTSTART:20251102T090000
END:STANDARD
BEGIN:DAYLIGHT
TZOFFSETFROM:-0800
TZOFFSETTO:-0700
TZNAME:PDT
DTSTART:20260308T100000
END:DAYLIGHT
BEGIN:STANDARD
TZOFFSETFROM:-0700
TZOFFSETTO:-0800
TZNAME:PST
DTSTART:20261101T090000
END:STANDARD
END:VTIMEZONE
BEGIN:VEVENT
DTSTART;TZID=America/Los_Angeles:20250807T170000
DTEND;TZID=America/Los_Angeles:20250807T180000
DTSTAMP:20260423T235131
CREATED:20250718T143009Z
LAST-MODIFIED:20250718T143928Z
UID:10001178-1754586000-1754589600@leadershipembodiment.com
SUMMARY:LE Community Training - Speaking Up without Aggression or Collapsing
DESCRIPTION:Leadership Embodiment Community\nOnline Drop-in Training Sessions* \nExploring the practices of Leadership Embodiment together\nfacilitated by Paul Ciske & other LE Instructors \n2nd Thursdays each month (except August and November – 1st Thursdays) \nJoin our Asian\, West Coast and East Coast LE community in practice.\nThursdays\, 5-6pm Pacific time\n(note shorter time) \nMust register for link. Register once for any or all of the sessions. \nDATES: August 7 (1st Thursday)\, September 11\, October 9\, November 11 (1st Thursday)\, December 11 \n*Note: All are welcome to participate in these trainings. They accommodate all that are present from those familiar with the work to those new to it. \nAll online community trainings are offered on generosity. The generosity of sharing and the generosity of gratitude. Gratitude offerings can be sent through Venmo (@Paul-Ciske\, paul@paulciske.com)\, Pay Paul Ciske using PayPal.Me (USD; paul@paulciske.com)\, or Zelle (mobile number 510-912-5775\, paul@paulciske.com)\,Transferwise (Paul Everett Ciske\, paul@paulciske.com\, 510-912-5775). \n \nPaul E. Ciske\, Ph.D.\, MATm\, RTSm\nYour Well-Being\,\nMuscle Activation Techniques\nZ-Health Performance Solutions\nPersonal Fitness Coaching\nwww.paulciske.com\nwww.muscleactivation.com\nwww.pdtrusa.com/\nwww.resistancetrainingspecialist.com\nwww.zhealth.net \nNorth America\, Asia\, Online
URL:https://leadershipembodiment.com/event/le-community-training-speaking-up-without-aggression-or-collapsing/
LOCATION:Online
CATEGORIES:North America,Asia,Online
ORGANIZER;CN="Paul Ciske":MAILTO:paul@paulciske.com
END:VEVENT
END:VCALENDAR