BEGIN:VCALENDAR
VERSION:2.0
PRODID:-//Leadership Embodiment - ECPv6.15.20//NONSGML v1.0//EN
CALSCALE:GREGORIAN
METHOD:PUBLISH
X-ORIGINAL-URL:https://leadershipembodiment.com
X-WR-CALDESC:Events for Leadership Embodiment
REFRESH-INTERVAL;VALUE=DURATION:PT1H
X-Robots-Tag:noindex
X-PUBLISHED-TTL:PT1H
BEGIN:VTIMEZONE
TZID:America/Los_Angeles
BEGIN:DAYLIGHT
TZOFFSETFROM:-0800
TZOFFSETTO:-0700
TZNAME:PDT
DTSTART:20250309T100000
END:DAYLIGHT
BEGIN:STANDARD
TZOFFSETFROM:-0700
TZOFFSETTO:-0800
TZNAME:PST
DTSTART:20251102T090000
END:STANDARD
BEGIN:DAYLIGHT
TZOFFSETFROM:-0800
TZOFFSETTO:-0700
TZNAME:PDT
DTSTART:20260308T100000
END:DAYLIGHT
BEGIN:STANDARD
TZOFFSETFROM:-0700
TZOFFSETTO:-0800
TZNAME:PST
DTSTART:20261101T090000
END:STANDARD
BEGIN:DAYLIGHT
TZOFFSETFROM:-0800
TZOFFSETTO:-0700
TZNAME:PDT
DTSTART:20270314T100000
END:DAYLIGHT
BEGIN:STANDARD
TZOFFSETFROM:-0700
TZOFFSETTO:-0800
TZNAME:PST
DTSTART:20271107T090000
END:STANDARD
END:VTIMEZONE
BEGIN:VTIMEZONE
TZID:Europe/Amsterdam
BEGIN:DAYLIGHT
TZOFFSETFROM:+0100
TZOFFSETTO:+0200
TZNAME:CEST
DTSTART:20250330T010000
END:DAYLIGHT
BEGIN:STANDARD
TZOFFSETFROM:+0200
TZOFFSETTO:+0100
TZNAME:CET
DTSTART:20251026T010000
END:STANDARD
BEGIN:DAYLIGHT
TZOFFSETFROM:+0100
TZOFFSETTO:+0200
TZNAME:CEST
DTSTART:20260329T010000
END:DAYLIGHT
BEGIN:STANDARD
TZOFFSETFROM:+0200
TZOFFSETTO:+0100
TZNAME:CET
DTSTART:20261025T010000
END:STANDARD
BEGIN:DAYLIGHT
TZOFFSETFROM:+0100
TZOFFSETTO:+0200
TZNAME:CEST
DTSTART:20270328T010000
END:DAYLIGHT
BEGIN:STANDARD
TZOFFSETFROM:+0200
TZOFFSETTO:+0100
TZNAME:CET
DTSTART:20271031T010000
END:STANDARD
END:VTIMEZONE
BEGIN:VEVENT
DTSTART;VALUE=DATE:20260501
DTEND;VALUE=DATE:20260503
DTSTAMP:20260423T141109
CREATED:20251230T153356Z
LAST-MODIFIED:20251230T153356Z
UID:10001204-1777593600-1777766399@leadershipembodiment.com
SUMMARY:Leadership Embodiment Level 2 with Paul King (in English)
DESCRIPTION:Join Paul in Vienna\, Austria for a 2-day Leadership Embodiment Level 2. You must have completed a Level 1 before enrolling in a Level 2. For a description of a Level 2\, please see our Public Courses page. \nDates: 1-2 May 2026
URL:https://leadershipembodiment.com/event/leadership-embodiment-level-2-with-paul-king-in-english-2/
LOCATION:Vienna Venue\, Vienna\, Austria
CATEGORIES:Europe
ORGANIZER;CN="Paul King":MAILTO:info@thebeyondpartnership.co.uk
GEO:48.2081743;16.3738189
END:VEVENT
BEGIN:VEVENT
DTSTART;VALUE=DATE:20260503
DTEND;VALUE=DATE:20260505
DTSTAMP:20260423T141109
CREATED:20251230T153102Z
LAST-MODIFIED:20260209T165502Z
UID:10001203-1777766400-1777939199@leadershipembodiment.com
SUMMARY:Leadership Embodiment Level 1 with Paul King (in English)
DESCRIPTION:Join Paul in Vienna\, Austria for a 2-day Leadership Embodiment Level 1. For a description of a Level 1\, please see our Public Courses page. \nDates: 3-4 May 2026
URL:https://leadershipembodiment.com/event/leadership-embodiment-level-1-with-paul-king-in-english-4/
LOCATION:Vienna Venue\, Vienna\, Austria
CATEGORIES:Europe
ORGANIZER;CN="Paul King":MAILTO:info@thebeyondpartnership.co.uk
GEO:48.2081743;16.3738189
END:VEVENT
BEGIN:VEVENT
DTSTART;VALUE=DATE:20260505
DTEND;VALUE=DATE:20260506
DTSTAMP:20260423T141109
CREATED:20260119T173256Z
LAST-MODIFIED:20260119T173256Z
UID:10001212-1777939200-1778025599@leadershipembodiment.com
SUMMARY:Leadership Embodiment Level 1 with Pierre Goirand (in French)
DESCRIPTION:Join Pierre in Paris for a 2-Day Leadership Embodiment Level 1. This course will be led in French. For a description of a Level 1\, please see our Public Courses page. For more information or to register\, please CLICK HERE. \nDates: 5 May 2026 and 1 June 2026
URL:https://leadershipembodiment.com/event/leadership-embodiment-level-1-with-pierre-goirand-in-french-3/
LOCATION:Paris\, France
CATEGORIES:Europe
ORGANIZER;CN="Pierre Goirand":MAILTO:contact@presenceleadership.net
END:VEVENT
BEGIN:VEVENT
DTSTART;TZID=Europe/Amsterdam:20260507T170000
DTEND;TZID=Europe/Amsterdam:20260507T180000
DTSTAMP:20260423T141109
CREATED:20260326T154033Z
LAST-MODIFIED:20260326T154354Z
UID:10001222-1778173200-1778176800@leadershipembodiment.com
SUMMARY:LECT Taster Session with Anouk Brack (in English)
DESCRIPTION:Join this free 1‑hour online LECT Taster Session for coaches\, trainers and facilitators who are curious if the Leadership Embodiment Coach Training (LECT) is right for them. You’ll get a clear explanation of what LECT is and how you can use embodied leadership in your work\, experience a few simple Leadership Embodiment practices yourself\, and have plenty of space for your questions in an open Q&A. \nTo register\, please CLICK HERE. \nDate: 7 May 2026 \n \nOnline
URL:https://leadershipembodiment.com/event/lect-taster-session-with-anouk-brack-in-english/
LOCATION:Online
CATEGORIES:Europe,Online
ORGANIZER;CN="Anouk Brack":MAILTO:Anouk.Brack@anouka.nl
END:VEVENT
BEGIN:VEVENT
DTSTART;TZID=America/Los_Angeles:20260514T170000
DTEND;TZID=America/Los_Angeles:20260514T180000
DTSTAMP:20260423T141109
CREATED:20260302T180923Z
LAST-MODIFIED:20260302T180923Z
UID:10001220-1778778000-1778781600@leadershipembodiment.com
SUMMARY:LE Community Training - May the SPACE Be with You!
DESCRIPTION:Leadership Embodiment Community\nOnline Drop-in Training Sessions* \nExploring the practices of Leadership Embodiment together\nfacilitated by Paul Ciske & other LE Instructors \n2nd Thursdays each month \nJoin our Asian\, West Coast and East Coast LE community in practice.\nThursdays\, 5-6pm Pacific time\n(note shorter time) \nMust register for link. Register once for any or all of the sessions. \nDATE: May 14 \n*Note: All are welcome to participate in these trainings. They accommodate all that are present from those familiar with the work to those new to it. \nAll online community trainings are offered on generosity. The generosity of sharing and the generosity of gratitude. Gratitude offerings can be sent through Venmo (@Paul-Ciske\, paul@paulciske.com)\, Pay Paul Ciske using PayPal.Me (USD; paul@paulciske.com)\, or Zelle (mobile number 510-912-5775\, paul@paulciske.com)\,Transferwise (Paul Everett Ciske\, paul@paulciske.com\, 510-912-5775). \n \nPaul E. Ciske\, Ph.D.\, MATm\, RTSm\nYour Well-Being\,\nMuscle Activation Techniques\nZ-Health Performance Solutions\nPersonal Fitness Coaching\nwww.paulciske.com\nwww.muscleactivation.com\nwww.pdtrusa.com/\nwww.resistancetrainingspecialist.com\nwww.zhealth.net \nNorth America\, Asia\, Online
URL:https://leadershipembodiment.com/event/le-community-training-may-the-space-be-with-you/
LOCATION:Online
CATEGORIES:North America,Asia,Online
ORGANIZER;CN="Paul Ciske":MAILTO:paul@paulciske.com
END:VEVENT
BEGIN:VEVENT
DTSTART;VALUE=DATE:20260518
DTEND;VALUE=DATE:20260520
DTSTAMP:20260423T141109
CREATED:20250320T164248Z
LAST-MODIFIED:20260119T174505Z
UID:10001160-1779062400-1779235199@leadershipembodiment.com
SUMMARY:Leadership Embodiment Level 2 with Pierre Goirand (in French)
DESCRIPTION:Join Pierre in Paris for a 2-Day Leadership Embodiment Level 2 course which will be taught in French. You must have completed a Level 1 before enrolling in a Level 2.  For a description of a Level 2\, please see our Public Courses page. For more information and to register\, please CLICK HERE. \nDates: May 18-19\, 2026 \n \nEurope
URL:https://leadershipembodiment.com/event/leadership-embodiment-level-2-with-pierre-goirand-in-french/
LOCATION:Institut Protestant de Paris\, 83 Boulevard Arago\, Paris\, 75014\, France
CATEGORIES:Europe
ORGANIZER;CN="Pierre Goirand":MAILTO:contact@presenceleadership.net
END:VEVENT
END:VCALENDAR