BEGIN:VCALENDAR
VERSION:2.0
PRODID:-//Leadership Embodiment - ECPv6.15.20//NONSGML v1.0//EN
CALSCALE:GREGORIAN
METHOD:PUBLISH
X-WR-CALNAME:Leadership Embodiment
X-ORIGINAL-URL:https://leadershipembodiment.com
X-WR-CALDESC:Events for Leadership Embodiment
REFRESH-INTERVAL;VALUE=DURATION:PT1H
X-Robots-Tag:noindex
X-PUBLISHED-TTL:PT1H
BEGIN:VTIMEZONE
TZID:America/Los_Angeles
BEGIN:DAYLIGHT
TZOFFSETFROM:-0800
TZOFFSETTO:-0700
TZNAME:PDT
DTSTART:20180311T100000
END:DAYLIGHT
BEGIN:STANDARD
TZOFFSETFROM:-0700
TZOFFSETTO:-0800
TZNAME:PST
DTSTART:20181104T090000
END:STANDARD
BEGIN:DAYLIGHT
TZOFFSETFROM:-0800
TZOFFSETTO:-0700
TZNAME:PDT
DTSTART:20190310T100000
END:DAYLIGHT
BEGIN:STANDARD
TZOFFSETFROM:-0700
TZOFFSETTO:-0800
TZNAME:PST
DTSTART:20191103T090000
END:STANDARD
BEGIN:DAYLIGHT
TZOFFSETFROM:-0800
TZOFFSETTO:-0700
TZNAME:PDT
DTSTART:20200308T100000
END:DAYLIGHT
BEGIN:STANDARD
TZOFFSETFROM:-0700
TZOFFSETTO:-0800
TZNAME:PST
DTSTART:20201101T090000
END:STANDARD
END:VTIMEZONE
BEGIN:VTIMEZONE
TZID:America/New_York
BEGIN:DAYLIGHT
TZOFFSETFROM:-0500
TZOFFSETTO:-0400
TZNAME:EDT
DTSTART:20180311T070000
END:DAYLIGHT
BEGIN:STANDARD
TZOFFSETFROM:-0400
TZOFFSETTO:-0500
TZNAME:EST
DTSTART:20181104T060000
END:STANDARD
BEGIN:DAYLIGHT
TZOFFSETFROM:-0500
TZOFFSETTO:-0400
TZNAME:EDT
DTSTART:20190310T070000
END:DAYLIGHT
BEGIN:STANDARD
TZOFFSETFROM:-0400
TZOFFSETTO:-0500
TZNAME:EST
DTSTART:20191103T060000
END:STANDARD
BEGIN:DAYLIGHT
TZOFFSETFROM:-0500
TZOFFSETTO:-0400
TZNAME:EDT
DTSTART:20200308T070000
END:DAYLIGHT
BEGIN:STANDARD
TZOFFSETFROM:-0400
TZOFFSETTO:-0500
TZNAME:EST
DTSTART:20201101T060000
END:STANDARD
END:VTIMEZONE
BEGIN:VTIMEZONE
TZID:Asia/Singapore
BEGIN:STANDARD
TZOFFSETFROM:+0800
TZOFFSETTO:+0800
TZNAME:+08
DTSTART:20180101T000000
END:STANDARD
END:VTIMEZONE
BEGIN:VEVENT
DTSTART;VALUE=DATE:20190620
DTEND;VALUE=DATE:20190622
DTSTAMP:20260425T202808
CREATED:20181102T221947Z
LAST-MODIFIED:20181102T221947Z
UID:10000264-1560988800-1561161599@leadershipembodiment.com
SUMMARY:Level 2 with Pierre Goirand
DESCRIPTION:Join Pierre Goirand for a 2-Day Leadership Embodiment Level 2 course in Berlin\, Germany.  You must have completed a Level 1 before enrolling in a Level 2.  For more information\, please click here.   \nThis course will be taught in English.  \nDates: 20-21 June 2019
URL:https://leadershipembodiment.com/event/level-2-with-pierre-goirand-9/
LOCATION:Pilates Lab Berlin\, Choriner Str. 31\, Berlin\, 10435\, Germany
CATEGORIES:Europe
ATTACH;FMTTYPE=:
ORGANIZER;CN="Facilitation Academy":MAILTO:kontakt@facilitation-academy.de
END:VEVENT
BEGIN:VEVENT
DTSTART;VALUE=DATE:20190618
DTEND;VALUE=DATE:20190620
DTSTAMP:20260425T202808
CREATED:20190419T161349Z
LAST-MODIFIED:20190419T161349Z
UID:10000307-1560816000-1560988799@leadershipembodiment.com
SUMMARY:Level 1 with Julia Bonadei
DESCRIPTION:Join Julia for a 2-Day Level 1 in Johannesburg.  For a description of a Level 1\, please see our courses page.  For more information or to register\, please click here.  \nDates: 18-19 June 2019
URL:https://leadershipembodiment.com/event/level-1-with-julia-bonadei-3/
LOCATION:Living  Essence Coaching and Mindfulness\, 17 Cambridge Ave\, Craighall Park\, Johannesburg\, South Africa
CATEGORIES:South Africa
ATTACH;FMTTYPE=:
ORGANIZER;CN="Julia Bonadei":MAILTO:julia@wideopenspaces.co.za
END:VEVENT
BEGIN:VEVENT
DTSTART;TZID=America/New_York:20190615T093000
DTEND;TZID=America/New_York:20190615T163000
DTSTAMP:20260425T202808
CREATED:20190315T162906Z
LAST-MODIFIED:20190315T162906Z
UID:10000300-1560591000-1560616200@leadershipembodiment.com
SUMMARY:Women Together Spring Series with Wendy Palmer & Others
DESCRIPTION:Join Wendy Palmer and others for a one-day event offered by the Eileen Fisher Learning Lab in Irvington\, New York.  Experience it by live-streaming online or attending in person.  For more information or to register\, please click here.   \nDate: June 15\, 2019\nTime: 9:30am-4:30pm ET
URL:https://leadershipembodiment.com/event/women-together-spring-series-with-wendy-palmer-others/
LOCATION:EILEEN FISHER LIFEWORK\, 50 SOUTH BUCKHOUT STREET\, #102\, IRVINGTON\, NY\, 10533\, United States
CATEGORIES:North America
ATTACH;FMTTYPE=:
ORGANIZER;CN="Eileen Fisher Learning Lab":MAILTO:customerservice@eileenfisherlearninglab.com
GEO:41.0374066;-73.8727329
X-APPLE-STRUCTURED-LOCATION;VALUE=URI;X-ADDRESS=EILEEN FISHER LIFEWORK 50 SOUTH BUCKHOUT STREET #102 IRVINGTON NY 10533 United States;X-APPLE-RADIUS=500;X-TITLE=50 SOUTH BUCKHOUT STREET\, #102:geo:-73.8727329,41.0374066
END:VEVENT
BEGIN:VEVENT
DTSTART;VALUE=DATE:20190613
DTEND;VALUE=DATE:20190615
DTSTAMP:20260425T202808
CREATED:20181116T190822Z
LAST-MODIFIED:20181116T190822Z
UID:10000274-1560384000-1560556799@leadershipembodiment.com
SUMMARY:Level 2 with Anouk Brack
DESCRIPTION:Join Anouk for a 2-Day Level 2 Intermediate course in Arnhem\, the Netherlands. You must have completed a Level 1 before enrolling in a Level 2.  For a description of a Level 2\, please see our courses page.  \nDates: 13-14 June 2019 \nMore information and registration via anouk.brack@anouka.nl
URL:https://leadershipembodiment.com/event/level-2-with-anouk-brack-4/
LOCATION:Arnhem Venue\, Arnhem\, Netherlands
CATEGORIES:Europe
ATTACH;FMTTYPE=:
ORGANIZER;CN="Anouk Brack":MAILTO:Anouk.Brack@anouka.nl
END:VEVENT
BEGIN:VEVENT
DTSTART;VALUE=DATE:20190608
DTEND;VALUE=DATE:20190610
DTSTAMP:20260425T202808
CREATED:20190201T193148Z
LAST-MODIFIED:20190201T193148Z
UID:10000289-1559952000-1560124799@leadershipembodiment.com
SUMMARY:Level 1 with Paul King
DESCRIPTION:Join Paul King for a 2-Day Level 1 in Yorkshire\, UK. For a description of a Level 1\, please see our courses page.  \nDates: 8-9 June 2019
URL:https://leadershipembodiment.com/event/level-1-with-paul-king-34/
LOCATION:Yorkshire Venue\, Yorkshire\, United Kingdom
CATEGORIES:Europe
ATTACH;FMTTYPE=:
ORGANIZER;CN="Paul King":MAILTO:info@thebeyondpartnership.co.uk
GEO:53.699081;-1.1228683
END:VEVENT
BEGIN:VEVENT
DTSTART;VALUE=DATE:20190603
DTEND;VALUE=DATE:20190607
DTSTAMP:20260425T202808
CREATED:20180725T184135Z
LAST-MODIFIED:20180725T184135Z
UID:10000243-1559520000-1559865599@leadershipembodiment.com
SUMMARY:Intensive Retreat with Wendy Palmer
DESCRIPTION:Join Wendy for a very special Intensive Retreat in a peaceful and relaxed country environment in San Martin\, California.  This retreat is limited to 10 attendees\, so to insure your spot\, enroll early.  You must have completed both a Level 1 and Level 2 to attend a retreat.  You may register for the retreat before you have completed both Level 1 and Level 2 as long as you are confirmed for completing these courses previous to the retreat.  The retreat includes lodging and meals. Food is provided for communal meal preparation in a private kitchen. Lodging includes 5 private rooms (first come\, first serve)\, 1 shared room with 2 beds (women only)\, and 1 shared room with 2 beds (men only).  If you opt for a shared room\, there is a $150 discount applied and the full cost for the retreat is reduced to $1\,050. \nDates: 3 – 6 June 2019\nArrival: June 3rd between 3:00pm and 4:00pm\nClosing: June 6th at 11:00am \nFor more information about our retreats\, please see our courses page.  \nTo register\, please contact the organizer listed below. The total cost is $1\,200 for the retreat or $1\,050 for a shared room.
URL:https://leadershipembodiment.com/event/intensive-retreat-with-wendy-palmer-13/
LOCATION:Bahrenfeld
CATEGORIES:North America
ATTACH;FMTTYPE=:
ORGANIZER;CN="Lynda Ray":MAILTO:office@leadershipembodiment.com
END:VEVENT
BEGIN:VEVENT
DTSTART;VALUE=DATE:20190603
DTEND;VALUE=DATE:20190605
DTSTAMP:20260425T202808
CREATED:20180511T205443Z
LAST-MODIFIED:20180511T205443Z
UID:10000229-1559520000-1559692799@leadershipembodiment.com
SUMMARY:Level 2 with Pierre Goirand
DESCRIPTION:Join Pierre Goirand in Paris for a 2-Day Level 2.  You must have completed a Level 1 before attending a Level 2. For descriptions of Level 1 & 2\, please see our courses page. To register\, you may click here. This course is led in French. \nDates: 3-4 June 2019
URL:https://leadershipembodiment.com/event/level-2-with-pierre-goirand-7/
LOCATION:Protestant Institute of Paris\, 83 Boulevard Arago\, Paris\, 75014\, France
CATEGORIES:Europe
ATTACH;FMTTYPE=:
ORGANIZER;CN="Pierre Goirand":MAILTO:contact@presenceleadership.net
END:VEVENT
BEGIN:VEVENT
DTSTART;VALUE=DATE:20190529
DTEND;VALUE=DATE:20190531
DTSTAMP:20260425T202808
CREATED:20190417T210657Z
LAST-MODIFIED:20190417T210657Z
UID:10000305-1559088000-1559260799@leadershipembodiment.com
SUMMARY:Level 1 with Karen White
DESCRIPTION:Join Karen for a 2-Day Level 1 in Johannesburg.  For a description of a Level 1\, please see our courses page. For more information\, please see this flyer. \nDates: 29-30 May 2019
URL:https://leadershipembodiment.com/event/level-1-with-karen-white-4/
LOCATION:Campbell House\, 2 Campbell St\, Johannesburg\, 2090\, South Africa
CATEGORIES:South Africa
ATTACH;FMTTYPE=:
ORGANIZER;CN="Karen White":MAILTO:karen@thehumanconnection.co.za
END:VEVENT
BEGIN:VEVENT
DTSTART;VALUE=DATE:20190524
DTEND;VALUE=DATE:20190528
DTSTAMP:20260425T202808
CREATED:20190107T142656Z
LAST-MODIFIED:20190107T142656Z
UID:10000286-1558656000-1559001599@leadershipembodiment.com
SUMMARY:Wendy at The Super Qi Summit at Omega
DESCRIPTION:Wendy Palmer will be a workshop leader at the Super Qi Summit in Rhinebeck\, New York.  This 4-Day program offers onsite accommodations for those interested in lodging.  For more information and to register\, please click here.  \nDates: 24 – 27 May 2019
URL:https://leadershipembodiment.com/event/workshop-with-wendy-palmer/
LOCATION:Omega Institute\, 150 Lake Drive\, Rhinebeck\, NY\, 12572\, United States
CATEGORIES:North America
ATTACH;FMTTYPE=:
END:VEVENT
BEGIN:VEVENT
DTSTART;VALUE=DATE:20190524
DTEND;VALUE=DATE:20190526
DTSTAMP:20260425T202808
CREATED:20181203T143614Z
LAST-MODIFIED:20181203T143614Z
UID:10000282-1558656000-1558828799@leadershipembodiment.com
SUMMARY:Level 1 with Ched Lee
DESCRIPTION:Join Ched for a 2-Day Level 1 in Singapore.  For a description of a Level 1\, please see our courses page.   \nFor registration and more information\, see www.leadershipembodimentasia.com \nDates: 24-25 May 2019 (9am to 5pm)
URL:https://leadershipembodiment.com/event/level-1-with-ched-lee-5/
LOCATION:Singapore Venue\, Singapore
CATEGORIES:Asia
ATTACH;FMTTYPE=:
ORGANIZER;CN="Ched Lee":MAILTO:ched@chedlee.com
GEO:1.352083;103.819836
END:VEVENT
BEGIN:VEVENT
DTSTART;VALUE=DATE:20190520
DTEND;VALUE=DATE:20190522
DTSTAMP:20260425T202808
CREATED:20181105T175622Z
LAST-MODIFIED:20181105T175622Z
UID:10000265-1558310400-1558483199@leadershipembodiment.com
SUMMARY:Level 1 with Ute Kühlmann and Kerstin Härer
DESCRIPTION:Join Ute Kühlmann and Kerstin Härer for a 2-Day Level 1 at the Chiemsee near Munich\, Germany. This course will be led in German. For a description of a Level 1\, please see our courses page.  \nDates: 20-21 May 2019
URL:https://leadershipembodiment.com/event/level-1-with-ute-kuhlmann-and-kerstin-harer/
LOCATION:Seminar- und Freizeithaus Aiterbach am Chiemsee\, Aiterbach 2\, Rimsting\, 83253\, Germany
CATEGORIES:Europe
ATTACH;FMTTYPE=:
ORGANIZER;CN="Ute K%C3%BChlmann":MAILTO:info@leadershipembodiment.de
END:VEVENT
BEGIN:VEVENT
DTSTART;VALUE=DATE:20190516
DTEND;VALUE=DATE:20190518
DTSTAMP:20260425T202808
CREATED:20181105T185744Z
LAST-MODIFIED:20181105T185744Z
UID:10000266-1557964800-1558137599@leadershipembodiment.com
SUMMARY:Level 1 with Ute Kühlmann and Marie Harder
DESCRIPTION:Join Ute Kühlmann and Marie Harder for a 2-Day Level 1 in Hamburg\, Germany. This course will be led in German. For a description of a Level 1\, please see our courses page.  \nDates 16-17 May 2019
URL:https://leadershipembodiment.com/event/level-1-with-ute-kuhlmann-and-marie-harder/
LOCATION:Kyodo Dojo\, Mendelssohnstrasse 15b\, Hamburg\, Bahrenfeld\, 22761\, Germany
CATEGORIES:Europe
ATTACH;FMTTYPE=:
ORGANIZER;CN="Ute K%C3%BChlmann":MAILTO:info@leadershipembodiment.de
END:VEVENT
BEGIN:VEVENT
DTSTART;VALUE=DATE:20190511
DTEND;VALUE=DATE:20190513
DTSTAMP:20260425T202808
CREATED:20181123T163652Z
LAST-MODIFIED:20181123T163652Z
UID:10000278-1557532800-1557705599@leadershipembodiment.com
SUMMARY:Level 1 with Olivia Cheever and Elizabeth Valentine
DESCRIPTION:Join Olivia & Elizabeth for a 2-Day Level 1 in Westwood\, MA.  For a description of a Level 1\, please see our courses page.  \nDates: 11-12 May 2019
URL:https://leadershipembodiment.com/event/level-1-with-olivia-cheever-and-elizabeth-valentine-5/
LOCATION:Center at Westwoods\, 590 Gay Street\, Westwood\, MA\, 02090\, United States
CATEGORIES:North America
ATTACH;FMTTYPE=:
ORGANIZER;CN="Elizabeth Valentine & Olivia Cheever":MAILTO:valentine.ev@gmail.com
GEO:42.2219368;-71.1962182
X-APPLE-STRUCTURED-LOCATION;VALUE=URI;X-ADDRESS=Center at Westwoods 590 Gay Street Westwood MA 02090 United States;X-APPLE-RADIUS=500;X-TITLE=590 Gay Street:geo:-71.1962182,42.2219368
END:VEVENT
BEGIN:VEVENT
DTSTART;VALUE=DATE:20190509
DTEND;VALUE=DATE:20190511
DTSTAMP:20260425T202808
CREATED:20190201T192815Z
LAST-MODIFIED:20190201T192815Z
UID:10000288-1557360000-1557532799@leadershipembodiment.com
SUMMARY:Level 1 with Paul King
DESCRIPTION:Join Paul King for a 2-Day Level 1 in Basel\, Switzerland. For a description of a Level 1\, please see our courses page. \nDates: 9-10 May 2019
URL:https://leadershipembodiment.com/event/level-1-with-paul-king-33/
LOCATION:Basel Venue\, Basel\, Switzerland
CATEGORIES:Europe
ATTACH;FMTTYPE=:
ORGANIZER;CN="Paul King":MAILTO:info@thebeyondpartnership.co.uk
END:VEVENT
BEGIN:VEVENT
DTSTART;VALUE=DATE:20190509
DTEND;VALUE=DATE:20190510
DTSTAMP:20260425T202808
CREATED:20181116T190349Z
LAST-MODIFIED:20181116T190349Z
UID:10000273-1557360000-1557446399@leadershipembodiment.com
SUMMARY:Level 1 with Anouk Brack (Day 1 of 2)
DESCRIPTION:Join Anouk for a 2-Day Level 1 in Arnhem\, the Netherlands. For a description of a Level 1\, please see our courses page.   \nDay 1: 9 May 2019\nDay 2: 16 May 2019 \nMore information and registration via anouk.brack@anouka.nl
URL:https://leadershipembodiment.com/event/level-1-with-anouk-brack-day-1-of-2-3/
LOCATION:Arnhem Venue\, Arnhem\, Netherlands
CATEGORIES:Europe
ATTACH;FMTTYPE=:
ORGANIZER;CN="Anouk Brack":MAILTO:Anouk.Brack@anouka.nl
END:VEVENT
BEGIN:VEVENT
DTSTART;VALUE=DATE:20190504
DTEND;VALUE=DATE:20190506
DTSTAMP:20260425T202808
CREATED:20190306T165135Z
LAST-MODIFIED:20190306T165135Z
UID:10000297-1556928000-1557100799@leadershipembodiment.com
SUMMARY:Level 2 with Paul Ciske
DESCRIPTION:Join Paul for a 2-day Level 2 near Lake Merritt in Oakland. You must have completed a Level 1 before attending a Level 2. For a description of Level 2\, please see our courses page. \nDates: 4-5 May 2019\nTimes: 9:30am – 5pm \nPrice:\n$550.00 until March 23rd\n$600.00 After April 27th \nPayment:\nPaypal to: paul@paulciske.com\n(Please use “Pay to Friends” feature if possible.)\nCheck – please mail check to:\nPaul Ciske\n351 Santa Clara Ave\nOakland\, CA 94610 \nPlease email all inquiries to paul@paulciske.com\nwith the subject heading of:\nLE Level 2 OAKLAND
URL:https://leadershipembodiment.com/event/level-2-with-paul-ciske/
LOCATION:Lake Merritt Venue\, Oakland\, CA\, United States
CATEGORIES:North America
ATTACH;FMTTYPE=:
ORGANIZER;CN="Paul Ciske":MAILTO:paulciske@sbcglobal.net
END:VEVENT
BEGIN:VEVENT
DTSTART;VALUE=DATE:20190429
DTEND;VALUE=DATE:20190501
DTSTAMP:20260425T202808
CREATED:20180207T214945Z
LAST-MODIFIED:20180207T214945Z
UID:10000209-1556496000-1556668799@leadershipembodiment.com
SUMMARY:Level 1 with Pierre Goirand
DESCRIPTION:Join Pierre Goirand for a 2-Day Level 1 in Köln\, Germany. For a description of a Level 1\, please see our courses page. To register or for more information\, please contact the organizer\, Holger Scholtz\, as listed below.
URL:https://leadershipembodiment.com/event/level-1-with-pierre-goirand-7/
LOCATION:Köln\, Germany Venue\, Köln\, Germany
CATEGORIES:Europe
ATTACH;FMTTYPE=:
ORGANIZER;CN="Holger Scholz":MAILTO:holger.scholz@kommunikationslotsen.de
GEO:50.937531;6.9602786
END:VEVENT
BEGIN:VEVENT
DTSTART;VALUE=DATE:20190426
DTEND;VALUE=DATE:20190428
DTSTAMP:20260425T202808
CREATED:20181203T143340Z
LAST-MODIFIED:20181203T143340Z
UID:10000281-1556236800-1556409599@leadershipembodiment.com
SUMMARY:Level 1 with Ched Lee
DESCRIPTION:Join Ched for a 2-Day Level 1 in Singapore.  For a description of a Level 1\, please see our courses page.   \nFor registration and more information\, see www.leadershipembodimentasia.com \nDates: 26-27 April 2019
URL:https://leadershipembodiment.com/event/level-1-with-ched-lee-4/
LOCATION:Singapore Venue\, Singapore
CATEGORIES:Asia
ATTACH;FMTTYPE=:
ORGANIZER;CN="Ched Lee":MAILTO:ched@chedlee.com
GEO:1.352083;103.819836
END:VEVENT
BEGIN:VEVENT
DTSTART;VALUE=DATE:20190419
DTEND;VALUE=DATE:20190421
DTSTAMP:20260425T202808
CREATED:20181024T192354Z
LAST-MODIFIED:20181024T192354Z
UID:10000260-1555632000-1555804799@leadershipembodiment.com
SUMMARY:Level 2 with Maud Raber
DESCRIPTION:Join Maud for a 2-Day Level 2 in Moscow. You must have completed a Level 1 before enrolling in a Level 2. For descriptions of Level 1 and Level 2\, please see our courses page.  \nFor more information\, please click here.  \nDates: 19-20 April 2019
URL:https://leadershipembodiment.com/event/level-2-with-maud-raber-2/
LOCATION:Moscow Venue\, TBD\, Moscow\, Russian Federation
CATEGORIES:Europe
ATTACH;FMTTYPE=:
ORGANIZER;CN="Maud Raber":MAILTO:maud@embodied-potential.com
GEO:55.833058;37.6391749
X-APPLE-STRUCTURED-LOCATION;VALUE=URI;X-ADDRESS=Moscow Venue TBD Moscow Russian Federation;X-APPLE-RADIUS=500;X-TITLE=TBD:geo:37.6391749,55.833058
END:VEVENT
BEGIN:VEVENT
DTSTART;VALUE=DATE:20190417
DTEND;VALUE=DATE:20190419
DTSTAMP:20260425T202808
CREATED:20181102T211853Z
LAST-MODIFIED:20181102T211853Z
UID:10000262-1555459200-1555631999@leadershipembodiment.com
SUMMARY:Level 2 with RJ Jennings & Sahar Azarabadi
DESCRIPTION:Join RJ and Sahar for a 2-Day Level 2 in the SF Bay area.  You must have completed a Level 1 before enrolling in a Level 2.   \nDates: 17-18 April 2019 \nVenue: TBA
URL:https://leadershipembodiment.com/event/level-2-with-rj-jennings-sahar-azarabadi/
LOCATION:SF Bay Area\, CA\, United States
CATEGORIES:North America
ATTACH;FMTTYPE=:
ORGANIZER;CN="Sahar Azarabadi":MAILTO:Sahar@AnthosSolutions.com
END:VEVENT
BEGIN:VEVENT
DTSTART;VALUE=DATE:20190404
DTEND;VALUE=DATE:20190406
DTSTAMP:20260425T202808
CREATED:20190206T182315Z
LAST-MODIFIED:20190206T182315Z
UID:10000291-1554336000-1554508799@leadershipembodiment.com
SUMMARY:Level 1 with Miryam Chavarria Romero
DESCRIPTION:Join Miryam for a 2-Day Level 1 in Seattle\, Washington. For a description of a Level 1\, go to our courses page.  For more information including cost and registration\, please see this flyer.  \nDates: 4-5 April 2019
URL:https://leadershipembodiment.com/event/level-1-with-miryam-chavarria-romero-2/
LOCATION:Aikido Seattle\, 1004 Turner Way E.\, Seattle\, WA\, 98112\, United States
CATEGORIES:North America
ATTACH;FMTTYPE=:
ORGANIZER;CN="Miryam Chavarria Romero":MAILTO:miryam@phoenixleadershipcoaching.com
GEO:47.6276129;-122.3019779
X-APPLE-STRUCTURED-LOCATION;VALUE=URI;X-ADDRESS=Aikido Seattle 1004 Turner Way E. Seattle WA 98112 United States;X-APPLE-RADIUS=500;X-TITLE=1004 Turner Way E.:geo:-122.3019779,47.6276129
END:VEVENT
BEGIN:VEVENT
DTSTART;VALUE=DATE:20190330
DTEND;VALUE=DATE:20190401
DTSTAMP:20260425T202808
CREATED:20190306T155748Z
LAST-MODIFIED:20190306T155748Z
UID:10000296-1553904000-1554076799@leadershipembodiment.com
SUMMARY:Level 1 with Paul Ciske
DESCRIPTION:Join Paul for a 2-day Level 1 near Lake Merritt in Oakland. For a description of Level 1\, please see our courses page. \nDates: 30-31 March 2019\nTimes: 9:30am – 5pm\nPrice:\n$450.00 until March 23rd ($100 non-refundable deposit to hold your space) \n$500.00 After March 23rd\nPackage with Level 2: $900 ($200 non-refundable deposit to hold your space)\nPayment:\nPaypal to: paul@paulciske.com\nCheck – please mail check to:\nPaul Ciske\n351 Santa Clara Ave\nOakland\, CA 94610 \nPlease email all inquiries to paul@paulciske.com\nwith the subject heading of:\nLE Level 1 OAKLAND
URL:https://leadershipembodiment.com/event/level-1-with-paul-ciske/
LOCATION:Lake Merritt Venue\, Oakland\, CA\, United States
CATEGORIES:North America
ATTACH;FMTTYPE=:
ORGANIZER;CN="Paul Ciske":MAILTO:paulciske@sbcglobal.net
END:VEVENT
BEGIN:VEVENT
DTSTART;VALUE=DATE:20190330
DTEND;VALUE=DATE:20190401
DTSTAMP:20260425T202808
CREATED:20190206T223909Z
LAST-MODIFIED:20190206T223909Z
UID:10000294-1553904000-1554076799@leadershipembodiment.com
SUMMARY:Level 1 with Paul King
DESCRIPTION:Join Paul King for a 2-Day Level 1 in Gisburn\, Lancashire\, UK. For a description of a Level 1\, please see our courses page. This Level 1 workshop is particularly for couples and business owners and their partners. For more information or to register\, please click here.  \nDates: 30-31 March 2019
URL:https://leadershipembodiment.com/event/level-1-witih-paul-king/
LOCATION:Gisburn Venue\, Gisburn\, Lancashire\, United Kingdom
CATEGORIES:Europe
ATTACH;FMTTYPE=:
ORGANIZER;CN="Paul King":MAILTO:info@thebeyondpartnership.co.uk
END:VEVENT
BEGIN:VEVENT
DTSTART;VALUE=DATE:20190330
DTEND;VALUE=DATE:20190401
DTSTAMP:20260425T202808
CREATED:20190104T202132Z
LAST-MODIFIED:20190104T202132Z
UID:10000285-1553904000-1554076799@leadershipembodiment.com
SUMMARY:Level 1 with RJ Jennings - Hosted by Robin La Baw
DESCRIPTION:Join RJ and Robin for a 2-Day Level 1 in Portland\, Oregon.  For a description of a Level 1\, please see our courses page.  \nDates: 30-31 March 2019\nTimes: 9:30am – 4:30pm \nPrice:\n$475.00 Early Bird Discount\n$540.00 AFTER 28 February 2019 \nPayment:\nPaypal to: rj(at)soulfulview.com\nMastercard/Visa – Call RJ at 415.517.2684\nCheck – please mail check to:\nRJ Jennings\n13186 Skyline Blvd\nWoodside\, CA 94062 \nPlease email all inquiries to robin.labaw(at)gmail.com\nwith the subject heading of:\nLE Level 1 PDX
URL:https://leadershipembodiment.com/event/level-1-with-rj-jennings-and-robin-labaw/
LOCATION:Multnomah Arts Center\, 7688 SW Capitol Hwy\, Portland\, OR\, 97219\, United States
CATEGORIES:North America
ATTACH;FMTTYPE=:
ORGANIZER;CN="Robin La Baw":MAILTO:robin.labaw@gmail.com
END:VEVENT
BEGIN:VEVENT
DTSTART;VALUE=DATE:20190325
DTEND;VALUE=DATE:20190327
DTSTAMP:20260425T202808
CREATED:20181116T184913Z
LAST-MODIFIED:20181116T184913Z
UID:10000271-1553472000-1553644799@leadershipembodiment.com
SUMMARY:Level 1 with Anouk Brack
DESCRIPTION:Join Anouk for a 2-Day Level 1 Fundamentals course in Arnhem\, the Netherlands. For a description of a Level 1\, please see our courses page.  \nDates: 25-26 March 2019 \nMore information and registration via anouk.brack@anouka.nl
URL:https://leadershipembodiment.com/event/level-1-with-anouk-brack-4/
LOCATION:Arnhem Venue\, Arnhem\, Netherlands
CATEGORIES:Europe
ATTACH;FMTTYPE=:
ORGANIZER;CN="Anouk Brack":MAILTO:Anouk.Brack@anouka.nl
END:VEVENT
BEGIN:VEVENT
DTSTART;VALUE=DATE:20190323
DTEND;VALUE=DATE:20190325
DTSTAMP:20260425T202808
CREATED:20190201T192509Z
LAST-MODIFIED:20190201T192509Z
UID:10000287-1553299200-1553471999@leadershipembodiment.com
SUMMARY:Level 2 with Paul King
DESCRIPTION:Join Paul King for a 2-Day Level 2 in Wiltshire\, UK. You must have completed a Level 1 before attending a Level 2.  For a description of Level 2\, please see our courses page.  \nDates: 23-24 March 2019
URL:https://leadershipembodiment.com/event/level-2-with-paul-king-11/
LOCATION:Marsh Farm Hotel\, Royal Wootton Bassett\, Swindon\, Wiltshire\, United Kingdom
CATEGORIES:Europe
ATTACH;FMTTYPE=:
ORGANIZER;CN="Paul King":MAILTO:info@thebeyondpartnership.co.uk
GEO:51.541395;-1.902318
X-APPLE-STRUCTURED-LOCATION;VALUE=URI;X-ADDRESS=Marsh Farm Hotel Royal Wootton Bassett Swindon Wiltshire United Kingdom;X-APPLE-RADIUS=500;X-TITLE=Royal Wootton Bassett:geo:-1.902318,51.541395
END:VEVENT
BEGIN:VEVENT
DTSTART;TZID=America/Los_Angeles:20190314T121500
DTEND;TZID=America/Los_Angeles:20190314T141500
DTSTAMP:20260425T202808
CREATED:20190206T181552Z
LAST-MODIFIED:20190206T181552Z
UID:10000747-1552565700-1552572900@leadershipembodiment.com
SUMMARY:Introduction to Leadership Embodiment with Miryam Chavarria Romero
DESCRIPTION:Join Miryam for a 2-hour introduction to Leadership Embodiment at the Washington State Charter Chapter of ICF at their downtown Seattle Satellite location.  For more information\, please click here.   \nDate: March 14\, 2019\nTime: 12:15pm – 2:15pm
URL:https://leadershipembodiment.com/event/introduction-to-leadership-embodiment-with-miryam-chavarria-romero/
LOCATION:Queen Anne Public Library\, 400 West Garfield St.\, Seattle\, WA\, 98119\, United States
CATEGORIES:North America
ATTACH;FMTTYPE=:
ORGANIZER;CN="Miryam Chavarria Romero":MAILTO:miryam@phoenixleadershipcoaching.com
END:VEVENT
BEGIN:VEVENT
DTSTART;VALUE=DATE:20190313
DTEND;VALUE=DATE:20190314
DTSTAMP:20260425T202808
CREATED:20180514T200654Z
LAST-MODIFIED:20180514T200654Z
UID:10000716-1552435200-1552521599@leadershipembodiment.com
SUMMARY:Level 1 with Pierre Goirand (Day 1 of 2)
DESCRIPTION:Please join Pierre Goirand for a 2-day Leadership Embodiment Level 1 Course in Paris. For a description of a Level 1\, please see our courses page. For more information\, please contact Pierre. \nYou may also check out Pierre’s informative video about Leadership Embodiment. \nDates\nDay 1 – 13 March 2019\nDay 2 – 15 May 2019
URL:https://leadershipembodiment.com/event/level-1-with-pierre-goirand-10/2019-03-13/
LOCATION:Paris Venue\, Paris\, France
CATEGORIES:Europe
ATTACH;FMTTYPE=:
ORGANIZER;CN="Pierre Goirand":MAILTO:contact@presenceleadership.net
END:VEVENT
BEGIN:VEVENT
DTSTART;VALUE=DATE:20190309
DTEND;VALUE=DATE:20190311
DTSTAMP:20260425T202808
CREATED:20181123T163424Z
LAST-MODIFIED:20181123T163424Z
UID:10000744-1552089600-1552262399@leadershipembodiment.com
SUMMARY:Level 1 with Olivia Cheever and Elizabeth Valentine
DESCRIPTION:Join Olivia & Elizabeth for a 2-Day Level 1 in Westwood\, MA.  For a description of a Level 1\, please see our courses page.  \nDates: 9-10 March 2019
URL:https://leadershipembodiment.com/event/level-1-with-olivia-cheever-and-elizabeth-valentine-4/
LOCATION:Center at Westwoods\, 590 Gay Street\, Westwood\, MA\, 02090\, United States
CATEGORIES:North America
ATTACH;FMTTYPE=:
ORGANIZER;CN="Elizabeth Valentine & Olivia Cheever":MAILTO:valentine.ev@gmail.com
GEO:42.2219368;-71.1962182
X-APPLE-STRUCTURED-LOCATION;VALUE=URI;X-ADDRESS=Center at Westwoods 590 Gay Street Westwood MA 02090 United States;X-APPLE-RADIUS=500;X-TITLE=590 Gay Street:geo:-71.1962182,42.2219368
END:VEVENT
BEGIN:VEVENT
DTSTART;VALUE=DATE:20190309
DTEND;VALUE=DATE:20190311
DTSTAMP:20260425T202808
CREATED:20181116T183054Z
LAST-MODIFIED:20181116T183054Z
UID:10000740-1552089600-1552262399@leadershipembodiment.com
SUMMARY:Level 2 with Paul Ciske and Anjali Sawhney
DESCRIPTION:Join Paul & Anjali for a 2-day Level 2 near Lake Merritt in Oakland. You must have completed a Level 1 before attending a Level 2. For a description of Level 2\, please see our courses page. \nDates: 9-10 March 2019
URL:https://leadershipembodiment.com/event/level-2-with-paul-ciske-and-anjali-sawhney/
LOCATION:Lake Merritt Venue\, Oakland\, CA\, United States
CATEGORIES:North America
ATTACH;FMTTYPE=:
ORGANIZER;CN="Paul Ciske":MAILTO:paulciske@sbcglobal.net
END:VEVENT
END:VCALENDAR