BEGIN:VCALENDAR
VERSION:2.0
PRODID:-//Leadership Embodiment - ECPv6.15.20//NONSGML v1.0//EN
CALSCALE:GREGORIAN
METHOD:PUBLISH
X-WR-CALNAME:Leadership Embodiment
X-ORIGINAL-URL:https://leadershipembodiment.com
X-WR-CALDESC:Events for Leadership Embodiment
REFRESH-INTERVAL;VALUE=DURATION:PT1H
X-Robots-Tag:noindex
X-PUBLISHED-TTL:PT1H
BEGIN:VTIMEZONE
TZID:America/Los_Angeles
BEGIN:DAYLIGHT
TZOFFSETFROM:-0800
TZOFFSETTO:-0700
TZNAME:PDT
DTSTART:20200308T100000
END:DAYLIGHT
BEGIN:STANDARD
TZOFFSETFROM:-0700
TZOFFSETTO:-0800
TZNAME:PST
DTSTART:20201101T090000
END:STANDARD
BEGIN:DAYLIGHT
TZOFFSETFROM:-0800
TZOFFSETTO:-0700
TZNAME:PDT
DTSTART:20210314T100000
END:DAYLIGHT
BEGIN:STANDARD
TZOFFSETFROM:-0700
TZOFFSETTO:-0800
TZNAME:PST
DTSTART:20211107T090000
END:STANDARD
BEGIN:DAYLIGHT
TZOFFSETFROM:-0800
TZOFFSETTO:-0700
TZNAME:PDT
DTSTART:20220313T100000
END:DAYLIGHT
BEGIN:STANDARD
TZOFFSETFROM:-0700
TZOFFSETTO:-0800
TZNAME:PST
DTSTART:20221106T090000
END:STANDARD
BEGIN:DAYLIGHT
TZOFFSETFROM:-0800
TZOFFSETTO:-0700
TZNAME:PDT
DTSTART:20230312T100000
END:DAYLIGHT
BEGIN:STANDARD
TZOFFSETFROM:-0700
TZOFFSETTO:-0800
TZNAME:PST
DTSTART:20231105T090000
END:STANDARD
BEGIN:DAYLIGHT
TZOFFSETFROM:-0800
TZOFFSETTO:-0700
TZNAME:PDT
DTSTART:20240310T100000
END:DAYLIGHT
BEGIN:STANDARD
TZOFFSETFROM:-0700
TZOFFSETTO:-0800
TZNAME:PST
DTSTART:20241103T090000
END:STANDARD
BEGIN:DAYLIGHT
TZOFFSETFROM:-0800
TZOFFSETTO:-0700
TZNAME:PDT
DTSTART:20250309T100000
END:DAYLIGHT
BEGIN:STANDARD
TZOFFSETFROM:-0700
TZOFFSETTO:-0800
TZNAME:PST
DTSTART:20251102T090000
END:STANDARD
BEGIN:DAYLIGHT
TZOFFSETFROM:-0800
TZOFFSETTO:-0700
TZNAME:PDT
DTSTART:20260308T100000
END:DAYLIGHT
BEGIN:STANDARD
TZOFFSETFROM:-0700
TZOFFSETTO:-0800
TZNAME:PST
DTSTART:20261101T090000
END:STANDARD
END:VTIMEZONE
BEGIN:VEVENT
DTSTART;VALUE=DATE:20251009
DTEND;VALUE=DATE:20251011
DTSTAMP:20260424T082723
CREATED:20250114T162250Z
LAST-MODIFIED:20250114T162340Z
UID:10001141-1759968000-1760140799@leadershipembodiment.com
SUMMARY:Leadership Embodiment Level 2 with Pierre Goirand in Berlin (in English)
DESCRIPTION:Join Pierre for a 2 Day Leadership Embodiment Level 2 in Berlin\, Germany. You must have completed a Level 1 previous to attending a Level 2. For a description of a Leadership Embodiment Level 2\, please see our Public Courses page. For more information or to register\, please CLICK HERE. This workshop is taught in English. \nDates: 9-10 October 2025 \n \nEurope
URL:https://leadershipembodiment.com/event/leadership-embodiment-level-2-with-pierre-goirand-in-berlin-in-english/
LOCATION:Beach Mitte\, Caroline-Michaelis-Str. 8\, D\, Berlin\, Germany
CATEGORIES:Europe
ORGANIZER;CN="Pierre Goirand":MAILTO:contact@presenceleadership.net
END:VEVENT
BEGIN:VEVENT
DTSTART;VALUE=DATE:20251006
DTEND;VALUE=DATE:20251008
DTSTAMP:20260424T082723
CREATED:20250114T160949Z
LAST-MODIFIED:20250114T161628Z
UID:10001139-1759708800-1759881599@leadershipembodiment.com
SUMMARY:Leadership Embodiment Level 1 with Pierre Goirand (in English)
DESCRIPTION:Join Pierre in Berlin\, Germany for a two-day Leadership Embodiment Level 1 workshop. For a description of a Leadership Embodiment Level 1\, please see our Public Courses page. For more information or to register\, please CLICK HERE. This course is taught in English. \nDates: 6-7 October 2025 \n \nEurope
URL:https://leadershipembodiment.com/event/leadership-embodiment-level-1-with-pierre-goirand-in-english/
LOCATION:Beach Mitte\, Caroline-Michaelis-Str. 8\, D\, Berlin\, Germany
CATEGORIES:Europe
ORGANIZER;CN="Pierre Goirand":MAILTO:contact@presenceleadership.net
END:VEVENT
BEGIN:VEVENT
DTSTART;VALUE=DATE:20250213
DTEND;VALUE=DATE:20250215
DTSTAMP:20260424T082723
CREATED:20231206T205002Z
LAST-MODIFIED:20240205T184801Z
UID:10001054-1739404800-1739577599@leadershipembodiment.com
SUMMARY:Leadership Embodiment Level 2 with Pierre Goirand (in English)
DESCRIPTION:Join Pierre for a 2-day Leadership Embodiment Level 2 in Berlin\, Germany. For a description of a Leadership Embodiment Level 2\, please see our Public Courses page. You must have completed a Level 1 before enrolling in a Level 2. This course will be led in English. For more information or to register\, please CLICK HERE. \nDates: 13-14 February 2025 \n \nEurope
URL:https://leadershipembodiment.com/event/level-2-with-pierre-goirand-23/
LOCATION:Beach Mitte\, Caroline-Michaelis-Str. 8\, D\, Berlin\, Germany
CATEGORIES:Europe
ORGANIZER;CN="Pierre Goirand":MAILTO:contact@presenceleadership.net
END:VEVENT
BEGIN:VEVENT
DTSTART;VALUE=DATE:20250210
DTEND;VALUE=DATE:20250212
DTSTAMP:20260424T082723
CREATED:20231206T204104Z
LAST-MODIFIED:20240205T184844Z
UID:10001052-1739145600-1739318399@leadershipembodiment.com
SUMMARY:Leadership Embodiment Level 1 with Pierre Goirand (in English)
DESCRIPTION:Join Pierre for a 2-day Leadership Embodiment Level 1 in Berlin\, Germany. For a description of a Leadership Embodiment Level 1\, please see our Public Courses page. This course will be led in English. For more information or to register\, please CLICK HERE. \nDates: 10-11 February 2025 \n \nEurope
URL:https://leadershipembodiment.com/event/level-1-with-pierre-goirand-32/
LOCATION:Beach Mitte\, Caroline-Michaelis-Str. 8\, D\, Berlin\, Germany
CATEGORIES:Europe
ORGANIZER;CN="Pierre Goirand":MAILTO:contact@presenceleadership.net
END:VEVENT
BEGIN:VEVENT
DTSTART;VALUE=DATE:20240930
DTEND;VALUE=DATE:20241002
DTSTAMP:20260424T082723
CREATED:20231206T203736Z
LAST-MODIFIED:20240205T185307Z
UID:10001051-1727654400-1727827199@leadershipembodiment.com
SUMMARY:Leadership Embodiment Level 1 with Pierre Goirrand (in English)
DESCRIPTION:Join Pierre for a 2-day Leadership Embodiment Level 1 in Berlin\, Germany. For a description of a Leadership Embodiment Level 1\, please see our Public Courses page. This course will be led in English. For more information or to register\, please CLICK HERE. \nDates: 30 September and 1 October 2024 \n \nEurope
URL:https://leadershipembodiment.com/event/level-1-with-pierre-goirrand/
LOCATION:Beach Mitte\, Caroline-Michaelis-Str. 8\, D\, Berlin\, Germany
CATEGORIES:Europe
ORGANIZER;CN="Pierre Goirand":MAILTO:contact@presenceleadership.net
END:VEVENT
BEGIN:VEVENT
DTSTART;VALUE=DATE:20240212
DTEND;VALUE=DATE:20240214
DTSTAMP:20260424T082723
CREATED:20231206T204650Z
LAST-MODIFIED:20240205T181233Z
UID:10001053-1707696000-1707868799@leadershipembodiment.com
SUMMARY:Leadership Embodiment Level 2 with Pierre Goirand (in English)
DESCRIPTION:SOLD OUT – WAIT LIST ONLY. Join Pierre for a 2-day Level 2 in Berlin\, Germany. For a description of a Leadership Embodiment Level 2\, please see our Public Courses page. You must have completed a Level 1 before enrolling in a Level 2. This course will be led in English. For more information or to register\, please CLICK HERE. \nDates: 12-13 February 2024 \n \nEurope
URL:https://leadershipembodiment.com/event/level-2-with-pierre-goirand-22/
LOCATION:Beach Mitte\, Caroline-Michaelis-Str. 8\, D\, Berlin\, Germany
CATEGORIES:Europe
ORGANIZER;CN="Pierre Goirand":MAILTO:contact@presenceleadership.net
END:VEVENT
BEGIN:VEVENT
DTSTART;VALUE=DATE:20231113
DTEND;VALUE=DATE:20231115
DTSTAMP:20260424T082723
CREATED:20230605T170918Z
LAST-MODIFIED:20230605T170918Z
UID:10001017-1699833600-1700006399@leadershipembodiment.com
SUMMARY:Level 1 with Pierre Goirand
DESCRIPTION:Join Pierre for a 2-Day Leadership Embodiment Level 1 in Berlin\, Germany. For a description of a Level 1\, please see our Public Courses page. This course will be taught in English. For more information or to register\, please CLICK HERE.  \nDates: 13-14 November 2023 \n \nEurope
URL:https://leadershipembodiment.com/event/level-1-with-pierre-goirand-30/
LOCATION:Facilitation Academy\, Berlin\, Germany
CATEGORIES:Europe
ORGANIZER;CN="Pierre Goirand":MAILTO:contact@presenceleadership.net
END:VEVENT
BEGIN:VEVENT
DTSTART;VALUE=DATE:20230612
DTEND;VALUE=DATE:20230614
DTSTAMP:20260424T082723
CREATED:20230104T175346Z
LAST-MODIFIED:20230125T175505Z
UID:10000971-1686528000-1686700799@leadershipembodiment.com
SUMMARY:Level 1 with Pierre Goirand
DESCRIPTION:Join Pierre for a 2-Day Leadership Embodiment Level 1 in Berlin\, Germany. For a description of a Level 1\, please see our Public Courses page. This course will be led in English. \nFor more information or to register\, please CLICK HERE. \nDates: 12-13 June 2023 \n \nEurope
URL:https://leadershipembodiment.com/event/level-1-with-pierre-goirand-28/
LOCATION:Facilitation Academy\, Berlin\, Germany
CATEGORIES:Europe
ORGANIZER;CN="Pierre Goirand":MAILTO:contact@presenceleadership.net
END:VEVENT
BEGIN:VEVENT
DTSTART;VALUE=DATE:20230327
DTEND;VALUE=DATE:20230329
DTSTAMP:20260424T082723
CREATED:20230104T170341Z
LAST-MODIFIED:20230125T181534Z
UID:10000968-1679875200-1680047999@leadershipembodiment.com
SUMMARY:Level 2 with Pierre Goirand
DESCRIPTION:Join Pierre for a 2-Day Leadership Embodiment Level 2 in Berlin\, Germany. You must have completed a Level One before attending a Level 2. For a description of a Level 2 course\, see our Public Courses Page. This course will be led in English. \nFor more information or to register\, please CLICK HERE. \nDates: 27-28 March 2023 \n \nEurope
URL:https://leadershipembodiment.com/event/level-2-with-pierre-goirand-19/
LOCATION:Facilitation Academy\, Berlin\, Germany
CATEGORIES:Europe
ORGANIZER;CN="Pierre Goirand":MAILTO:contact@presenceleadership.net
END:VEVENT
BEGIN:VEVENT
DTSTART;VALUE=DATE:20230220
DTEND;VALUE=DATE:20230222
DTSTAMP:20260424T082723
CREATED:20230104T165126Z
LAST-MODIFIED:20230125T184329Z
UID:10000966-1676851200-1677023999@leadershipembodiment.com
SUMMARY:Level 1 with Pierre Goirand
DESCRIPTION:Join Pierre for a 2-Day Level 1 in Berlin\, Germany. For a description of a Level 1\, please see our Public Courses Page. This course will be led in English.  \nFor more information or to register\, please CLICK HERE. \nDates: 20-21 February 2023 \n \nEurope
URL:https://leadershipembodiment.com/event/level-1-with-pierre-goirand-25/
LOCATION:Facilitation Academy\, Berlin\, Germany
CATEGORIES:Europe
ORGANIZER;CN="Pierre Goirand":MAILTO:contact@presenceleadership.net
END:VEVENT
BEGIN:VEVENT
DTSTART;VALUE=DATE:20220905
DTEND;VALUE=DATE:20220907
DTSTAMP:20260424T082723
CREATED:20211119T174550Z
LAST-MODIFIED:20211119T174550Z
UID:10000464-1662336000-1662508799@leadershipembodiment.com
SUMMARY:Level 1 with Pierre Goirand
DESCRIPTION:Join Pierre for a 2-Day Level 1 in Berlin\, Germany. This course will be taught in English. For more information\, please CLICK HERE. \n \nDates: September 5th and 6th\, 2022
URL:https://leadershipembodiment.com/event/level-1-with-pierre-goirand-22/
LOCATION:Facilitation Academy\, Berlin\, Germany
CATEGORIES:Europe
ORGANIZER;CN="Pierre Goirand":MAILTO:contact@presenceleadership.net
END:VEVENT
BEGIN:VEVENT
DTSTART;VALUE=DATE:20220214
DTEND;VALUE=DATE:20220216
DTSTAMP:20260424T082723
CREATED:20211119T180712Z
LAST-MODIFIED:20211119T180712Z
UID:10000779-1644796800-1644969599@leadershipembodiment.com
SUMMARY:Level 2 with Pierre Goirand
DESCRIPTION:Join Pierre for a 2-Day Level 2 in Berlin\, Germany. You must have completed a Level 1 before enrolling in a Level 2. This course will be taught in English. For more information\, please CLICK HERE. \n \nDates: February 14-15\, 2022
URL:https://leadershipembodiment.com/event/level-2-with-pierre-goirand-16/
LOCATION:Facilitation Academy\, Berlin\, Germany
CATEGORIES:Europe
ORGANIZER;CN="Pierre Goirand":MAILTO:contact@presenceleadership.net
END:VEVENT
BEGIN:VEVENT
DTSTART;VALUE=DATE:20220214
DTEND;VALUE=DATE:20220216
DTSTAMP:20260424T082723
CREATED:20210601T151609Z
LAST-MODIFIED:20210601T151609Z
UID:10000755-1644796800-1644969599@leadershipembodiment.com
SUMMARY:Level 2 with Pierre Goirand
DESCRIPTION:Join Pierre for a 2-day Level 2 in Berlin\, Germany.  This course will be taught in English.  For more information or to register\, please click here. \nDates: 14-15 February 2022
URL:https://leadershipembodiment.com/event/level-2-with-pierre-goirand-13/
LOCATION:Berlin\, Germany Venue\, Berlin\, Germany
CATEGORIES:Europe
ORGANIZER;CN="Pierre Goirand":MAILTO:contact@presenceleadership.net
GEO:52.5200066;13.404954
END:VEVENT
BEGIN:VEVENT
DTSTART;VALUE=DATE:20211115
DTEND;VALUE=DATE:20211117
DTSTAMP:20260424T082723
CREATED:20210601T145751Z
LAST-MODIFIED:20210601T145751Z
UID:10000754-1636934400-1637107199@leadershipembodiment.com
SUMMARY:Level 1 with Pierre Goirand
DESCRIPTION:Join Pierre for a 2-day Level 1 in Berlin\, Germany.  This course will be taught in English.  For more information or to register\, please click here. \nDates: 15-16 November 2021
URL:https://leadershipembodiment.com/event/level-1-with-pierre-goirand-18/
LOCATION:Berlin\, Germany Venue\, Berlin\, Germany
CATEGORIES:Europe
ORGANIZER;CN="Pierre Goirand":MAILTO:contact@presenceleadership.net
GEO:52.5200066;13.404954
END:VEVENT
END:VCALENDAR