BEGIN:VCALENDAR
VERSION:2.0
PRODID:-//Leadership Embodiment - ECPv6.15.20//NONSGML v1.0//EN
CALSCALE:GREGORIAN
METHOD:PUBLISH
X-WR-CALNAME:Leadership Embodiment
X-ORIGINAL-URL:https://leadershipembodiment.com
X-WR-CALDESC:Events for Leadership Embodiment
REFRESH-INTERVAL;VALUE=DURATION:PT1H
X-Robots-Tag:noindex
X-PUBLISHED-TTL:PT1H
BEGIN:VTIMEZONE
TZID:America/Los_Angeles
BEGIN:DAYLIGHT
TZOFFSETFROM:-0800
TZOFFSETTO:-0700
TZNAME:PDT
DTSTART:20160313T100000
END:DAYLIGHT
BEGIN:STANDARD
TZOFFSETFROM:-0700
TZOFFSETTO:-0800
TZNAME:PST
DTSTART:20161106T090000
END:STANDARD
BEGIN:DAYLIGHT
TZOFFSETFROM:-0800
TZOFFSETTO:-0700
TZNAME:PDT
DTSTART:20170312T100000
END:DAYLIGHT
BEGIN:STANDARD
TZOFFSETFROM:-0700
TZOFFSETTO:-0800
TZNAME:PST
DTSTART:20171105T090000
END:STANDARD
BEGIN:DAYLIGHT
TZOFFSETFROM:-0800
TZOFFSETTO:-0700
TZNAME:PDT
DTSTART:20180311T100000
END:DAYLIGHT
BEGIN:STANDARD
TZOFFSETFROM:-0700
TZOFFSETTO:-0800
TZNAME:PST
DTSTART:20181104T090000
END:STANDARD
BEGIN:DAYLIGHT
TZOFFSETFROM:-0800
TZOFFSETTO:-0700
TZNAME:PDT
DTSTART:20190310T100000
END:DAYLIGHT
BEGIN:STANDARD
TZOFFSETFROM:-0700
TZOFFSETTO:-0800
TZNAME:PST
DTSTART:20191103T090000
END:STANDARD
BEGIN:DAYLIGHT
TZOFFSETFROM:-0800
TZOFFSETTO:-0700
TZNAME:PDT
DTSTART:20200308T100000
END:DAYLIGHT
BEGIN:STANDARD
TZOFFSETFROM:-0700
TZOFFSETTO:-0800
TZNAME:PST
DTSTART:20201101T090000
END:STANDARD
BEGIN:DAYLIGHT
TZOFFSETFROM:-0800
TZOFFSETTO:-0700
TZNAME:PDT
DTSTART:20210314T100000
END:DAYLIGHT
BEGIN:STANDARD
TZOFFSETFROM:-0700
TZOFFSETTO:-0800
TZNAME:PST
DTSTART:20211107T090000
END:STANDARD
BEGIN:DAYLIGHT
TZOFFSETFROM:-0800
TZOFFSETTO:-0700
TZNAME:PDT
DTSTART:20220313T100000
END:DAYLIGHT
BEGIN:STANDARD
TZOFFSETFROM:-0700
TZOFFSETTO:-0800
TZNAME:PST
DTSTART:20221106T090000
END:STANDARD
BEGIN:DAYLIGHT
TZOFFSETFROM:-0800
TZOFFSETTO:-0700
TZNAME:PDT
DTSTART:20230312T100000
END:DAYLIGHT
BEGIN:STANDARD
TZOFFSETFROM:-0700
TZOFFSETTO:-0800
TZNAME:PST
DTSTART:20231105T090000
END:STANDARD
BEGIN:DAYLIGHT
TZOFFSETFROM:-0800
TZOFFSETTO:-0700
TZNAME:PDT
DTSTART:20240310T100000
END:DAYLIGHT
BEGIN:STANDARD
TZOFFSETFROM:-0700
TZOFFSETTO:-0800
TZNAME:PST
DTSTART:20241103T090000
END:STANDARD
BEGIN:DAYLIGHT
TZOFFSETFROM:-0800
TZOFFSETTO:-0700
TZNAME:PDT
DTSTART:20250309T100000
END:DAYLIGHT
BEGIN:STANDARD
TZOFFSETFROM:-0700
TZOFFSETTO:-0800
TZNAME:PST
DTSTART:20251102T090000
END:STANDARD
END:VTIMEZONE
BEGIN:VTIMEZONE
TZID:UTC
BEGIN:STANDARD
TZOFFSETFROM:+0000
TZOFFSETTO:+0000
TZNAME:UTC
DTSTART:20140101T000000
END:STANDARD
END:VTIMEZONE
BEGIN:VEVENT
DTSTART;VALUE=DATE:20240308
DTEND;VALUE=DATE:20240310
DTSTAMP:20260424T030424
CREATED:20231113T165632Z
LAST-MODIFIED:20240205T181022Z
UID:10001046-1709856000-1710028799@leadershipembodiment.com
SUMMARY:Leadership Embodiment Level 2 with Karen White and Lisa Hansford
DESCRIPTION:Join Karen and Lisa for a 2-Day Leadership Embodiment Level 2 course in Cape Town\, South Africa. You must have completed a Level 1 before enrolling in a Level 2. For a description of a Level 2\, please see our Public Courses page.  \nDates: 7-8 March 2024 \n \nSouth Africa
URL:https://leadershipembodiment.com/event/level-2-with-karen-white-and-lisa-hansford-3/
LOCATION:Kelvin Grove\, Cape Town\, South Africa
CATEGORIES:South Africa
ORGANIZER;CN="Lisa Hansford":MAILTO:lisahansford@mweb.co.za
END:VEVENT
BEGIN:VEVENT
DTSTART;VALUE=DATE:20240208
DTEND;VALUE=DATE:20240210
DTSTAMP:20260424T030424
CREATED:20231113T162057Z
LAST-MODIFIED:20240205T181447Z
UID:10001045-1707350400-1707523199@leadershipembodiment.com
SUMMARY:Leadership Embodiment Level 1 with Karen White and Lisa Hansford
DESCRIPTION:Join Karen and Lisa for a 2-Day Level 1 in Cape Town\, South Africa. For a description of a Level 1\, please see our Public Courses page.  \nDates: 8-9 February 2024 \n \nSouth Africa
URL:https://leadershipembodiment.com/event/level-1-with-karen-white-5/
LOCATION:Kelvin Grove\, Cape Town\, South Africa
CATEGORIES:South Africa
ORGANIZER;CN="Lisa Hansford":MAILTO:lisahansford@mweb.co.za
END:VEVENT
BEGIN:VEVENT
DTSTART;VALUE=DATE:20201104
DTEND;VALUE=DATE:20201106
DTSTAMP:20260424T030424
CREATED:20191112T204006Z
LAST-MODIFIED:20191112T204006Z
UID:10000363-1604448000-1604620799@leadershipembodiment.com
SUMMARY:Level 1 with Karen White and Lisa Hansford
DESCRIPTION:Join Karen and Lisa for a 2-Day Level 1 in the Cape Town region. For a description of a Level 1\, please see our courses page. \nDates: 4-5 November 2020 \nVenue: To be announced.
URL:https://leadershipembodiment.com/event/level-1-with-kare-white-and-lisa-hansford/
LOCATION:Cape Town Region\, Cape Town\, South Africa
CATEGORIES:South Africa
ATTACH;FMTTYPE=:
ORGANIZER;CN="Karen White":MAILTO:karen@thehumanconnection.co.za
GEO:-33.9248685;18.4240553
END:VEVENT
BEGIN:VEVENT
DTSTART;VALUE=DATE:20200318
DTEND;VALUE=DATE:20200320
DTSTAMP:20260424T030424
CREATED:20191112T203716Z
LAST-MODIFIED:20191112T203716Z
UID:10000362-1584489600-1584662399@leadershipembodiment.com
SUMMARY:Level 1 with Karen White and Lisa Hansford
DESCRIPTION:Join Karen and Lisa for a 2-Day Level 1 in the Cape Town region. For a description of a Level 1\, please see our courses page. \nDates: 18-19 March 2020 \nVenue: To be announced.
URL:https://leadershipembodiment.com/event/level-1-with-karen-white-and-lisa-hansford-5/
CATEGORIES:South Africa
ATTACH;FMTTYPE=:
ORGANIZER;CN="Karen White":MAILTO:karen@thehumanconnection.co.za
END:VEVENT
BEGIN:VEVENT
DTSTART;VALUE=DATE:20191001
DTEND;VALUE=DATE:20191003
DTSTAMP:20260424T030424
CREATED:20181017T182332Z
LAST-MODIFIED:20181017T182332Z
UID:10000255-1569888000-1570060799@leadershipembodiment.com
SUMMARY:Level 1 with Karen White & Lisa Hansford
DESCRIPTION:Join Karen & Lisa for a 2-Day Level 1 at Old Mutual House in the Cape Town region.  For a description of a Level 1\, please see our courses page.   \nDates: 1-2 October 2019
URL:https://leadershipembodiment.com/event/level-1-with-karen-white-lisa-hansford-4/
LOCATION:Old Mutual House\, 33 Klaassens Rd\, Constantia\, Western Cape\, South Africa
CATEGORIES:South Africa
ATTACH;FMTTYPE=:
ORGANIZER;CN="Karen White":MAILTO:karen@thehumanconnection.co.za
END:VEVENT
BEGIN:VEVENT
DTSTART;VALUE=DATE:20190806
DTEND;VALUE=DATE:20190808
DTSTAMP:20260424T030424
CREATED:20181017T182718Z
LAST-MODIFIED:20181017T182718Z
UID:10000256-1565049600-1565222399@leadershipembodiment.com
SUMMARY:Level 2 with Karen White & Lisa Hansford
DESCRIPTION:Join Karen & Lisa for a 2-Day Level 2 at the Old Mutual House in the Cape Town region. For a description of a Level 2\, please see our courses page.   \nPlease note\, you must have completed a Level 1 before enrolling in a Level 2. \nDates: 6-7 August 2019
URL:https://leadershipembodiment.com/event/level-2-with-karen-white-lisa-hansford-2/
LOCATION:Old Mutual House\, 33 Klaassens Rd\, Constantia\, Western Cape\, South Africa
CATEGORIES:South Africa
ATTACH;FMTTYPE=:
ORGANIZER;CN="Karen White":MAILTO:karen@thehumanconnection.co.za
END:VEVENT
BEGIN:VEVENT
DTSTART;VALUE=DATE:20181108
DTEND;VALUE=DATE:20181112
DTSTAMP:20260424T030424
CREATED:20180611T190024Z
LAST-MODIFIED:20180611T190024Z
UID:10000721-1541635200-1541980799@leadershipembodiment.com
SUMMARY:Intensive Retreat with Wendy Palmer
DESCRIPTION:Please join Wendy Palmer for a 4-Day Intensive Retreat near Cape Town\, South Africa. You must have completed a Level 1 and a Level 2 before attending a retreat.  For a description of our offerings\, please see our courses page.\nMeals and lodging are included in the fee for the retreat. \nDates: 8-11 November 2018 \nFor pricing and more information\, please see this flyer: LE Retreat – November 2018.
URL:https://leadershipembodiment.com/event/intensive-retreat-with-wendy-palmer-12/
LOCATION:Temenos\, McGregor\, South Africa
CATEGORIES:South Africa
ATTACH;FMTTYPE=:
ORGANIZER;CN="Karen White":MAILTO:karen@thehumanconnection.co.za
END:VEVENT
BEGIN:VEVENT
DTSTART;VALUE=DATE:20180904
DTEND;VALUE=DATE:20180906
DTSTAMP:20260424T030424
CREATED:20171113T154326Z
LAST-MODIFIED:20171113T154326Z
UID:10000670-1536019200-1536191999@leadershipembodiment.com
SUMMARY:Level 1 with Karen White & Lisa Hansford
DESCRIPTION:Join Karen White & Lisa Hansford for a 2-day Level 1 in Cape Town\, South Africa. For a description of a Level 1\, please see our courses page.  For more information\, please see this flyer: LE Level 1 – Cape Town – 2018 \nDates: 4 & 5 September 2018
URL:https://leadershipembodiment.com/event/level-1-with-karen-white-lisa-hansford-3/
LOCATION:Old Mutual House\, 33 Klaassens Rd\, Constantia\, Western Cape\, South Africa
CATEGORIES:South Africa
ATTACH;FMTTYPE=:
ORGANIZER;CN="Karen White":MAILTO:karen@thehumanconnection.co.za
END:VEVENT
BEGIN:VEVENT
DTSTART;VALUE=DATE:20180807
DTEND;VALUE=DATE:20180809
DTSTAMP:20260424T030424
CREATED:20171113T154725Z
LAST-MODIFIED:20171113T154725Z
UID:10000671-1533600000-1533772799@leadershipembodiment.com
SUMMARY:Level 2 with Karen White & Lisa Hansford
DESCRIPTION:Join Karen White & Lisa Hansford for a 2-day Level 2 in Cape Town\, South Africa. For a description of a Level 2\, please see our courses page.  For more information\, please see this flyer: LE Level 2 – Cape Town – 2018 \nDates: 7 & 8 August 2018
URL:https://leadershipembodiment.com/event/level-2-with-karen-white-lisa-hansford/
LOCATION:Old Mutual House\, 33 Klaassens Rd\, Constantia\, Western Cape\, South Africa
CATEGORIES:South Africa
ATTACH;FMTTYPE=:
ORGANIZER;CN="Karen White":MAILTO:karen@thehumanconnection.co.za
END:VEVENT
BEGIN:VEVENT
DTSTART;VALUE=DATE:20180207
DTEND;VALUE=DATE:20180209
DTSTAMP:20260424T030424
CREATED:20171009T201104Z
LAST-MODIFIED:20171009T201104Z
UID:10000669-1517961600-1518134399@leadershipembodiment.com
SUMMARY:Level 1 with Karen White & Lisa Hansford
DESCRIPTION:Join Karen White & Lisa Hansford at the Old Mutual House in Cape Town for a 2-Day Level 1. For a description of a Level 1\, please see our courses page.   \nDates: 7-8 February 2018
URL:https://leadershipembodiment.com/event/level-1-with-karen-white-lisa-hansford-2/
LOCATION:Old Mutual House\, 33 Klaassens Rd\, Constantia\, Western Cape\, South Africa
CATEGORIES:South Africa
ATTACH;FMTTYPE=:
ORGANIZER;CN="Karen White":MAILTO:karen@thehumanconnection.co.za
END:VEVENT
BEGIN:VEVENT
DTSTART;VALUE=DATE:20171115
DTEND;VALUE=DATE:20171117
DTSTAMP:20260424T030424
CREATED:20170313T162432Z
LAST-MODIFIED:20170313T162432Z
UID:10000627-1510704000-1510876799@leadershipembodiment.com
SUMMARY:Level 1 with Karen White & Lisa Hansford
DESCRIPTION:Join Karen White and Lisa Hansford for a 2-Day Level 1 in Cape Town\, South Africa. See a description of Level 1 on our courses page.   \nFor more details and registration information\, please see this flyer: LE Level 1 – Cape Town – 2017 \nDates 15-16 November 2017
URL:https://leadershipembodiment.com/event/level-1-with-karen-white-lisa-hansford/
LOCATION:Old Mutual House\, 33 Klaassens Rd\, Constantia\, Western Cape\, South Africa
CATEGORIES:South Africa
ATTACH;FMTTYPE=:
ORGANIZER;CN="Karen White":MAILTO:karen@thehumanconnection.co.za
END:VEVENT
BEGIN:VEVENT
DTSTART;VALUE=DATE:20170510
DTEND;VALUE=DATE:20170512
DTSTAMP:20260424T030424
CREATED:20170313T161745Z
LAST-MODIFIED:20170313T161745Z
UID:10000626-1494374400-1494547199@leadershipembodiment.com
SUMMARY:Level 1 with Karen White and Lisa Hansford
DESCRIPTION:Join Karen White and Lisa Hansford for a 2-Day Level 1 in Cape Town\, South Africa. See a description of Level 1 on our courses page.   \nFor more details and registration information\, please see this flyer: LE Level 1 – Cape Town – 2017 \nDates: 10-11 May 2017
URL:https://leadershipembodiment.com/event/level-1-with-karen-white-and-lisa-hansford-4/
LOCATION:Old Mutual House\, 33 Klaassens Rd\, Constantia\, Western Cape\, South Africa
CATEGORIES:South Africa
ATTACH;FMTTYPE=:
ORGANIZER;CN="Karen White":MAILTO:karen@thehumanconnection.co.za
END:VEVENT
BEGIN:VEVENT
DTSTART;VALUE=DATE:20150929
DTEND;VALUE=DATE:20151001
DTSTAMP:20260424T030424
CREATED:20150702T210304Z
LAST-MODIFIED:20150702T210304Z
UID:10000942-1443484800-1443657599@leadershipembodiment.com
SUMMARY:Level 1 with Karen White and Lisa Hansford
DESCRIPTION:Join Karen White and Lisa Hansford for a 2-day workshop at Old Mutual House in the Cape Town area of South Africa.   \nDates: September 29 & 30\, 2015\nTimes: 9:30 am – 4:00 pm
URL:https://leadershipembodiment.com/event/level-1-with-karen-white-and-lisa-hansford/
LOCATION:Old Mutual House\, 33 Klaassens Rd\, Constantia\, Western Cape\, South Africa
CATEGORIES:South Africa
ORGANIZER;CN="Karen White":MAILTO:karen@thehumanconnection.co.za
END:VEVENT
BEGIN:VEVENT
DTSTART;VALUE=DATE:20150520
DTEND;VALUE=DATE:20150522
DTSTAMP:20260424T030424
CREATED:20150121T003918Z
LAST-MODIFIED:20150121T003918Z
UID:10000904-1432080000-1432252799@leadershipembodiment.com
SUMMARY:Level 2 with Karen White & Lisa Hansford in Cape Town (2 Days)
DESCRIPTION:Join Karen White & Lisa Hansford for a 2-day Level 2 course in Cape Town.  Please note that a Level 1 is a prerequisite for attending a Level 2.  (See our courses page for a description of a Level 2 workshop).  For more information\, please contact Karen White at The Human Connection.
URL:https://leadershipembodiment.com/event/level-2-with-karen-white-lisa-hansford-in-cape-town-2-days/
LOCATION:Old Mutual House\, 33 Klaassens Rd\, Constantia\, Western Cape\, South Africa
CATEGORIES:South Africa
ORGANIZER;CN="Karen White":MAILTO:karen@thehumanconnection.co.za
END:VEVENT
BEGIN:VEVENT
DTSTART;VALUE=DATE:20150326
DTEND;VALUE=DATE:20150328
DTSTAMP:20260424T030424
CREATED:20150121T000703Z
LAST-MODIFIED:20150121T000703Z
UID:10000902-1427328000-1427500799@leadershipembodiment.com
SUMMARY:Level 1 with Karen White & Kerry Hammerton in Cape Town (2 Days)
DESCRIPTION:Join Karen White & Kerry Hammerton for a 2 Day Level 1 course in Cape Town. (See our courses page for a full description of a Level 1.) Please note that completion of a Level 1 is required before attending a Leadership Embodiment Intensive Retreat. For more information visit The Human Connection.
URL:https://leadershipembodiment.com/event/level-1-with-karen-white-kerry-hammerton-in-cape-town-2-days/
LOCATION:Old Mutual House\, 33 Klaassens Rd\, Constantia\, Western Cape\, South Africa
CATEGORIES:South Africa
ORGANIZER;CN="Karen White":MAILTO:karen@thehumanconnection.co.za
END:VEVENT
BEGIN:VEVENT
DTSTART;VALUE=DATE:20150128
DTEND;VALUE=DATE:20150130
DTSTAMP:20260424T030424
CREATED:20150121T000414Z
LAST-MODIFIED:20150121T000414Z
UID:10000901-1422403200-1422575999@leadershipembodiment.com
SUMMARY:Level 1 with Karen White & Lisa Hansford in Cape Town (2 Days)
DESCRIPTION:Join Karen White & Lisa Hansford in Cape Town for a 2-Day Level 1 course. (See our courses page for a full description of a Level 1.) Please note that completion of a Level 1 is required before attending a Leadership Embodiment Intensive Retreat. For costs\, registration\, or more information see: Level 1 – Cape Town – January 2015
URL:https://leadershipembodiment.com/event/level-1-with-karen-white-lisa-hansford-in-cape-town-2-days/
LOCATION:Old Mutual House\, 33 Klaassens Rd\, Constantia\, Western Cape\, South Africa
CATEGORIES:South Africa
ORGANIZER;CN="Karen White":MAILTO:karen@thehumanconnection.co.za
END:VEVENT
END:VCALENDAR