BEGIN:VCALENDAR
VERSION:2.0
PRODID:-//Leadership Embodiment - ECPv6.15.20//NONSGML v1.0//EN
CALSCALE:GREGORIAN
METHOD:PUBLISH
X-WR-CALNAME:Leadership Embodiment
X-ORIGINAL-URL:https://leadershipembodiment.com
X-WR-CALDESC:Events for Leadership Embodiment
REFRESH-INTERVAL;VALUE=DURATION:PT1H
X-Robots-Tag:noindex
X-PUBLISHED-TTL:PT1H
BEGIN:VTIMEZONE
TZID:UTC
BEGIN:STANDARD
TZOFFSETFROM:+0000
TZOFFSETTO:+0000
TZNAME:UTC
DTSTART:20130101T000000
END:STANDARD
END:VTIMEZONE
BEGIN:VEVENT
DTSTART;VALUE=DATE:20150509
DTEND;VALUE=DATE:20150510
DTSTAMP:20260424T065439
CREATED:20131215T060701Z
LAST-MODIFIED:20131215T060701Z
UID:10000809-1431129600-1431215999@leadershipembodiment.com
SUMMARY:Level 1 Fundamentals\, Alameda\, California - Continuing Class with Cathy Dana
DESCRIPTION:Join Cathy for an ongoing Level 1 Class on the 2nd Saturday of each month. For newcomers and experienced practitioners alike. \nPlease contact Cathy for cost details and more information.
URL:https://leadershipembodiment.com/event/level-1-continuing-class-with-cathy-dana-2/
LOCATION:Home of Truth Spiritual Center\, 1300 Grand Street\, Alameda\, 94501\, United States
CATEGORIES:North America
ORGANIZER;CN="Cathy Dana":MAILTO:cathydana@gmail.com
GEO:37.769516;-122.257123
X-APPLE-STRUCTURED-LOCATION;VALUE=URI;X-ADDRESS=Home of Truth Spiritual Center 1300 Grand Street Alameda 94501 United States;X-APPLE-RADIUS=500;X-TITLE=1300 Grand Street:geo:-122.257123,37.769516
END:VEVENT
BEGIN:VEVENT
DTSTART;TZID=UTC:20140503T100000
DTEND;TZID=UTC:20140503T120000
DTSTAMP:20260424T065439
CREATED:20140115T000249Z
LAST-MODIFIED:20140115T000249Z
UID:10000812-1399111200-1399118400@leadershipembodiment.com
SUMMARY:Level 1 Fundamentals\, Alameda\, California - Continuing Class with Cathy Dana
DESCRIPTION:Join Cathy for an ongoing Level 1 Class. For newcomers and experienced practitioners alike. \nPlease contact Cathy for cost details.
URL:https://leadershipembodiment.com/event/level-1-continuing-class-with-cathy-dana-2-2-3/
LOCATION:Home of Truth Spiritual Center\, 1300 Grand Street\, Alameda\, 94501\, United States
CATEGORIES:North America
ORGANIZER;CN="Cathy Dana":MAILTO:cathydana@gmail.com
GEO:37.769516;-122.257123
X-APPLE-STRUCTURED-LOCATION;VALUE=URI;X-ADDRESS=Home of Truth Spiritual Center 1300 Grand Street Alameda 94501 United States;X-APPLE-RADIUS=500;X-TITLE=1300 Grand Street:geo:-122.257123,37.769516
END:VEVENT
END:VCALENDAR