BEGIN:VCALENDAR
VERSION:2.0
PRODID:-//Leadership Embodiment - ECPv6.15.20//NONSGML v1.0//EN
CALSCALE:GREGORIAN
METHOD:PUBLISH
X-ORIGINAL-URL:https://leadershipembodiment.com
X-WR-CALDESC:Events for Leadership Embodiment
REFRESH-INTERVAL;VALUE=DURATION:PT1H
X-Robots-Tag:noindex
X-PUBLISHED-TTL:PT1H
BEGIN:VTIMEZONE
TZID:America/Los_Angeles
BEGIN:DAYLIGHT
TZOFFSETFROM:-0800
TZOFFSETTO:-0700
TZNAME:PDT
DTSTART:20210314T100000
END:DAYLIGHT
BEGIN:STANDARD
TZOFFSETFROM:-0700
TZOFFSETTO:-0800
TZNAME:PST
DTSTART:20211107T090000
END:STANDARD
BEGIN:DAYLIGHT
TZOFFSETFROM:-0800
TZOFFSETTO:-0700
TZNAME:PDT
DTSTART:20220313T100000
END:DAYLIGHT
BEGIN:STANDARD
TZOFFSETFROM:-0700
TZOFFSETTO:-0800
TZNAME:PST
DTSTART:20221106T090000
END:STANDARD
BEGIN:DAYLIGHT
TZOFFSETFROM:-0800
TZOFFSETTO:-0700
TZNAME:PDT
DTSTART:20230312T100000
END:DAYLIGHT
BEGIN:STANDARD
TZOFFSETFROM:-0700
TZOFFSETTO:-0800
TZNAME:PST
DTSTART:20231105T090000
END:STANDARD
END:VTIMEZONE
BEGIN:VEVENT
DTSTART;TZID=America/Los_Angeles:20220518T100000
DTEND;TZID=America/Los_Angeles:20220518T113000
DTSTAMP:20260424T123539
CREATED:20211220T184212Z
LAST-MODIFIED:20211220T184212Z
UID:10000781-1652868000-1652873400@leadershipembodiment.com
SUMMARY:Leadership Embodiment Public Zoom Meeting with Wendy Palmer
DESCRIPTION:LE Zoom classes \nBuild your Capacity for Resilience\, Confidence and Compassion\nThese classes will begin with movement exercises that energize and promote flow\, balance and alignment. Each class will have an orientation to the Leadership Embodiment model with context and language. There will be many opportunities for Centering Practices and ways to work with concerns and irritations that restore resilience\, confidence and compassion. \nWEDNESDAY – MAY 18\, 2022 \nTopic: Leadership Embodiment Drop-in Zoom Meeting with Wendy Palmer\nTime: May 18\, 2022 10:00am Pacific Time (North America/Europe/South Africa time-friendly)\nJoin Zoom Meeting\nhttps://us02web.zoom.us/j/81551306528 \nIf you would like to support Wendy and the Leadership Embodiment work you can give a gift of any amount via PayPal to office@leadershipembodiment.com. No PayPal account? Click here to gift via Square.
URL:https://leadershipembodiment.com/event/leadership-embodiment-public-zoom-meeting-with-wendy-palmer/
LOCATION:Online
CATEGORIES:North America,Europe,Online,South Africa
ORGANIZER;CN="LE Office":MAILTO:office@leadershipembodiment.com
END:VEVENT
END:VCALENDAR