BEGIN:VCALENDAR
VERSION:2.0
PRODID:-//Leadership Embodiment - ECPv6.15.20//NONSGML v1.0//EN
CALSCALE:GREGORIAN
METHOD:PUBLISH
X-WR-CALNAME:Leadership Embodiment
X-ORIGINAL-URL:https://leadershipembodiment.com
X-WR-CALDESC:Events for Leadership Embodiment
REFRESH-INTERVAL;VALUE=DURATION:PT1H
X-Robots-Tag:noindex
X-PUBLISHED-TTL:PT1H
BEGIN:VTIMEZONE
TZID:America/Los_Angeles
BEGIN:DAYLIGHT
TZOFFSETFROM:-0800
TZOFFSETTO:-0700
TZNAME:PDT
DTSTART:20250309T100000
END:DAYLIGHT
BEGIN:STANDARD
TZOFFSETFROM:-0700
TZOFFSETTO:-0800
TZNAME:PST
DTSTART:20251102T090000
END:STANDARD
BEGIN:DAYLIGHT
TZOFFSETFROM:-0800
TZOFFSETTO:-0700
TZNAME:PDT
DTSTART:20260308T100000
END:DAYLIGHT
BEGIN:STANDARD
TZOFFSETFROM:-0700
TZOFFSETTO:-0800
TZNAME:PST
DTSTART:20261101T090000
END:STANDARD
BEGIN:DAYLIGHT
TZOFFSETFROM:-0800
TZOFFSETTO:-0700
TZNAME:PDT
DTSTART:20270314T100000
END:DAYLIGHT
BEGIN:STANDARD
TZOFFSETFROM:-0700
TZOFFSETTO:-0800
TZNAME:PST
DTSTART:20271107T090000
END:STANDARD
END:VTIMEZONE
BEGIN:VEVENT
DTSTART;VALUE=DATE:20261022
DTEND;VALUE=DATE:20261023
DTSTAMP:20260423T145357
CREATED:20260422T150939Z
LAST-MODIFIED:20260422T151210Z
UID:10001231-1792627200-1792713599@leadershipembodiment.com
SUMMARY:Leadership Embodiment Coach Training 2026-2027 Europe (in English)
DESCRIPTION:The LECT Certification is a 6-month program tailored to professional coaches and facilitators offering the core foundations of LE training exercises with a focus on working with individuals and small groups/teams. This training consists of six modules\, three in-person and three virtual. This training will be led in English. For more information including all dates and pricing\, please CLICK HERE to download full information.  \nLE Level 1 & 2 courses are a prerequisite to the LECT. If you have attended a Level 1 course\, you may be able to attend a Level 2 course during the LECT program to meet the prerequisite requirements. Please reach out to the LECT program hub instructor to see if this option is available. \nCost does not include food\, lodging\, or transportation. Please contact us regarding meal options. \nStart Date: October 22\, 2026 (Kick-off phone call) \nEnd Date: April 15\, 2026
URL:https://leadershipembodiment.com/event/leadership-embodiment-coach-training-2026-2027-europe-in-english/
LOCATION:Online
CATEGORIES:Europe
ORGANIZER;CN="Anouk Brack":MAILTO:Anouk.Brack@anouka.nl
END:VEVENT
END:VCALENDAR