BEGIN:VCALENDAR
VERSION:2.0
PRODID:-//Leadership Embodiment - ECPv6.15.20//NONSGML v1.0//EN
CALSCALE:GREGORIAN
METHOD:PUBLISH
X-WR-CALNAME:Leadership Embodiment
X-ORIGINAL-URL:https://leadershipembodiment.com
X-WR-CALDESC:Events for Leadership Embodiment
REFRESH-INTERVAL;VALUE=DURATION:PT1H
X-Robots-Tag:noindex
X-PUBLISHED-TTL:PT1H
BEGIN:VTIMEZONE
TZID:UTC
BEGIN:STANDARD
TZOFFSETFROM:+0000
TZOFFSETTO:+0000
TZNAME:UTC
DTSTART:20140101T000000
END:STANDARD
END:VTIMEZONE
BEGIN:VEVENT
DTSTART;TZID=UTC:20151109T193000
DTEND;TZID=UTC:20151109T220000
DTSTAMP:20260424T045942
CREATED:20150624T180633Z
LAST-MODIFIED:20150624T180633Z
UID:10000932-1447097400-1447106400@leadershipembodiment.com
SUMMARY:Leadership Embodiment Practice Evening (Arnhem\, the Netherlands)
DESCRIPTION:Practice evening for everyone who has already participated in a LE Fundamentals or LE Intermediate training\, and also for everyone who is curious and wants to check out the Leadership Embodiment method. \nLanguage depending on participants in Dutch and/or English. \nSchedule \n\n19:30 Welcome\n20:00 – 21:30 LE Practice Evening\n21:30 – 22:00 Optional tea and chat\n\nLanguage: Dutch and / or English\, depending on the participants. \nRegister using the form at this webpage. You don’t need to buy a ticket in advance\, bring your contribution of € 15 to the gathering.
URL:https://leadershipembodiment.com/event/leadership-embodiment-practice-evening-arnhem-the-netherlands-2/
LOCATION:Shambhala Centre Arnhem\, Rijnkade 32\, Arnhem\,  6811 HA\, Netherlands
CATEGORIES:Europe
ATTACH;FMTTYPE=:
ORGANIZER;CN="Anouk Brack":MAILTO:Anouk.Brack@anouka.nl
END:VEVENT
BEGIN:VEVENT
DTSTART;TZID=UTC:20151012T193000
DTEND;TZID=UTC:20151012T220000
DTSTAMP:20260424T045942
CREATED:20150624T180015Z
LAST-MODIFIED:20150624T180015Z
UID:10000931-1444678200-1444687200@leadershipembodiment.com
SUMMARY:Leadership Embodiment Practice Evening (Arnhem\, the Netherlands)
DESCRIPTION:Practice evening for everyone who has already participated in a LE Fundamentals or LE Intermediate training\, and also for everyone who is curious and wants to check out the Leadership Embodiment method. \nLanguage depending on participants in Dutch and/or English. \nSchedule \n\n19:30 Welcome\n20:00 – 21:30 LE Practice Evening\n21:30 – 22:00 Optional tea and chat\n\nLanguage: Dutch and / or English\, depending on the participants. \nRegister using the form at this webpage. You don’t need to buy a ticket in advance\, bring your contribution of € 15 to the gathering.
URL:https://leadershipembodiment.com/event/leadership-embodiment-practice-evening-arnhem-the-netherlands/
LOCATION:Shambhala Centre Arnhem\, Rijnkade 32\, Arnhem\,  6811 HA\, Netherlands
CATEGORIES:Europe
ATTACH;FMTTYPE=:
ORGANIZER;CN="Anouk Brack":MAILTO:Anouk.Brack@anouka.nl
END:VEVENT
BEGIN:VEVENT
DTSTART;TZID=UTC:20150211T190000
DTEND;TZID=UTC:20150211T201500
DTSTAMP:20260424T045942
CREATED:20150210T225445Z
LAST-MODIFIED:20150210T225445Z
UID:10000914-1423681200-1423685700@leadershipembodiment.com
SUMMARY:Embodiment Classes with Joan Marie Passalacqua
DESCRIPTION:Learn\, explore\, and practice embodiment techniques from\nWendy Palmer’s two books: The Intuitive Body and Leadership Embodiment \n• Develop your personal presence to be more skillful\nin day-to-day interactions and professional life \n• Integrate awareness and posture to short-circuit reactive patterns\nand be more responsive and compassionate \nDrop-In Embodiment Classes \nAttend when you can–All levels welcome. \nWhen: Wednesdays\, 7-8:15p\n​February 11th  thru April 22nd \nLocation:  2700 Eighth Street\, Berkeley\, CA 94710 \nFee:  $15 each class\, $75 for 6-class package = one class free \nTaught by:  Joan Marie Passalacqua\, founder of the Applied Anatomy Institute\,\nCertified Leadership Embodiment Coach\, and student of Wendy Palmer \nDuring class we’ll: \n• Cultivate body language that supports our intentions \n• Embody techniques that lessen the impact of stress \n• Create states-of-being that encourage confidence \nMore Information:  AppliedAnatomy@gmail.com  OR  510-843-2270 \nSuggested\, but not required\, reading:\nThe Intuitive Body and Leadership Embodiment—available at Amazon.com
URL:https://leadershipembodiment.com/event/embodiment-classes-with-joan-marie-passalacqua/2015-02-11/
LOCATION:Applied Anatomy Institute\, 2700 Eighth Street\, Berkeley\, 94710\, United States
CATEGORIES:North America
ORGANIZER;CN="Joan Marie Passalacqua":MAILTO:AppliedAnatomy (at) gmail.com
END:VEVENT
END:VCALENDAR