BEGIN:VCALENDAR
VERSION:2.0
PRODID:-//Leadership Embodiment - ECPv6.15.20//NONSGML v1.0//EN
CALSCALE:GREGORIAN
METHOD:PUBLISH
X-WR-CALNAME:Leadership Embodiment
X-ORIGINAL-URL:https://leadershipembodiment.com
X-WR-CALDESC:Events for Leadership Embodiment
REFRESH-INTERVAL;VALUE=DURATION:PT1H
X-Robots-Tag:noindex
X-PUBLISHED-TTL:PT1H
BEGIN:VTIMEZONE
TZID:America/Los_Angeles
BEGIN:DAYLIGHT
TZOFFSETFROM:-0800
TZOFFSETTO:-0700
TZNAME:PDT
DTSTART:20160313T100000
END:DAYLIGHT
BEGIN:STANDARD
TZOFFSETFROM:-0700
TZOFFSETTO:-0800
TZNAME:PST
DTSTART:20161106T090000
END:STANDARD
BEGIN:DAYLIGHT
TZOFFSETFROM:-0800
TZOFFSETTO:-0700
TZNAME:PDT
DTSTART:20170312T100000
END:DAYLIGHT
BEGIN:STANDARD
TZOFFSETFROM:-0700
TZOFFSETTO:-0800
TZNAME:PST
DTSTART:20171105T090000
END:STANDARD
BEGIN:DAYLIGHT
TZOFFSETFROM:-0800
TZOFFSETTO:-0700
TZNAME:PDT
DTSTART:20180311T100000
END:DAYLIGHT
BEGIN:STANDARD
TZOFFSETFROM:-0700
TZOFFSETTO:-0800
TZNAME:PST
DTSTART:20181104T090000
END:STANDARD
BEGIN:DAYLIGHT
TZOFFSETFROM:-0800
TZOFFSETTO:-0700
TZNAME:PDT
DTSTART:20190310T100000
END:DAYLIGHT
BEGIN:STANDARD
TZOFFSETFROM:-0700
TZOFFSETTO:-0800
TZNAME:PST
DTSTART:20191103T090000
END:STANDARD
BEGIN:DAYLIGHT
TZOFFSETFROM:-0800
TZOFFSETTO:-0700
TZNAME:PDT
DTSTART:20200308T100000
END:DAYLIGHT
BEGIN:STANDARD
TZOFFSETFROM:-0700
TZOFFSETTO:-0800
TZNAME:PST
DTSTART:20201101T090000
END:STANDARD
BEGIN:DAYLIGHT
TZOFFSETFROM:-0800
TZOFFSETTO:-0700
TZNAME:PDT
DTSTART:20210314T100000
END:DAYLIGHT
BEGIN:STANDARD
TZOFFSETFROM:-0700
TZOFFSETTO:-0800
TZNAME:PST
DTSTART:20211107T090000
END:STANDARD
BEGIN:DAYLIGHT
TZOFFSETFROM:-0800
TZOFFSETTO:-0700
TZNAME:PDT
DTSTART:20220313T100000
END:DAYLIGHT
BEGIN:STANDARD
TZOFFSETFROM:-0700
TZOFFSETTO:-0800
TZNAME:PST
DTSTART:20221106T090000
END:STANDARD
BEGIN:DAYLIGHT
TZOFFSETFROM:-0800
TZOFFSETTO:-0700
TZNAME:PDT
DTSTART:20230312T100000
END:DAYLIGHT
BEGIN:STANDARD
TZOFFSETFROM:-0700
TZOFFSETTO:-0800
TZNAME:PST
DTSTART:20231105T090000
END:STANDARD
BEGIN:DAYLIGHT
TZOFFSETFROM:-0800
TZOFFSETTO:-0700
TZNAME:PDT
DTSTART:20240310T100000
END:DAYLIGHT
BEGIN:STANDARD
TZOFFSETFROM:-0700
TZOFFSETTO:-0800
TZNAME:PST
DTSTART:20241103T090000
END:STANDARD
END:VTIMEZONE
BEGIN:VEVENT
DTSTART;VALUE=DATE:20230624
DTEND;VALUE=DATE:20230626
DTSTAMP:20260424T181331
CREATED:20230605T163853Z
LAST-MODIFIED:20230605T164557Z
UID:10001012-1687564800-1687737599@leadershipembodiment.com
SUMMARY:Level 1 with Paul King
DESCRIPTION:Join Paul King for a 2-Day Level 1 in Oxford\, United Kingdom. For a description of the Leadership Embodiment Level 1\, please see our Public Courses page.   \nDates: 24-25 June 2023 \n \nEurope / United Kingdom
URL:https://leadershipembodiment.com/event/level-1-with-paul-king-59/
LOCATION:Central Oxford\, Oxford\, United Kingdom
CATEGORIES:Europe
ORGANIZER;CN="Paul King":MAILTO:info@thebeyondpartnership.co.uk
GEO:51.7520209;-1.2577263
END:VEVENT
BEGIN:VEVENT
DTSTART;VALUE=DATE:20170425
DTEND;VALUE=DATE:20170427
DTSTAMP:20260424T181331
CREATED:20170103T230440Z
LAST-MODIFIED:20170103T230440Z
UID:10000608-1493078400-1493251199@leadershipembodiment.com
SUMMARY:Level 2 with Michele Seymour
DESCRIPTION:Blossoming Under Pressure\nJoin Michele Seymour for a 2-Day Level 2 Intermediate in Berkshire\, England. For a description of a Level 2\, please see our courses page.  For more information\, please click here.   \nDates: 25th & 26th April 2017
URL:https://leadershipembodiment.com/event/level-2-with-michele-seymour-3/
CATEGORIES:Europe
ATTACH;FMTTYPE=:
ORGANIZER;CN="Michele Seymour":MAILTO:Jacky (at) balancematters (dot) com
END:VEVENT
BEGIN:VEVENT
DTSTART;VALUE=DATE:20170223
DTEND;VALUE=DATE:20170225
DTSTAMP:20260424T181331
CREATED:20170103T224906Z
LAST-MODIFIED:20170103T224906Z
UID:10000607-1487808000-1487980799@leadershipembodiment.com
SUMMARY:Level 1 with Michele Seymour
DESCRIPTION:Join Michele Seymour for a 2-day Level 1 Fundamentals in Berkshire.  For a description of a Level 1\, please see our courses page. More details are to follow.  Meantime\, please contact Michele or Jacky with any questions. \nDates: 23rd & 24th February 2017
URL:https://leadershipembodiment.com/event/level-1-with-michele-seymour-4/
CATEGORIES:Europe
ATTACH;FMTTYPE=:
ORGANIZER;CN="Michele Seymour":MAILTO:Jacky (at) balancematters (dot) com
END:VEVENT
END:VCALENDAR