BEGIN:VCALENDAR
VERSION:2.0
PRODID:-//Leadership Embodiment - ECPv6.15.20//NONSGML v1.0//EN
CALSCALE:GREGORIAN
METHOD:PUBLISH
X-ORIGINAL-URL:https://leadershipembodiment.com
X-WR-CALDESC:Events for Leadership Embodiment
REFRESH-INTERVAL;VALUE=DURATION:PT1H
X-Robots-Tag:noindex
X-PUBLISHED-TTL:PT1H
BEGIN:VTIMEZONE
TZID:America/Los_Angeles
BEGIN:DAYLIGHT
TZOFFSETFROM:-0800
TZOFFSETTO:-0700
TZNAME:PDT
DTSTART:20230312T100000
END:DAYLIGHT
BEGIN:STANDARD
TZOFFSETFROM:-0700
TZOFFSETTO:-0800
TZNAME:PST
DTSTART:20231105T090000
END:STANDARD
BEGIN:DAYLIGHT
TZOFFSETFROM:-0800
TZOFFSETTO:-0700
TZNAME:PDT
DTSTART:20240310T100000
END:DAYLIGHT
BEGIN:STANDARD
TZOFFSETFROM:-0700
TZOFFSETTO:-0800
TZNAME:PST
DTSTART:20241103T090000
END:STANDARD
BEGIN:DAYLIGHT
TZOFFSETFROM:-0800
TZOFFSETTO:-0700
TZNAME:PDT
DTSTART:20250309T100000
END:DAYLIGHT
BEGIN:STANDARD
TZOFFSETFROM:-0700
TZOFFSETTO:-0800
TZNAME:PST
DTSTART:20251102T090000
END:STANDARD
END:VTIMEZONE
BEGIN:VEVENT
DTSTART;VALUE=DATE:20240618
DTEND;VALUE=DATE:20240620
DTSTAMP:20260424T050327
CREATED:20231011T134805Z
LAST-MODIFIED:20231011T142027Z
UID:10001035-1718668800-1718841599@leadershipembodiment.com
SUMMARY:Leadership Embodiment Level 2 with Amanda Ridings
DESCRIPTION:Join Amanda in central Falkland\, Fife\, Scotland for a 2-Day Leadership Embodiment Level 2 course. You must have completed a Level 1 before attending a Level 2.  For a description of a Level 2\, please see our Public Courses page. For more information\, please CLICK HERE. To note interest\, please contact Amanda Ridings. \n \nDates: 18 – 19 June 2024 \nEurope
URL:https://leadershipembodiment.com/event/leadership-embodiment-level-2-with-amanda-ridings/
LOCATION:Falkland\, Fife Venue\, Fife\, Scotland
CATEGORIES:Europe
ORGANIZER;CN="Amanda Ridings":MAILTO:Amanda@originate.org.uk
END:VEVENT
END:VCALENDAR