BEGIN:VCALENDAR
VERSION:2.0
PRODID:-//Leadership Embodiment - ECPv6.15.20//NONSGML v1.0//EN
CALSCALE:GREGORIAN
METHOD:PUBLISH
X-WR-CALNAME:Leadership Embodiment
X-ORIGINAL-URL:https://leadershipembodiment.com
X-WR-CALDESC:Events for Leadership Embodiment
REFRESH-INTERVAL;VALUE=DURATION:PT1H
X-Robots-Tag:noindex
X-PUBLISHED-TTL:PT1H
BEGIN:VTIMEZONE
TZID:America/Los_Angeles
BEGIN:DAYLIGHT
TZOFFSETFROM:-0800
TZOFFSETTO:-0700
TZNAME:PDT
DTSTART:20180311T100000
END:DAYLIGHT
BEGIN:STANDARD
TZOFFSETFROM:-0700
TZOFFSETTO:-0800
TZNAME:PST
DTSTART:20181104T090000
END:STANDARD
BEGIN:DAYLIGHT
TZOFFSETFROM:-0800
TZOFFSETTO:-0700
TZNAME:PDT
DTSTART:20190310T100000
END:DAYLIGHT
BEGIN:STANDARD
TZOFFSETFROM:-0700
TZOFFSETTO:-0800
TZNAME:PST
DTSTART:20191103T090000
END:STANDARD
BEGIN:DAYLIGHT
TZOFFSETFROM:-0800
TZOFFSETTO:-0700
TZNAME:PDT
DTSTART:20200308T100000
END:DAYLIGHT
BEGIN:STANDARD
TZOFFSETFROM:-0700
TZOFFSETTO:-0800
TZNAME:PST
DTSTART:20201101T090000
END:STANDARD
BEGIN:DAYLIGHT
TZOFFSETFROM:-0800
TZOFFSETTO:-0700
TZNAME:PDT
DTSTART:20210314T100000
END:DAYLIGHT
BEGIN:STANDARD
TZOFFSETFROM:-0700
TZOFFSETTO:-0800
TZNAME:PST
DTSTART:20211107T090000
END:STANDARD
END:VTIMEZONE
BEGIN:VEVENT
DTSTART;VALUE=DATE:20201205
DTEND;VALUE=DATE:20201207
DTSTAMP:20260424T134237
CREATED:20200203T183551Z
LAST-MODIFIED:20200203T183551Z
UID:10000387-1607126400-1607299199@leadershipembodiment.com
SUMMARY:Level 1 with Paul King
DESCRIPTION:Join Paul King for a 2-Day Level 1 in Bucharest\, Romania. For a description of a Level 1\, please see our courses page.  \nDates: 5-6 December 2020
URL:https://leadershipembodiment.com/event/level-1-with-paul-king-47/
LOCATION:Bucharest Venue\, Bucharest\, Romania
CATEGORIES:Europe
ATTACH;FMTTYPE=:
ORGANIZER;CN="Paul King":MAILTO:info@thebeyondpartnership.co.uk
END:VEVENT
BEGIN:VEVENT
DTSTART;VALUE=DATE:20201105
DTEND;VALUE=DATE:20201107
DTSTAMP:20260424T134237
CREATED:20200701T174148Z
LAST-MODIFIED:20200701T174148Z
UID:10000417-1604534400-1604707199@leadershipembodiment.com
SUMMARY:Level 1 with Marie Weitbrecht - CANCELLED
DESCRIPTION:DUE TO NEW RESTRICTIONS\, THIS COURSE HAS BEEN CANCELLED.  You may see Marie’s website to stay informed of future dates for her courses.  She is gathering names now for those interested in her course\, so please email her if you’d like to be on her list.  Join Marie Weitbrecht in Hamburg\, Germany for a 2-Day Level 1. For a description of Leadership Embodiment Level 1\, please see our courses page.  \nFor more info and booking\, please CLICK HERE.
URL:https://leadershipembodiment.com/event/level-1-with-marie-weitbrecht-2/
LOCATION:Hamburg Venue\, Hamburg\, Germany
CATEGORIES:Europe
ATTACH;FMTTYPE=:
ORGANIZER;CN="Marie Weitbrecht":MAILTO:mh@marieweitbrecht.com
END:VEVENT
BEGIN:VEVENT
DTSTART;VALUE=DATE:20200921
DTEND;VALUE=DATE:20200923
DTSTAMP:20260424T134237
CREATED:20191111T220657Z
LAST-MODIFIED:20191111T220657Z
UID:10000356-1600646400-1600819199@leadershipembodiment.com
SUMMARY:Level 1 with Pierre Goirand
DESCRIPTION:Join Pierre for a two-day Level 1 in Zurich\, Switzerland. For a description of a Level 1\, please see our courses page.  \nThis course will be taught in English. \nDates: 21-22 September 2020
URL:https://leadershipembodiment.com/event/level-2-with-pierre-goirand-12/
LOCATION:All In One Spirit\, Filzbach\, Zurich\, Switzerland
CATEGORIES:Europe
ATTACH;FMTTYPE=:
ORGANIZER;CN="All Dimensions":MAILTO:myriam.mathys@all-dimensions.com
END:VEVENT
BEGIN:VEVENT
DTSTART;VALUE=DATE:20200627
DTEND;VALUE=DATE:20200629
DTSTAMP:20260424T134237
CREATED:20200203T184122Z
LAST-MODIFIED:20200203T184122Z
UID:10000388-1593216000-1593388799@leadershipembodiment.com
SUMMARY:Level 1 with Paul King
DESCRIPTION:Join Paul King for a 2-Day Level 1 in Wiltshire\, England. For a description of a Level 1\, please see our courses page.  \nDates: 27-28 June 2020
URL:https://leadershipembodiment.com/event/level-1-with-paul-king-48/
LOCATION:Royal Wootton Bassett\, Royal Wootton Bassett\, Wiltshire\, SN4\, United Kingdom
CATEGORIES:Europe
ATTACH;FMTTYPE=:
ORGANIZER;CN="Paul King":MAILTO:info@thebeyondpartnership.co.uk
END:VEVENT
BEGIN:VEVENT
DTSTART;VALUE=DATE:20200606
DTEND;VALUE=DATE:20200608
DTSTAMP:20260424T134237
CREATED:20200212T171935Z
LAST-MODIFIED:20200212T171935Z
UID:10000395-1591401600-1591574399@leadershipembodiment.com
SUMMARY:Level 1 with Olivia Cheever and Elizabeth Valentine
DESCRIPTION:Please join Olivia and Elizabeth for a 2-Day Level 1 in Westwood\, Massachusetts.  For a description of a Level 1\, please see our courses page.  \nDates: 6-7 June 2020
URL:https://leadershipembodiment.com/event/level-1-with-olivia-cheever-and-elizabeth-valentine-8/
LOCATION:Center at Westwoods\, 590 Gay Street\, Westwood\, MA\, 02090\, United States
CATEGORIES:North America
ATTACH;FMTTYPE=:
ORGANIZER;CN="Elizabeth Valentine":MAILTO:valentine.ev@gmail.com
GEO:42.2219368;-71.1962182
X-APPLE-STRUCTURED-LOCATION;VALUE=URI;X-ADDRESS=Center at Westwoods 590 Gay Street Westwood MA 02090 United States;X-APPLE-RADIUS=500;X-TITLE=590 Gay Street:geo:-71.1962182,42.2219368
END:VEVENT
BEGIN:VEVENT
DTSTART;VALUE=DATE:20200606
DTEND;VALUE=DATE:20200608
DTSTAMP:20260424T134237
CREATED:20200211T183314Z
LAST-MODIFIED:20200211T183314Z
UID:10000392-1591401600-1591574399@leadershipembodiment.com
SUMMARY:Level 1 with Paul Ciske - POSTPONED
DESCRIPTION:THIS CLASS HAS BEEN POSTPONED.  PLEASE CHECK BACK FOR NEW DATES.  Join Paul for a 2-Day Level 1 in Oakland\, CA.  For a description of a Level 1\, please see our courses page.  \nDates: 6-7 June 2020
URL:https://leadershipembodiment.com/event/level-1-with-paul-ciske-5/
LOCATION:Your Well-Being\, Oakland\, CA\, United States
CATEGORIES:North America
ATTACH;FMTTYPE=:
ORGANIZER;CN="Paul Ciske":MAILTO:paul@paulciske.com
END:VEVENT
BEGIN:VEVENT
DTSTART;VALUE=DATE:20200516
DTEND;VALUE=DATE:20200518
DTSTAMP:20260424T134237
CREATED:20200203T184547Z
LAST-MODIFIED:20200203T184547Z
UID:10000389-1589587200-1589759999@leadershipembodiment.com
SUMMARY:Level 1 with Paul King
DESCRIPTION:Join Paul King for a 2-Day Level 1 in Rome\, Italy. For a description of a Level 1\, please see our courses page. \nDates: 16-17 May 2020
URL:https://leadershipembodiment.com/event/level-1-with-paul-king-49/
LOCATION:Rome Venue\, Italy
CATEGORIES:Europe
ATTACH;FMTTYPE=:
ORGANIZER;CN="Paul King":MAILTO:info@thebeyondpartnership.co.uk
END:VEVENT
BEGIN:VEVENT
DTSTART;VALUE=DATE:20200514
DTEND;VALUE=DATE:20200516
DTSTAMP:20260424T134237
CREATED:20200109T193958Z
LAST-MODIFIED:20200109T193958Z
UID:10000377-1589414400-1589587199@leadershipembodiment.com
SUMMARY:Level 1 with Ched Lee
DESCRIPTION:Join Ched for a 2-Day Level 1 Fundamentals in Kuala Lumpur\, Malaysia. For a description of a Level 1\, please see our courses page.  \nDates: 14-15 May 2020\nTimes: 9:00am – 5:30pm
URL:https://leadershipembodiment.com/event/level-1-with-ched-lee-16/
LOCATION:Kuala Lumpur Venue\, Kuala Lumpur\, Malaysia
CATEGORIES:Asia
ATTACH;FMTTYPE=:
ORGANIZER;CN="Ched Lee":MAILTO:ched@chedlee.com
END:VEVENT
BEGIN:VEVENT
DTSTART;VALUE=DATE:20200512
DTEND;VALUE=DATE:20200514
DTSTAMP:20260424T134237
CREATED:20200203T190914Z
LAST-MODIFIED:20200203T190914Z
UID:10000390-1589241600-1589414399@leadershipembodiment.com
SUMMARY:Level 1 with Paul King
DESCRIPTION:Join Paul King in Central London for a 2-Day Level 1. For a description of a Level 1\, please see our courses page.  \nDates: 12-13 May 2020
URL:https://leadershipembodiment.com/event/level-1-with-paul-king-50/
LOCATION:Central London Venue\, London\, United Kingdom
CATEGORIES:Europe
ATTACH;FMTTYPE=:
ORGANIZER;CN="Paul King":MAILTO:info@thebeyondpartnership.co.uk
END:VEVENT
BEGIN:VEVENT
DTSTART;VALUE=DATE:20200424
DTEND;VALUE=DATE:20200426
DTSTAMP:20260424T134237
CREATED:20200129T181629Z
LAST-MODIFIED:20200129T181629Z
UID:10000384-1587686400-1587859199@leadershipembodiment.com
SUMMARY:Level 1 with Ched Lee
DESCRIPTION:Join Ched for a 2-Day Level 1 in Shanghai. For a description of a Level 1\, please see our courses page.  \nDates: 24-25 April 2020
URL:https://leadershipembodiment.com/event/level-1-with-ched-lee-17/
LOCATION:Shanghai Venue\, Shanghai\, China
CATEGORIES:Asia
ATTACH;FMTTYPE=:
ORGANIZER;CN="Ched Lee":MAILTO:ched@chedlee.com
GEO:31.230416;121.473701
END:VEVENT
BEGIN:VEVENT
DTSTART;VALUE=DATE:20200417
DTEND;VALUE=DATE:20200419
DTSTAMP:20260424T134237
CREATED:20200109T192824Z
LAST-MODIFIED:20200109T192824Z
UID:10000376-1587081600-1587254399@leadershipembodiment.com
SUMMARY:Level 1 with Ched Lee
DESCRIPTION:Join Ched Lee for a 2-Day Level 1 Fundamentals in Singapore. For a description of a Level 1\, please see our courses page.  \nDates: 17-18 April 2020\nTimes: 9:00am – 5:30pm
URL:https://leadershipembodiment.com/event/level-1-with-ched-lee-15/
LOCATION:Singapore Venue\, Singapore
CATEGORIES:Asia
ATTACH;FMTTYPE=:
ORGANIZER;CN="Ched Lee":MAILTO:ched@chedlee.com
GEO:1.352083;103.819836
END:VEVENT
BEGIN:VEVENT
DTSTART;VALUE=DATE:20200415
DTEND;VALUE=DATE:20200417
DTSTAMP:20260424T134237
CREATED:20200211T222042Z
LAST-MODIFIED:20200211T222042Z
UID:10000393-1586908800-1587081599@leadershipembodiment.com
SUMMARY:Level 1 with RJ Jennings POSTPONED
DESCRIPTION:Due to Covid-19 and mandate of Shelter In Place – The LE 1 course scheduled for April 15 & 16 is postponed\, date TBD. We will repost dates at the appropriate time.  \nMost importantly we trust you all are observing Shelter In Place and keeping yourself\, family and friends safe. My personal experience is that the practices from Leadership Embodiment are helpful during this stressful time. Many of the practices can be found in Wendy’s most recent book\, Leadership Embodiment. I am also working with clients via VC to help them find ways to show up more skillfully during these trying times. \nFeel free to reach out if you would like to meet via VC for a session (complimentary) and to discuss how this work might be helpful. \nThanks\,\nRJ\nrj@soulfulview.com \nRJ Jennings Group\nwww.skillfulinteraction.com \n415-517-2684
URL:https://leadershipembodiment.com/event/level-1-with-rj-jennings-and-sahar-azarabadi-2/
LOCATION:LE Center House\, 813 Vendola Avenue\, San Rafael\, CA\, 94903\, United States
CATEGORIES:North America
ATTACH;FMTTYPE=:
ORGANIZER;CN="RJ":MAILTO:rj@soulview.com
END:VEVENT
BEGIN:VEVENT
DTSTART;VALUE=DATE:20200408
DTEND;VALUE=DATE:20200410
DTSTAMP:20260424T134237
CREATED:20200130T173302Z
LAST-MODIFIED:20200130T173302Z
UID:10000385-1586304000-1586476799@leadershipembodiment.com
SUMMARY:Level 1 with Anouk Brack
DESCRIPTION:Join Anouk for a 2-Day Level 1 Fundamentals in Arnhem\, the Netherlands. For a description of a Level 1\, please see our courses page.  \nDates: 8-9 April 2020 \nContact Anouk for details: Anouk.brack@anouka.nl
URL:https://leadershipembodiment.com/event/level-1-with-anouk-brack-8/
LOCATION:Arnhem Venue\, Arnhem\, Netherlands
CATEGORIES:Europe
ATTACH;FMTTYPE=:
ORGANIZER;CN="Anouk Brack":MAILTO:Anouk.Brack@anouka.nl
END:VEVENT
BEGIN:VEVENT
DTSTART;VALUE=DATE:20200314
DTEND;VALUE=DATE:20200316
DTSTAMP:20260424T134237
CREATED:20200109T184840Z
LAST-MODIFIED:20200109T184840Z
UID:10000375-1584144000-1584316799@leadershipembodiment.com
SUMMARY:Level 1 with Ched Lee
DESCRIPTION:Join Ched Lee for a 2-Day Level 1 Fundamentals in Singapore.  For a description of a Level 1\, please see our courses page.  \nDates: 14-15 March 2020\nTimes: 9:00am-5:30pm
URL:https://leadershipembodiment.com/event/level-1-with-ched-lee-14/
LOCATION:Singapore Venue\, Singapore
CATEGORIES:Asia
ATTACH;FMTTYPE=:
ORGANIZER;CN="Ched Lee":MAILTO:ched@chedlee.com
GEO:1.352083;103.819836
END:VEVENT
BEGIN:VEVENT
DTSTART;VALUE=DATE:20200307
DTEND;VALUE=DATE:20200309
DTSTAMP:20260424T134237
CREATED:20200212T171523Z
LAST-MODIFIED:20200212T171523Z
UID:10000394-1583539200-1583711999@leadershipembodiment.com
SUMMARY:Level 1 with Olivia Cheever and Elizabeth Valentine
DESCRIPTION:Join Olivia and Elizabeth for a 2-Day Level 1 in Westwood\, Massachusetts. For a description of a Level 1\, please see our courses page.  \nDates: 7-8 March 2020
URL:https://leadershipembodiment.com/event/level-1-with-olivia-cheever-and-elizabeth-valentine-7/
LOCATION:Center at Westwoods\, 590 Gay Street\, Westwood\, MA\, 02090\, United States
CATEGORIES:North America
ATTACH;FMTTYPE=:
ORGANIZER;CN="Elizabeth Valentine":MAILTO:valentine.ev@gmail.com
GEO:42.2219368;-71.1962182
X-APPLE-STRUCTURED-LOCATION;VALUE=URI;X-ADDRESS=Center at Westwoods 590 Gay Street Westwood MA 02090 United States;X-APPLE-RADIUS=500;X-TITLE=590 Gay Street:geo:-71.1962182,42.2219368
END:VEVENT
BEGIN:VEVENT
DTSTART;VALUE=DATE:20200214
DTEND;VALUE=DATE:20200216
DTSTAMP:20260424T134237
CREATED:20200109T181542Z
LAST-MODIFIED:20200109T181542Z
UID:10000371-1581638400-1581811199@leadershipembodiment.com
SUMMARY:Level 1 with Ched Lee
DESCRIPTION:Join Ched for a 2-Day Level 1 in Singapore. For a description of a Level 1 Fundamentals\, please see our courses page.  \nDates: 14-15 February 2020\nTimes: 9:00am – 5:30pm
URL:https://leadershipembodiment.com/event/level-1-with-ched-lee-12/
LOCATION:Singapore Venue\, Singapore
CATEGORIES:Asia
ATTACH;FMTTYPE=:
ORGANIZER;CN="Ched Lee":MAILTO:ched@chedlee.com
GEO:1.352083;103.819836
END:VEVENT
BEGIN:VEVENT
DTSTART;VALUE=DATE:20200213
DTEND;VALUE=DATE:20200215
DTSTAMP:20260424T134237
CREATED:20190306T192222Z
LAST-MODIFIED:20190306T192222Z
UID:10000299-1581552000-1581724799@leadershipembodiment.com
SUMMARY:Level 1 with Pierre Goirand
DESCRIPTION:Join Pierre for a 2-Day Level 1 in Berlin\, Germany. For a description of a Level 1\, please see our courses page. For more information or to register\, please click here. \nThis course will be taught in English. \nDates: 13-14 February 2020
URL:https://leadershipembodiment.com/event/level-1-with-pierre-goirand-13/
LOCATION:Berlin\, Germany Venue\, Berlin\, Germany
CATEGORIES:Europe
ATTACH;FMTTYPE=:
ORGANIZER;CN="Pierre Goirand":MAILTO:contact@presenceleadership.net
GEO:52.5200066;13.404954
END:VEVENT
BEGIN:VEVENT
DTSTART;VALUE=DATE:20200116
DTEND;VALUE=DATE:20200118
DTSTAMP:20260424T134237
CREATED:20200109T181139Z
LAST-MODIFIED:20200109T181139Z
UID:10000370-1579132800-1579305599@leadershipembodiment.com
SUMMARY:Level 1 with Ched Lee
DESCRIPTION:Join Ched for a 2-Day Level 1 in Singapore. For a description of a Level 1 Fundamentals\, please see our courses page.  \nDates: 16-17 January 2020\nTimes: 9:00am – 5:30pm
URL:https://leadershipembodiment.com/event/level-1-with-ched-lee-11/
LOCATION:Singapore Venue\, Singapore
CATEGORIES:Asia
ATTACH;FMTTYPE=:
ORGANIZER;CN="Ched Lee":MAILTO:ched@chedlee.com
GEO:1.352083;103.819836
END:VEVENT
BEGIN:VEVENT
DTSTART;VALUE=DATE:20191031
DTEND;VALUE=DATE:20191101
DTSTAMP:20260424T134237
CREATED:20190206T183957Z
LAST-MODIFIED:20190206T183957Z
UID:10000292-1572480000-1572566399@leadershipembodiment.com
SUMMARY:Level 1 with Anouk Brack (Day 1 of 2)
DESCRIPTION:Join Anouk for a 2-Day Level 1 course in Arnhem\, the Netherlands.  Language of the training is Dutch\, with explanation in English when necessary. For more information or to register\, please click here.  \nDay one: October 31\, 2019\nDay two: November 14\, 2019
URL:https://leadershipembodiment.com/event/level-1-with-anouk-brack-day-1-of-2-4/
LOCATION:Shambhala Centre Arnhem\, Rijnkade 32\, Arnhem\,  6811 HA\, Netherlands
CATEGORIES:Europe
ATTACH;FMTTYPE=:
ORGANIZER;CN="Anouk Brack":MAILTO:Anouk.Brack@anouka.nl
END:VEVENT
BEGIN:VEVENT
DTSTART;VALUE=DATE:20191028
DTEND;VALUE=DATE:20191030
DTSTAMP:20260424T134237
CREATED:20190306T165842Z
LAST-MODIFIED:20190306T165842Z
UID:10000298-1572220800-1572393599@leadershipembodiment.com
SUMMARY:Level 1 with Pierre Goirand
DESCRIPTION:Join Pierre in Köln\, Germany for a 2-Day Level 1. For a description of a Level 1\, please see our courses page. For more information or to register\, please click here.  \nThis course will be taught in English.   \nDates: 28-29 October 2019
URL:https://leadershipembodiment.com/event/level-1-with-pierre-goirand-11/
LOCATION:Köln\, Germany Venue\, Köln\, Germany
CATEGORIES:Europe
ATTACH;FMTTYPE=:
ORGANIZER;CN="Pierre Goirand":MAILTO:contact@presenceleadership.net
GEO:50.937531;6.9602786
END:VEVENT
BEGIN:VEVENT
DTSTART;VALUE=DATE:20191018
DTEND;VALUE=DATE:20191020
DTSTAMP:20260424T134237
CREATED:20190320T151128Z
LAST-MODIFIED:20190320T151128Z
UID:10000302-1571356800-1571529599@leadershipembodiment.com
SUMMARY:Level 1 with Ched Lee
DESCRIPTION:Join Ched for a 2-Day Level 1 in Singapore. For a description of a Level 1\, please see our courses page.   \nDates: 18-19 October 2019
URL:https://leadershipembodiment.com/event/level-1-with-ched-lee-8/
LOCATION:Singapore Venue\, Singapore
CATEGORIES:Asia
ATTACH;FMTTYPE=:
ORGANIZER;CN="Ched Lee":MAILTO:ched@chedlee.com
GEO:1.352083;103.819836
END:VEVENT
BEGIN:VEVENT
DTSTART;VALUE=DATE:20191005
DTEND;VALUE=DATE:20191007
DTSTAMP:20260424T134237
CREATED:20190612T164008Z
LAST-MODIFIED:20190612T164008Z
UID:10000316-1570233600-1570406399@leadershipembodiment.com
SUMMARY:Level 1 with Paul Ciske
DESCRIPTION:Join Paul Ciske for a 2-Day Level 1 in Oakland\, California (near Lake Merritt).  For a description of a Level 1\, please see our courses page.   \nLevel 1 Information:\nDates: October 5-6\, 2019\nTimes: 9:30am – 5:00pm \nInvestment:\nEarly registration cost: $450 until September 28th ($100 non-refundable* deposit to hold your space)\nLater registration cost: $500 after September 28th\nPackage with Level 2 with Paul Ciske: $900 – SAVES $100 ($200 non-refundable* deposit to hold your space) \nPayment:\nPaypal to: paul@paulciske.com (please use “friends and family”)\nCheck – please mail check to:\nPaul Ciske\n351 Santa Clara Ave\nOakland\, CA 94610 \nPlease email all inquiries to paul@paulciske.com\nwith the subject heading of: \nLE Level 1 OAKLAND  in October \n*Under extenuating circumstances deposit may be applied to a future class
URL:https://leadershipembodiment.com/event/level-1-with-paul-ciske-3/
LOCATION:Your Well-Being\, Oakland\, CA\, United States
CATEGORIES:North America
ATTACH;FMTTYPE=:
ORGANIZER;CN="Paul Ciske":MAILTO:paulciske@sbcglobal.net
END:VEVENT
BEGIN:VEVENT
DTSTART;VALUE=DATE:20191001
DTEND;VALUE=DATE:20191003
DTSTAMP:20260424T134237
CREATED:20181017T182332Z
LAST-MODIFIED:20181017T182332Z
UID:10000255-1569888000-1570060799@leadershipembodiment.com
SUMMARY:Level 1 with Karen White & Lisa Hansford
DESCRIPTION:Join Karen & Lisa for a 2-Day Level 1 at Old Mutual House in the Cape Town region.  For a description of a Level 1\, please see our courses page.   \nDates: 1-2 October 2019
URL:https://leadershipembodiment.com/event/level-1-with-karen-white-lisa-hansford-4/
LOCATION:Old Mutual House\, 33 Klaassens Rd\, Constantia\, Western Cape\, South Africa
CATEGORIES:South Africa
ATTACH;FMTTYPE=:
ORGANIZER;CN="Karen White":MAILTO:karen@thehumanconnection.co.za
END:VEVENT
BEGIN:VEVENT
DTSTART;VALUE=DATE:20190927
DTEND;VALUE=DATE:20190929
DTSTAMP:20260424T134237
CREATED:20190320T144318Z
LAST-MODIFIED:20190320T144318Z
UID:10000301-1569542400-1569715199@leadershipembodiment.com
SUMMARY:Level 1 with Ched Lee
DESCRIPTION:Join Ched in Singapore for a 2-Day Level 1 course. For a description of a Level 1\, please see our courses page.  \nDates: 27-28 September 2019
URL:https://leadershipembodiment.com/event/level-1-with-ched-lee-7/
LOCATION:Singapore Venue\, Singapore
CATEGORIES:Asia
ATTACH;FMTTYPE=:
ORGANIZER;CN="Ched Lee":MAILTO:ched@chedlee.com
GEO:1.352083;103.819836
END:VEVENT
BEGIN:VEVENT
DTSTART;VALUE=DATE:20190921
DTEND;VALUE=DATE:20190923
DTSTAMP:20260424T134237
CREATED:20190607T195716Z
LAST-MODIFIED:20190607T195716Z
UID:10000313-1569024000-1569196799@leadershipembodiment.com
SUMMARY:Level 1 with Paul King
DESCRIPTION:Join Paul King in Dublin\, Ireland for a 2-Day Level 1.  For a description of a Level 1\, please see our courses page.
URL:https://leadershipembodiment.com/event/level-1-with-paul-king-37/
LOCATION:Dublin Venue\, Dublin\, Ireland
CATEGORIES:Europe
ATTACH;FMTTYPE=:
ORGANIZER;CN="Paul King":MAILTO:info@thebeyondpartnership.co.uk
END:VEVENT
BEGIN:VEVENT
DTSTART;VALUE=DATE:20190921
DTEND;VALUE=DATE:20190923
DTSTAMP:20260424T134237
CREATED:20190510T201417Z
LAST-MODIFIED:20190510T201417Z
UID:10000309-1569024000-1569196799@leadershipembodiment.com
SUMMARY:Level 1 with Miryam Chavarria Romero & Robin La Baw (NEW DATES)
DESCRIPTION:Join Miryam and Robin in Sister Bay\, Wisconsin for a two-day Level 1.  For a description of a Level 1\, please see our courses page. For more information or to register\, please click here.  \nDates: September 21-22\, 2019\nTimes: 10:00 am – 5:00 pm daily
URL:https://leadershipembodiment.com/event/level-1-with-miryam-chavarria-romero-robin-la-baw/
LOCATION:Midwest Clinical Somatics & Stone Path Yoga Studio\, 10172 State Highway 57\, Sister Bay\, WI\, 54234\, United States
CATEGORIES:North America
ATTACH;FMTTYPE=:
ORGANIZER;CN="Miryam Chavarria Romero":MAILTO:miryam@phoenixleadershipcoaching.com
END:VEVENT
BEGIN:VEVENT
DTSTART;VALUE=DATE:20190918
DTEND;VALUE=DATE:20190920
DTSTAMP:20260424T134237
CREATED:20190419T155643Z
LAST-MODIFIED:20190419T155643Z
UID:10000306-1568764800-1568937599@leadershipembodiment.com
SUMMARY:Level 1 with RJ Jennings and Sahar Azarabadi
DESCRIPTION:Join RJ and Sahar for a 2-Day Level 1 in the San Francisco Bay area.  For a description of a Level 1\, please see our courses page.  \nDates: 18-19 September 2019 \nVenue: TBA
URL:https://leadershipembodiment.com/event/level-1-with-rj-jennings-and-sahar-azarabadi/
LOCATION:SF Bay Area\, CA\, United States
CATEGORIES:North America
ATTACH;FMTTYPE=:
ORGANIZER;CN="Sahar Azarabadi":MAILTO:Sahar@AnthosSolutions.com
END:VEVENT
BEGIN:VEVENT
DTSTART;VALUE=DATE:20190912
DTEND;VALUE=DATE:20190914
DTSTAMP:20260424T134237
CREATED:20190419T161945Z
LAST-MODIFIED:20190419T161945Z
UID:10000308-1568246400-1568419199@leadershipembodiment.com
SUMMARY:Level 1 with Julia Bonadei
DESCRIPTION:Join Julia for a 2-Day Level 1 in Johannesburg.  For a description of a Level 1\, please see our courses page.  For more information or to register\, please click here.  \nDates: 12-13 September 2019
URL:https://leadershipembodiment.com/event/level-1-with-julia-bonadei-4/
LOCATION:Living  Essence Coaching and Mindfulness\, 17 Cambridge Ave\, Craighall Park\, Johannesburg\, South Africa
CATEGORIES:South Africa
ATTACH;FMTTYPE=:
ORGANIZER;CN="Julia Bonadei":MAILTO:julia@wideopenspaces.co.za
END:VEVENT
BEGIN:VEVENT
DTSTART;VALUE=DATE:20190907
DTEND;VALUE=DATE:20190909
DTSTAMP:20260424T134237
CREATED:20190607T195139Z
LAST-MODIFIED:20190607T195139Z
UID:10000312-1567814400-1567987199@leadershipembodiment.com
SUMMARY:Level 1 with Paul King
DESCRIPTION:Join Paul King in Wiltshire\, UK for a 2-Day Level 1.  For a description of a Level 1\, please see our courses page.
URL:https://leadershipembodiment.com/event/level-1-with-paul-king-36/
LOCATION:Royal Wootton Bassett\, Royal Wootton Bassett\, Wiltshire\, SN4\, United Kingdom
CATEGORIES:Europe
ATTACH;FMTTYPE=:
ORGANIZER;CN="Paul King":MAILTO:info@thebeyondpartnership.co.uk
END:VEVENT
BEGIN:VEVENT
DTSTART;VALUE=DATE:20190727
DTEND;VALUE=DATE:20190729
DTSTAMP:20260424T134237
CREATED:20190612T163428Z
LAST-MODIFIED:20190612T163428Z
UID:10000315-1564185600-1564358399@leadershipembodiment.com
SUMMARY:Level 1 with Paul Ciske
DESCRIPTION:Join Paul Ciske for a 2-Day Level 1 in Oakland\, California (near Lake Merritt).  For a description of a Level 1\, please see our courses page.   \nLevel 1 Information:\nDates: July 27-28\, 2019\nTimes: 9:30am – 5:00pm \nInvestment:\nEarly registration cost: $450 until July 20th ($100 non-refundable* deposit to hold your space)\nLater registration cost: $500 after July 20th\nPackage with Level 2 with Paul Ciske: $900 – SAVES $100 ($200 non-refundable* deposit to hold your space) \nPayment:\nPaypal to: paul@paulciske.com (please use “friends and family”)\nCheck – please mail check to:\nPaul Ciske\n351 Santa Clara Ave\nOakland\, CA 94610 \nPlease email all inquiries to paul@paulciske.com\nwith the subject heading of: \nLE Level 1 OAKLAND  in July \n*Under extenuating circumstances deposit may be applied to a future class
URL:https://leadershipembodiment.com/event/level-1-with-paul-ciske-2/
LOCATION:Your Well-Being\, Oakland\, CA\, United States
CATEGORIES:North America
ATTACH;FMTTYPE=:
ORGANIZER;CN="Paul Ciske":MAILTO:paulciske@sbcglobal.net
END:VEVENT
END:VCALENDAR