BEGIN:VCALENDAR
VERSION:2.0
PRODID:-//Leadership Embodiment - ECPv6.15.20//NONSGML v1.0//EN
CALSCALE:GREGORIAN
METHOD:PUBLISH
X-ORIGINAL-URL:https://leadershipembodiment.com
X-WR-CALDESC:Events for Leadership Embodiment
REFRESH-INTERVAL;VALUE=DURATION:PT1H
X-Robots-Tag:noindex
X-PUBLISHED-TTL:PT1H
BEGIN:VTIMEZONE
TZID:America/Los_Angeles
BEGIN:DAYLIGHT
TZOFFSETFROM:-0800
TZOFFSETTO:-0700
TZNAME:PDT
DTSTART:20190310T100000
END:DAYLIGHT
BEGIN:STANDARD
TZOFFSETFROM:-0700
TZOFFSETTO:-0800
TZNAME:PST
DTSTART:20191103T090000
END:STANDARD
BEGIN:DAYLIGHT
TZOFFSETFROM:-0800
TZOFFSETTO:-0700
TZNAME:PDT
DTSTART:20200308T100000
END:DAYLIGHT
BEGIN:STANDARD
TZOFFSETFROM:-0700
TZOFFSETTO:-0800
TZNAME:PST
DTSTART:20201101T090000
END:STANDARD
BEGIN:DAYLIGHT
TZOFFSETFROM:-0800
TZOFFSETTO:-0700
TZNAME:PDT
DTSTART:20210314T100000
END:DAYLIGHT
BEGIN:STANDARD
TZOFFSETFROM:-0700
TZOFFSETTO:-0800
TZNAME:PST
DTSTART:20211107T090000
END:STANDARD
BEGIN:DAYLIGHT
TZOFFSETFROM:-0800
TZOFFSETTO:-0700
TZNAME:PDT
DTSTART:20220313T100000
END:DAYLIGHT
BEGIN:STANDARD
TZOFFSETFROM:-0700
TZOFFSETTO:-0800
TZNAME:PST
DTSTART:20221106T090000
END:STANDARD
END:VTIMEZONE
BEGIN:VTIMEZONE
TZID:Europe/Madrid
BEGIN:DAYLIGHT
TZOFFSETFROM:+0100
TZOFFSETTO:+0200
TZNAME:CEST
DTSTART:20190331T010000
END:DAYLIGHT
BEGIN:STANDARD
TZOFFSETFROM:+0200
TZOFFSETTO:+0100
TZNAME:CET
DTSTART:20191027T010000
END:STANDARD
BEGIN:DAYLIGHT
TZOFFSETFROM:+0100
TZOFFSETTO:+0200
TZNAME:CEST
DTSTART:20200329T010000
END:DAYLIGHT
BEGIN:STANDARD
TZOFFSETFROM:+0200
TZOFFSETTO:+0100
TZNAME:CET
DTSTART:20201025T010000
END:STANDARD
BEGIN:DAYLIGHT
TZOFFSETFROM:+0100
TZOFFSETTO:+0200
TZNAME:CEST
DTSTART:20210328T010000
END:DAYLIGHT
BEGIN:STANDARD
TZOFFSETFROM:+0200
TZOFFSETTO:+0100
TZNAME:CET
DTSTART:20211031T010000
END:STANDARD
END:VTIMEZONE
BEGIN:VEVENT
DTSTART;VALUE=DATE:20210309
DTEND;VALUE=DATE:20210422
DTSTAMP:20260424T015851
CREATED:20210212T171428Z
LAST-MODIFIED:20210212T171428Z
UID:10000434-1615248000-1619049599@leadershipembodiment.com
SUMMARY:"Resilience to Brilliance" LE Online Course
DESCRIPTION:  \n\n  \n\n\n\nPhoto by Nicole Y-C on Unsplash\n“Resilience to Brilliance”\nMost comprehensive ‘Introduction to LE’ online course currently available.\nExcellent for deepening your current LE skills.\n\nLEADERSHIP EMBODIMENT Interactive Online Program \n(interactive learning platform featuring Wendy Palmer\, Founder\, and Tiphani Palmer recorded videos)\n+ \nLIVE – 7 weekly small group online coaching trainings\n(designed and led by Paul Ciske and Ched Lee\, accredited Instructors) \nFor both beginners and those who have LE training \nNEW GROUP starts Tuesdays\, March 9\, 5:00-6:30pm; March 16 – April 20\, 6:00-7:30pm 2021 (Pacific Americas);\nWednesdays\, March 10 – April 21\, 9-10:30am (Asia\, Australia\, NZ) \nPre-requisite seminar: “Embodying Resilience to Brilliance” (See listings on February 16 and 23) \nFor more information\, questions and registration\, CLICK HERE \n\nDo you only want to recover when derailed by stress\, pressure and the unknown or fully actualize your potential?\nCan you access your strengths while connecting with inclusivity and warmth?\nDoes your presence match your verbal message?\nAre you in alignment with your highest values?\n\nThis program offers tools and practices for recovering to a state of being we call “Center” that can access our innate wisdom\, confidence and compassion when thrown off by stress\, pressure and the unknown. The program does not stop there but offers further tools and practices for accessing our fuller potential for innovative and creative actions of body\, speech and mind that can bring our intentions for good into the world. \nThis all happens in a supportive atmosphere with others on a similar journey through interactive embodied practices and exercises. The reason we use the body is that it is a shortcut. Our reactivity of irritation\, frustration\, annoyance\, fear\, etc. shows up in the body before our conscious mind as contraction\, tightening\, constriction\, etc. Changing the body is the fastest way of countering and reversing the reactive physiological responses to stress and pressure. Changing the body and focus also changes brain function and in turn how we relate with the world. Once we learn to connect with the centered state\, we further train our capacity to access the resources and inspirations available to us for taking wise\, skillful\, innovative and creative action for actualizing our intentions. \nValue: Priceless\nCost:\nEarly Early Bird – $399 (full payment before or within a day of the pre-requisite seminar; NOTE these spots are limited)\nEarly Bird – $450 full payment by February 28 / March 1 (Pacific Americas / Asia)\nRegular – $550 after February 28 / March 1 (Pacific Americas / Asia)
URL:https://leadershipembodiment.com/event/introduction-to-le-resilience-to-brilliance/
LOCATION:Online
CATEGORIES:North America,Asia,Europe,Online,South Africa
ORGANIZER;CN="Paul Ciske":MAILTO:paul@paulciske.com
END:VEVENT
BEGIN:VEVENT
DTSTART;VALUE=DATE:20210216
DTEND;VALUE=DATE:20210217
DTSTAMP:20260424T015851
CREATED:20210212T171904Z
LAST-MODIFIED:20210212T171904Z
UID:10000435-1613433600-1613519999@leadershipembodiment.com
SUMMARY:Embodying Resilience to Brilliance
DESCRIPTION:Embodying Resilience to Brilliance\nAn Introduction to Leadership Embodiment and \nPre-requisite seminar for "Resilience to Brilliance" Program \nFebruary 16th or 23rd\, 5-6:30pm (Pacific time)\nRecording will also be available \n$35 [fee fully applied to the Resilience to Brilliance Program]\n \nThe work of Leadership Embodiment is based on the principles of the revolutionary\, non-aggressive Japanese martial art of Aikido\, and Mindfulness. Through interactive exercises we explore recognizing our reactive habitual patterns when dealing with pressure\, stress and the unknown. We then learn to shift our attention with an embodied centering practice that accesses a state of being which offers a greater capacity to act with wisdom\, confidence\, and compassion. By being able to recognize our patterns and having the capacity to shift to a different state\, we are able to be more resilient to the stresses and pressures that life throws at us and also have greater access to our brilliance for offering our gifts to the world.\nRegistration: https://www.leadershipembodimentasia.com/resilience-to-brilliance-registration.html \nContact for questions: paul@paulciske.com.
URL:https://leadershipembodiment.com/event/embodying-resilience-to-brilliance/2021-02-16/
LOCATION:Online
CATEGORIES:North America,Asia,Europe,Online,South Africa
ORGANIZER;CN="Paul Ciske":MAILTO:paul@paulciske.com
END:VEVENT
BEGIN:VEVENT
DTSTART;VALUE=DATE:20200730
DTEND;VALUE=DATE:20200731
DTSTAMP:20260424T015851
CREATED:20200701T165823Z
LAST-MODIFIED:20200701T165823Z
UID:10000414-1596067200-1596153599@leadershipembodiment.com
SUMMARY:Embodying Resilience / Embodying Possibilities - Introducing the Practices of Leadership Embodiment with Paul Ciske (Pacific time; Asia time-friendly)
DESCRIPTION:July 30   6 – 7:15pm\nEmbodying Resilience / Embodying Possibilities – Introducing the Practices of Leadership Embodiment with Paul Ciske (Pacific time; Asia time-friendly)\n \nInvite anyone who you think may be interested in the Leadership Embodiment practices to join this introductory session. \nThursday July 30th  6 – 7:15pm\n(Asia time-friendly)\nhttps://us02web.zoom.us/j/84438746367?pwd=a2dKTmR5TkpZYWcwNlRtMnNlWDR6QT09\n \nThis class is offered on generosity. The generosity of sharing and the generosity of gratitude. Gratitude offerings can be sent through Venmo (@Paul-Ciske\, paul@paulciske.com)\, Pay Paul Ciske using PayPal.Me (USD)\, Transferwise (Paul Everett Ciske\, 510-912-5775)
URL:https://leadershipembodiment.com/event/embodying-resilience-embodying-possibilities-with-paul-ciske-2-2020-07-30/
LOCATION:Online
CATEGORIES:Online
ATTACH;FMTTYPE=:
ORGANIZER;CN="Paul Ciske":MAILTO:paul@paulciske.com
END:VEVENT
BEGIN:VEVENT
DTSTART;TZID=Europe/Madrid:20200717T100000
DTEND;TZID=Europe/Madrid:20200717T120000
DTSTAMP:20260424T015851
CREATED:20200701T173052Z
LAST-MODIFIED:20200701T173052Z
UID:10000416-1594980000-1594987200@leadershipembodiment.com
SUMMARY:Introduction to Leadership Embodiment (in German) with Marie Weitbrecht
DESCRIPTION:„Resilienz durch Körperhaltung und Atem:\nPrinzipien und Praktiken des Leadership Embodiment”\n– Interaktiver Praxis-Workshop (online\, 2h) \nFor more info and booking\, please CLICK HERE.
URL:https://leadershipembodiment.com/event/introduction-to-leadership-embodiment-in-german-with-marie-weitbrecht/2020-07-17/
LOCATION:Online
CATEGORIES:Online
ATTACH;FMTTYPE=:
ORGANIZER;CN="Marie Weitbrecht":MAILTO:mh@marieweitbrecht.com
END:VEVENT
BEGIN:VEVENT
DTSTART;VALUE=DATE:20200707
DTEND;VALUE=DATE:20200708
DTSTAMP:20260424T015851
CREATED:20200701T165823Z
LAST-MODIFIED:20200701T165823Z
UID:10000413-1594080000-1594166399@leadershipembodiment.com
SUMMARY:Embodying Resilience / Embodying Possibilities with Paul Ciske
DESCRIPTION:July 7    8:30 – 9:45am\nEmbodying Resilience / Embodying Possibilities – Introducing the Practices of Leadership Embodiment with Paul Ciske (Pacific time; Europe and South Africa time-friendly)\n \nInvite anyone who you think may be interested in the Leadership Embodiment practices to join this introductory session. \nTuesday July 7th 8:30-9:45am\n(Europe and South Africa time-friendly)\n https://us02web.zoom.us/j/82582957869\n \nThis class is offered on generosity. The generosity of sharing and the generosity of gratitude. Gratitude offerings can be sent through Venmo (@Paul-Ciske\, paul@paulciske.com)\, Pay Paul Ciske using PayPal.Me (USD)\, Transferwise (Paul Everett Ciske\, 510-912-5775)\n 
URL:https://leadershipembodiment.com/event/embodying-resilience-embodying-possibilities-with-paul-ciske-2/
LOCATION:Online
CATEGORIES:Online
ATTACH;FMTTYPE=:
ORGANIZER;CN="Paul Ciske":MAILTO:paul@paulciske.com
END:VEVENT
BEGIN:VEVENT
DTSTART;TZID=America/Los_Angeles:20200513T180000
DTEND;TZID=America/Los_Angeles:20200513T191500
DTSTAMP:20260424T015851
CREATED:20200508T193425Z
LAST-MODIFIED:20200508T193425Z
UID:10000402-1589392800-1589397300@leadershipembodiment.com
SUMMARY:Embodying Resilience/Embodying Possibilities – Introducing the Practices of LE with Paul Ciske (Pacific time; Asia time-friendly)
DESCRIPTION:Embodying Resilience/Embodying Possibilities – Introducing the Practices of Leadership Embodiment\nInvite anyone who you think may be interested in the Leadership Embodiment practices to join in on these introductory sessions. \nWednesday May 13th 6-7:15pm Pacific Time\nhttps://us02web.zoom.us/j/82085357583 Zoom Link\nAll online classes are offered on generosity. The generosity of sharing and the generosity of gratitude. Gratitude offerings can be sent through Venmo (@Paul-Ciske\, paul@paulciske.com)\, Pay Paul Ciske using PayPal.Me (USD)
URL:https://leadershipembodiment.com/event/embodying-resilience-embodying-possibilities-introducing-the-practices-of-le-with-paul-ciske/
LOCATION:Online
CATEGORIES:North America,Asia,Online
ATTACH;FMTTYPE=:
ORGANIZER;CN="Paul Ciske":MAILTO:paul@paulciske.com
END:VEVENT
BEGIN:VEVENT
DTSTART;TZID=America/Los_Angeles:20200226T190000
DTEND;TZID=America/Los_Angeles:20200226T203000
DTSTAMP:20260424T015851
CREATED:20200109T182956Z
LAST-MODIFIED:20200109T182956Z
UID:10000374-1582743600-1582749000@leadershipembodiment.com
SUMMARY:Introduction to LE with Ched Lee: Patterns in Presence
DESCRIPTION:Join Ched Lee for an evening introduction to Leadership Embodiment: Patterns in Presence. \nDate: 26 February 2020\nTime: 7:00pm – 8:30pm
URL:https://leadershipembodiment.com/event/introduction-to-le-with-ched-lee-patterns-in-presence/
LOCATION:Singapore Venue\, Singapore
CATEGORIES:Asia
ATTACH;FMTTYPE=:
ORGANIZER;CN="Ched Lee":MAILTO:ched@chedlee.com
GEO:1.352083;103.819836
END:VEVENT
END:VCALENDAR