BEGIN:VCALENDAR
VERSION:2.0
PRODID:-//Leadership Embodiment - ECPv6.15.20//NONSGML v1.0//EN
CALSCALE:GREGORIAN
METHOD:PUBLISH
X-ORIGINAL-URL:https://leadershipembodiment.com
X-WR-CALDESC:Events for Leadership Embodiment
REFRESH-INTERVAL;VALUE=DURATION:PT1H
X-Robots-Tag:noindex
X-PUBLISHED-TTL:PT1H
BEGIN:VTIMEZONE
TZID:America/Los_Angeles
BEGIN:DAYLIGHT
TZOFFSETFROM:-0800
TZOFFSETTO:-0700
TZNAME:PDT
DTSTART:20220313T100000
END:DAYLIGHT
BEGIN:STANDARD
TZOFFSETFROM:-0700
TZOFFSETTO:-0800
TZNAME:PST
DTSTART:20221106T090000
END:STANDARD
BEGIN:DAYLIGHT
TZOFFSETFROM:-0800
TZOFFSETTO:-0700
TZNAME:PDT
DTSTART:20230312T100000
END:DAYLIGHT
BEGIN:STANDARD
TZOFFSETFROM:-0700
TZOFFSETTO:-0800
TZNAME:PST
DTSTART:20231105T090000
END:STANDARD
BEGIN:DAYLIGHT
TZOFFSETFROM:-0800
TZOFFSETTO:-0700
TZNAME:PDT
DTSTART:20240310T100000
END:DAYLIGHT
BEGIN:STANDARD
TZOFFSETFROM:-0700
TZOFFSETTO:-0800
TZNAME:PST
DTSTART:20241103T090000
END:STANDARD
BEGIN:DAYLIGHT
TZOFFSETFROM:-0800
TZOFFSETTO:-0700
TZNAME:PDT
DTSTART:20250309T100000
END:DAYLIGHT
BEGIN:STANDARD
TZOFFSETFROM:-0700
TZOFFSETTO:-0800
TZNAME:PST
DTSTART:20251102T090000
END:STANDARD
END:VTIMEZONE
BEGIN:VTIMEZONE
TZID:Europe/Paris
BEGIN:DAYLIGHT
TZOFFSETFROM:+0100
TZOFFSETTO:+0200
TZNAME:CEST
DTSTART:20230326T010000
END:DAYLIGHT
BEGIN:STANDARD
TZOFFSETFROM:+0200
TZOFFSETTO:+0100
TZNAME:CET
DTSTART:20231029T010000
END:STANDARD
BEGIN:DAYLIGHT
TZOFFSETFROM:+0100
TZOFFSETTO:+0200
TZNAME:CEST
DTSTART:20240331T010000
END:DAYLIGHT
BEGIN:STANDARD
TZOFFSETFROM:+0200
TZOFFSETTO:+0100
TZNAME:CET
DTSTART:20241027T010000
END:STANDARD
BEGIN:DAYLIGHT
TZOFFSETFROM:+0100
TZOFFSETTO:+0200
TZNAME:CEST
DTSTART:20250330T010000
END:DAYLIGHT
BEGIN:STANDARD
TZOFFSETFROM:+0200
TZOFFSETTO:+0100
TZNAME:CET
DTSTART:20251026T010000
END:STANDARD
END:VTIMEZONE
BEGIN:VTIMEZONE
TZID:UTC
BEGIN:STANDARD
TZOFFSETFROM:+0000
TZOFFSETTO:+0000
TZNAME:UTC
DTSTART:20140101T000000
END:STANDARD
END:VTIMEZONE
BEGIN:VEVENT
DTSTART;VALUE=DATE:20241029
DTEND;VALUE=DATE:20241031
DTSTAMP:20260424T000648
CREATED:20231011T141540Z
LAST-MODIFIED:20231012T150118Z
UID:10001039-1730160000-1730332799@leadershipembodiment.com
SUMMARY:LE Community Practice Days with Amanda Ridings - Keeping in Touch
DESCRIPTION:For those who have completed a Leadership Embodiment Level 1 course\, Amanda is offering LE Community Practice Days on a not-for-profit basis. (Donations are requested to cover costs only). These two days are residential in Kingussie\, Scotland. \nThese are ‘practice days’\, offering a regular opportunity for those with some LE experience to reconnect with the practices. For more information\, practitioners can contact me at my email listed below.  \n \nPlease see the details below to contact Amanda. \nEurope
URL:https://leadershipembodiment.com/event/le-community-practice-days-with-amanda-ridings-keeping-in-touch-3/
LOCATION:Kingussie\, Scotland
CATEGORIES:Europe
ORGANIZER;CN="Amanda Ridings":MAILTO:Amanda@originate.org.uk
END:VEVENT
BEGIN:VEVENT
DTSTART;TZID=Europe/Paris:20240731T093000
DTEND;TZID=Europe/Paris:20240731T170000
DTSTAMP:20260424T000648
CREATED:20231011T140934Z
LAST-MODIFIED:20231012T150234Z
UID:10001038-1722418200-1722445200@leadershipembodiment.com
SUMMARY:LE Community Practice Days with Amanda Ridings - Keeping in Touch
DESCRIPTION:For those who have completed a Leadership Embodiment Level 1 course\, Amanda is offering LE Community Practice Days on a not-for-profit basis. (Donations are requested to cover costs only).  \nThese are ‘practice days’\, offering a regular opportunity for those with some LE experience to reconnect with the practices. For more information\, practitioners can contact Amanda at the email listed below. \n \nPlease see the details below to contact Amanda. \nEurope
URL:https://leadershipembodiment.com/event/le-community-practice-days-with-amanda-ridings-keeping-in-touch-2/
LOCATION:Scotland Venue\, Scotland\, United Kingdom
CATEGORIES:Europe
ORGANIZER;CN="Amanda Ridings":MAILTO:Amanda@originate.org.uk
END:VEVENT
BEGIN:VEVENT
DTSTART;TZID=Europe/Paris:20240423T093000
DTEND;TZID=Europe/Paris:20240423T170000
DTSTAMP:20260424T000648
CREATED:20231011T140650Z
LAST-MODIFIED:20231012T150317Z
UID:10001037-1713864600-1713891600@leadershipembodiment.com
SUMMARY:LE Community Practice Days with Amanda Ridings - Keeping in Touch
DESCRIPTION:For those who have completed a Leadership Embodiment Level 1 course\, Amanda is offering LE Community Practice Days on a not-for-profit basis. (Donations are requested to cover costs only).  \nThese are ‘practice days’\, offering a regular opportunity for those with some LE experience to reconnect with the practices. For more information\, practitioners can contact Amanda at the email listed below. \n \nPlease see the details below to contact Amanda. \nEurope
URL:https://leadershipembodiment.com/event/le-community-practice-days-with-amanda-ridings-keeping-in-touch/
LOCATION:Scotland Venue\, Scotland\, United Kingdom
CATEGORIES:Europe
ORGANIZER;CN="Amanda Ridings":MAILTO:Amanda@originate.org.uk
END:VEVENT
BEGIN:VEVENT
DTSTART;TZID=UTC:20240118T093000
DTEND;TZID=UTC:20240118T170000
DTSTAMP:20260424T000648
CREATED:20231011T140157Z
LAST-MODIFIED:20231012T150429Z
UID:10001036-1705570200-1705597200@leadershipembodiment.com
SUMMARY:LE Community Practice Days with Amanda Ridings
DESCRIPTION:For those who have completed a Leadership Embodiment Level 1 course\, Amanda is offering LE Community Practice Days on a not-for-profit basis. (Donations are requested to cover costs only).  \nThese are ‘practice days’\, offering a regular opportunity for those with some LE experience to reconnect with the practices. For more information\, practitioners can contact me: Amanda@originate.org.uk \n \nPlease see the details below to contact Amanda. \nEurope
URL:https://leadershipembodiment.com/event/le-community-practice-days-with-amanda-ridings/
LOCATION:Falkland\, Fife Venue\, Fife\, Scotland
CATEGORIES:Europe
ORGANIZER;CN="Amanda Ridings":MAILTO:Amanda@originate.org.uk
END:VEVENT
BEGIN:VEVENT
DTSTART;VALUE=DATE:20231004
DTEND;VALUE=DATE:20231005
DTSTAMP:20260424T000648
CREATED:20230104T183855Z
LAST-MODIFIED:20230125T190813Z
UID:10000980-1696411800-1696438800@leadershipembodiment.com
SUMMARY:LE Keeping in Touch with Amanda Ridings
DESCRIPTION:Join Amanda for a Leadership Embodiment Community Practice Day. These days offer a regular opportunity for those with some LE experience to reconnect with the practices. For more information\, practitioners can contact: Amanda@originate.org.uk. \nDates and places:\nMonday 6 February 2023\, Perth\, Scotland\, 9.30am to 5pm\nTuesday 6 June 2023\, location to be confirmed\, Scotland\, 9.30am to 5pm\nWednesday 4 October 2023\, location to be confirmed\, Scotland\, 9.30am to 5pm \nEurope
URL:https://leadershipembodiment.com/event/le-keeping-in-touch-with-amanda-ridings/2023-10-04/
LOCATION:Scotland Venue\, Scotland\, United Kingdom
CATEGORIES:Europe
ORGANIZER;CN="Amanda Ridings":MAILTO:Amanda@originate.org.uk
END:VEVENT
BEGIN:VEVENT
DTSTART;VALUE=DATE:20230606
DTEND;VALUE=DATE:20230607
DTSTAMP:20260424T000648
CREATED:20230104T183855Z
LAST-MODIFIED:20230125T190813Z
UID:10000979-1686043800-1686070800@leadershipembodiment.com
SUMMARY:LE Keeping in Touch with Amanda Ridings
DESCRIPTION:Join Amanda for a Leadership Embodiment Community Practice Day. These days offer a regular opportunity for those with some LE experience to reconnect with the practices. For more information\, practitioners can contact: Amanda@originate.org.uk. \nDates and places:\nMonday 6 February 2023\, Perth\, Scotland\, 9.30am to 5pm\nTuesday 6 June 2023\, location to be confirmed\, Scotland\, 9.30am to 5pm\nWednesday 4 October 2023\, location to be confirmed\, Scotland\, 9.30am to 5pm \nEurope
URL:https://leadershipembodiment.com/event/le-keeping-in-touch-with-amanda-ridings/2023-06-06/
LOCATION:Scotland Venue\, Scotland\, United Kingdom
CATEGORIES:Europe
ORGANIZER;CN="Amanda Ridings":MAILTO:Amanda@originate.org.uk
END:VEVENT
BEGIN:VEVENT
DTSTART;VALUE=DATE:20230206
DTEND;VALUE=DATE:20230208
DTSTAMP:20260424T000648
CREATED:20230104T183855Z
LAST-MODIFIED:20230125T190813Z
UID:10000978-1675641600-1675814399@leadershipembodiment.com
SUMMARY:LE Keeping in Touch with Amanda Ridings
DESCRIPTION:Join Amanda for a Leadership Embodiment Community Practice Day. These days offer a regular opportunity for those with some LE experience to reconnect with the practices. For more information\, practitioners can contact: Amanda@originate.org.uk. \nDates and places:\nMonday 6 February 2023\, Perth\, Scotland\, 9.30am to 5pm\nTuesday 6 June 2023\, location to be confirmed\, Scotland\, 9.30am to 5pm\nWednesday 4 October 2023\, location to be confirmed\, Scotland\, 9.30am to 5pm \nEurope
URL:https://leadershipembodiment.com/event/le-keeping-in-touch-with-amanda-ridings/2023-02-06/
LOCATION:Scotland Venue\, Scotland\, United Kingdom
CATEGORIES:Europe
ORGANIZER;CN="Amanda Ridings":MAILTO:Amanda@originate.org.uk
END:VEVENT
BEGIN:VEVENT
DTSTART;TZID=UTC:20150924T083000
DTEND;TZID=UTC:20150924T090000
DTSTAMP:20260424T000648
CREATED:20150922T182015Z
LAST-MODIFIED:20150922T182015Z
UID:10000944-1443083400-1443085200@leadershipembodiment.com
SUMMARY:Embodiment Practices with Joan Marie Passalacqua
DESCRIPTION:Embodiment Practices on Tuesdays and Thursdays in Berkeley\, CA\, September 22nd through December 22\, 2015\n8:30am to 9am \nUsing posture and selected exercises from\nThe Intuitive Body and Leadership Embodiment to:\n• Center in difficult situations\n• Respond skillfully to life challenges\n• Influence the effects of stress \nFor more information\, please click on this flyer.
URL:https://leadershipembodiment.com/event/embodiment-practices-with-joan-marie-passalacqua-2/2015-09-24/
LOCATION:Applied Anatomy Institute\, 2700 Eighth Street\, Berkeley\, 94710\, United States
CATEGORIES:North America
ORGANIZER;CN="Joan Marie Passalacqua":MAILTO:AppliedAnatomy (at) gmail.com
END:VEVENT
BEGIN:VEVENT
DTSTART;TZID=UTC:20150922T083000
DTEND;TZID=UTC:20150922T090000
DTSTAMP:20260424T000648
CREATED:20150922T181706Z
LAST-MODIFIED:20150922T181706Z
UID:10000943-1442910600-1442912400@leadershipembodiment.com
SUMMARY:Embodiment Practices with Joan Marie Passalacqua
DESCRIPTION:Embodiment Practices on Tuesdays and Thursdays in Berkeley\, CA\, September 22nd through December 22\, 2015\n8:30am to 9am \nUsing posture and selected exercises from\nThe Intuitive Body and Leadership Embodiment to:\n• Center in difficult situations\n• Respond skillfully to life challenges\n• Influence the effects of stress \nFor more information\, please see click on this flyer.
URL:https://leadershipembodiment.com/event/embodiment-practices-with-joan-marie-passalacqua/2015-09-22/
LOCATION:Applied Anatomy Institute\, 2700 Eighth Street\, Berkeley\, 94710\, United States
CATEGORIES:North America
ORGANIZER;CN="Joan Marie Passalacqua":MAILTO:AppliedAnatomy (at) gmail.com
END:VEVENT
END:VCALENDAR