BEGIN:VCALENDAR
VERSION:2.0
PRODID:-//Leadership Embodiment - ECPv6.15.20//NONSGML v1.0//EN
CALSCALE:GREGORIAN
METHOD:PUBLISH
X-ORIGINAL-URL:https://leadershipembodiment.com
X-WR-CALDESC:Events for Leadership Embodiment
REFRESH-INTERVAL;VALUE=DURATION:PT1H
X-Robots-Tag:noindex
X-PUBLISHED-TTL:PT1H
BEGIN:VTIMEZONE
TZID:America/Los_Angeles
BEGIN:DAYLIGHT
TZOFFSETFROM:-0800
TZOFFSETTO:-0700
TZNAME:PDT
DTSTART:20190310T100000
END:DAYLIGHT
BEGIN:STANDARD
TZOFFSETFROM:-0700
TZOFFSETTO:-0800
TZNAME:PST
DTSTART:20191103T090000
END:STANDARD
BEGIN:DAYLIGHT
TZOFFSETFROM:-0800
TZOFFSETTO:-0700
TZNAME:PDT
DTSTART:20200308T100000
END:DAYLIGHT
BEGIN:STANDARD
TZOFFSETFROM:-0700
TZOFFSETTO:-0800
TZNAME:PST
DTSTART:20201101T090000
END:STANDARD
BEGIN:DAYLIGHT
TZOFFSETFROM:-0800
TZOFFSETTO:-0700
TZNAME:PDT
DTSTART:20210314T100000
END:DAYLIGHT
BEGIN:STANDARD
TZOFFSETFROM:-0700
TZOFFSETTO:-0800
TZNAME:PST
DTSTART:20211107T090000
END:STANDARD
BEGIN:DAYLIGHT
TZOFFSETFROM:-0800
TZOFFSETTO:-0700
TZNAME:PDT
DTSTART:20220313T100000
END:DAYLIGHT
BEGIN:STANDARD
TZOFFSETFROM:-0700
TZOFFSETTO:-0800
TZNAME:PST
DTSTART:20221106T090000
END:STANDARD
END:VTIMEZONE
BEGIN:VEVENT
DTSTART;TZID=America/Los_Angeles:20210619T100000
DTEND;TZID=America/Los_Angeles:20210619T113000
DTSTAMP:20260424T111942
CREATED:20210323T190842Z
LAST-MODIFIED:20210323T190842Z
UID:10000753-1624096800-1624102200@leadershipembodiment.com
SUMMARY:Leadership Embodiment Public Zoom Meeting
DESCRIPTION:SATURDAY – JUNE 19\, 2021\nTopic: Leadership Embodiment Drop-in Zoom Meeting with Wendy Palmer\nTime: June 19\, 2021 10:00am-11:30am Pacific Time (North America/Europe/South Africa Time Friendly) \nJoin Zoom Meeting\nhttps://us02web.zoom.us/j/88504911931 \nIf you would like to support Wendy and the Leadership Embodiment work you can give a gift of any amount via PayPal to office@leadershipembodiment.com. No PayPal account? Click here to gift via Square.
URL:https://leadershipembodiment.com/event/leadership-embodiment-public-zoom-meeting-2/
LOCATION:Online
CATEGORIES:North America,Europe,Online,South Africa
ORGANIZER;CN="LE Office":MAILTO:office@leadershipembodiment.com
END:VEVENT
BEGIN:VEVENT
DTSTART;TZID=America/Los_Angeles:20210522T180000
DTEND;TZID=America/Los_Angeles:20210522T193000
DTSTAMP:20260424T111942
CREATED:20210323T190429Z
LAST-MODIFIED:20210323T190429Z
UID:10000752-1621706400-1621711800@leadershipembodiment.com
SUMMARY:Leadership Embodiment Public Zoom Meeting
DESCRIPTION:SATURDAY – MAY 22\, 2021\nTopic: Wendy Palmer Zoom Meeting\nTime: May 22\, 2021 06:00 PM Pacific Time (North America/Asia Time Friendly) \nJoin Zoom Meeting\nhttps://us02web.zoom.us/j/5911505349 \nIf you would like to support Wendy and the Leadership Embodiment work you can give a gift of any amount via PayPal to office@leadershipembodiment.com. No PayPal account? Click here to gift via Square.
URL:https://leadershipembodiment.com/event/leadership-embodiment-public-zoom-meeting/
LOCATION:Online
CATEGORIES:North America,Asia,Online
ATTACH;FMTTYPE=:
ORGANIZER;CN="LE Office":MAILTO:office@leadershipembodiment.com
END:VEVENT
BEGIN:VEVENT
DTSTART;TZID=America/Los_Angeles:20201219T100000
DTEND;TZID=America/Los_Angeles:20201219T113000
DTSTAMP:20260424T111942
CREATED:20201014T163319Z
LAST-MODIFIED:20201014T163319Z
UID:10000423-1608372000-1608377400@leadershipembodiment.com
SUMMARY:Leadership Embodiment Public Zoom Meeting (10:00AM Pacific)
DESCRIPTION:Wendy Palmer is offering a Leadership Embodiment Public Meeting via Zoom. Open to all. \nSaturday\, December 19 at 10:00AM Pacific Time \nJoin Zoom Meeting\nhttps://us02web.zoom.us/j/81468608135 \nMeeting ID: 814 6860 8135 \nDonations are appreciated. Via PayPal to office@leadershipembodiment.com or Click Here to donate via Square.
URL:https://leadershipembodiment.com/event/leadership-embodiment-public-zoom-meeting-1000am-pacific/
LOCATION:Online
CATEGORIES:North America,Europe,Online
ATTACH;FMTTYPE=:
ORGANIZER;CN="LE Office":MAILTO:office@leadershipembodiment.com
END:VEVENT
END:VCALENDAR