BEGIN:VCALENDAR
VERSION:2.0
PRODID:-//Leadership Embodiment - ECPv6.15.20//NONSGML v1.0//EN
CALSCALE:GREGORIAN
METHOD:PUBLISH
X-WR-CALNAME:Leadership Embodiment
X-ORIGINAL-URL:https://leadershipembodiment.com
X-WR-CALDESC:Events for Leadership Embodiment
REFRESH-INTERVAL;VALUE=DURATION:PT1H
X-Robots-Tag:noindex
X-PUBLISHED-TTL:PT1H
BEGIN:VTIMEZONE
TZID:America/Los_Angeles
BEGIN:DAYLIGHT
TZOFFSETFROM:-0800
TZOFFSETTO:-0700
TZNAME:PDT
DTSTART:20140309T100000
END:DAYLIGHT
BEGIN:STANDARD
TZOFFSETFROM:-0700
TZOFFSETTO:-0800
TZNAME:PST
DTSTART:20141102T090000
END:STANDARD
BEGIN:DAYLIGHT
TZOFFSETFROM:-0800
TZOFFSETTO:-0700
TZNAME:PDT
DTSTART:20150308T100000
END:DAYLIGHT
BEGIN:STANDARD
TZOFFSETFROM:-0700
TZOFFSETTO:-0800
TZNAME:PST
DTSTART:20151101T090000
END:STANDARD
BEGIN:DAYLIGHT
TZOFFSETFROM:-0800
TZOFFSETTO:-0700
TZNAME:PDT
DTSTART:20160313T100000
END:DAYLIGHT
BEGIN:STANDARD
TZOFFSETFROM:-0700
TZOFFSETTO:-0800
TZNAME:PST
DTSTART:20161106T090000
END:STANDARD
BEGIN:DAYLIGHT
TZOFFSETFROM:-0800
TZOFFSETTO:-0700
TZNAME:PDT
DTSTART:20170312T100000
END:DAYLIGHT
BEGIN:STANDARD
TZOFFSETFROM:-0700
TZOFFSETTO:-0800
TZNAME:PST
DTSTART:20171105T090000
END:STANDARD
BEGIN:DAYLIGHT
TZOFFSETFROM:-0800
TZOFFSETTO:-0700
TZNAME:PDT
DTSTART:20180311T100000
END:DAYLIGHT
BEGIN:STANDARD
TZOFFSETFROM:-0700
TZOFFSETTO:-0800
TZNAME:PST
DTSTART:20181104T090000
END:STANDARD
BEGIN:DAYLIGHT
TZOFFSETFROM:-0800
TZOFFSETTO:-0700
TZNAME:PDT
DTSTART:20190310T100000
END:DAYLIGHT
BEGIN:STANDARD
TZOFFSETFROM:-0700
TZOFFSETTO:-0800
TZNAME:PST
DTSTART:20191103T090000
END:STANDARD
BEGIN:DAYLIGHT
TZOFFSETFROM:-0800
TZOFFSETTO:-0700
TZNAME:PDT
DTSTART:20200308T100000
END:DAYLIGHT
BEGIN:STANDARD
TZOFFSETFROM:-0700
TZOFFSETTO:-0800
TZNAME:PST
DTSTART:20201101T090000
END:STANDARD
BEGIN:DAYLIGHT
TZOFFSETFROM:-0800
TZOFFSETTO:-0700
TZNAME:PDT
DTSTART:20210314T100000
END:DAYLIGHT
BEGIN:STANDARD
TZOFFSETFROM:-0700
TZOFFSETTO:-0800
TZNAME:PST
DTSTART:20211107T090000
END:STANDARD
END:VTIMEZONE
BEGIN:VTIMEZONE
TZID:UTC
BEGIN:STANDARD
TZOFFSETFROM:+0000
TZOFFSETTO:+0000
TZNAME:UTC
DTSTART:20130101T000000
END:STANDARD
END:VTIMEZONE
BEGIN:VEVENT
DTSTART;TZID=America/Los_Angeles:20201017T100000
DTEND;TZID=America/Los_Angeles:20201017T113000
DTSTAMP:20260424T050226
CREATED:20200728T170423Z
LAST-MODIFIED:20200728T170423Z
UID:10000420-1602928800-1602934200@leadershipembodiment.com
SUMMARY:Leadership Embodiment Public Zoom Meeting (10:00AM Pacific Time)
DESCRIPTION:Wendy Palmer is offering a Leadership Embodiment Public Meeting via Zoom. Open to all. \nSaturday\, October 17 at 10:00AM Pacific Time \nJoin Zoom Meeting\nhttps://us02web.zoom.us/j/83101241416\nDonations are appreciated. Via PayPal to office@leadershipembodiment.com or Click Here to donate via Square.
URL:https://leadershipembodiment.com/event/leadership-embodiment-public-zoom-meeting-1000am-pacific-time/
LOCATION:Online
CATEGORIES:North America,Europe,Online
ATTACH;FMTTYPE=:
ORGANIZER;CN="LE Office":MAILTO:office@leadershipembodiment.com
END:VEVENT
BEGIN:VEVENT
DTSTART;VALUE=DATE:20200919
DTEND;VALUE=DATE:20200921
DTSTAMP:20260424T050226
CREATED:20200117T224431Z
LAST-MODIFIED:20200117T224431Z
UID:10000379-1600473600-1600646399@leadershipembodiment.com
SUMMARY:Body Intelligence for Business Leaders with Wendy Palmer
DESCRIPTION:Wendy Palmer presents a two-day course\, Body Intelligence for Business Leaders. To register and for more information\, please click here.  \nRomania LE September program is still hopeful to be held in person. If the in person session is not able to go forward\, we will be hosting an online offering\, details to be announced. \nDates: 19-20 September 2020
URL:https://leadershipembodiment.com/event/body-intelligence-for-business-leaders-with-wendy-palmer/
LOCATION:TBD\, Bucharest\, Romania
CATEGORIES:Europe
ORGANIZER;CN="Best People In Town":MAILTO:NOW@bestpeopleintown.com
GEO:15.2993265;74.123996
END:VEVENT
BEGIN:VEVENT
DTSTART;TZID=America/Los_Angeles:20191029T190000
DTEND;TZID=America/Los_Angeles:20191029T203000
DTSTAMP:20260424T050226
CREATED:20191028T202148Z
LAST-MODIFIED:20191028T202148Z
UID:10000348-1572375600-1572381000@leadershipembodiment.com
SUMMARY:Patterns in Presence with Ched Lee
DESCRIPTION:Join Ched for an introduction to Leadership Embodiment principles and practices.  For more information\, please click here.  \nOctober 29\, 2019\n7:00 pm – 8:30 pm
URL:https://leadershipembodiment.com/event/patterns-in-presence-with-ched-lee/
LOCATION:Singapore Venue\, Singapore
CATEGORIES:Asia
ATTACH;FMTTYPE=:
ORGANIZER;CN="Ched Lee":MAILTO:ched@chedlee.com
GEO:1.352083;103.819836
END:VEVENT
BEGIN:VEVENT
DTSTART;TZID=America/Los_Angeles:20180320T120000
DTEND;TZID=America/Los_Angeles:20180320T153000
DTSTAMP:20260424T050226
CREATED:20180306T141152Z
LAST-MODIFIED:20180306T141152Z
UID:10000700-1521547200-1521559800@leadershipembodiment.com
SUMMARY:Leadership Embodiment Presentation with Wendy Palmer
DESCRIPTION:Join Wendy Palmer at The Novalis Ubuntu Institute in Kenilworth (Cape Town) for an afternoon Leadership Embodiment presentation.  \nDate: March 20\, 2018\nTime: 12:00 pm – 3:30 pm \nOrganized by SAODN (South African Organisation Development Network)  \nFor more information and to reserve your seat\, please click here.
URL:https://leadershipembodiment.com/event/wendy-palmer-presentation/
LOCATION:The Novalis Ubuntu Institute\, Kenilworth\, Cape Town\, South Africa
CATEGORIES:South Africa
ATTACH;FMTTYPE=:
GEO:-33.9958463;18.4780523
END:VEVENT
BEGIN:VEVENT
DTSTART;TZID=America/Los_Angeles:20180215T180000
DTEND;TZID=America/Los_Angeles:20180308T200000
DTSTAMP:20260424T050226
CREATED:20170821T162220Z
LAST-MODIFIED:20170821T162220Z
UID:10000660-1518717600-1520539200@leadershipembodiment.com
SUMMARY:Ongoing Leadership Embodiment Classes
DESCRIPTION:Weekly Leadership Embodiment classes are held on Thursdays at Aikido of Tamalpais in Corte Madera\, CA. These are led by either Wendy Palmer or certified LE trainers. Everyone is welcome and there is no need to reserve a space. Wear comfortable clothes and be prepared to remove your shoes. No experience is necessary. There is a small donation payable to the dojo if you are not a member.  \nIf convenient\, please let us know your intended participation by sending a short email to office(at)leadershipembodiment.com. We can then keep you updated of any changes or cancellations.  \nDates: Thursday evenings\nTimes: 6:00pm – 8:00pm
URL:https://leadershipembodiment.com/event/ongoing-leadership-embodiment-classes-3/2018-02-15/
CATEGORIES:North America
END:VEVENT
BEGIN:VEVENT
DTSTART;TZID=America/Los_Angeles:20170608T180000
DTEND;TZID=America/Los_Angeles:20170608T200000
DTSTAMP:20260424T050226
CREATED:20150303T204336Z
LAST-MODIFIED:20150303T204336Z
UID:10000518-1496944800-1496952000@leadershipembodiment.com
SUMMARY:Ongoing Leadership Embodiment Classes
DESCRIPTION:Weekly Leadership Embodiment classes are held on Thursdays at Aikido of Tamalpais in Corte Madera\, CA.  These are led by either Wendy Palmer or certified LE trainers. Everyone is welcome and there is no need to reserve a space.  Wear comfortable clothes and be prepared to remove your shoes. No experience is necessary. There is a small donation payable to the dojo if you are not a member.\nDates: Thursday evenings\nTimes: 6:00pm – 8:00pm
URL:https://leadershipembodiment.com/event/ongoing-leadership-embodiment-classes-2-2017-04-20-2017-06-08/2017-06-08/
LOCATION:Aikido of Tamalpais\, 142 Redwood Avenue\, Corte Madera\, CA\, United States
CATEGORIES:North America
ORGANIZER;CN="LE Office":MAILTO:office@leadershipembodiment.com
END:VEVENT
BEGIN:VEVENT
DTSTART;TZID=America/Los_Angeles:20170427T180000
DTEND;TZID=America/Los_Angeles:20170427T200000
DTSTAMP:20260424T050226
CREATED:20150303T204336Z
LAST-MODIFIED:20150303T204336Z
UID:10000517-1493316000-1493323200@leadershipembodiment.com
SUMMARY:Ongoing Leadership Embodiment Classes
DESCRIPTION:Weekly Leadership Embodiment classes are held on Thursdays at Aikido of Tamalpais in Corte Madera\, CA.  These are led by either Wendy Palmer or certified LE trainers. Everyone is welcome and there is no need to reserve a space.  Wear comfortable clothes and be prepared to remove your shoes. No experience is necessary. There is a small donation payable to the dojo if you are not a member.\nDates: Thursday evenings\nTimes: 6:00pm – 8:00pm
URL:https://leadershipembodiment.com/event/ongoing-leadership-embodiment-classes-2-2017-04-27/2017-04-27/
LOCATION:Aikido of Tamalpais\, 142 Redwood Avenue\, Corte Madera\, CA\, United States
CATEGORIES:North America
ORGANIZER;CN="LE Office":MAILTO:office@leadershipembodiment.com
END:VEVENT
BEGIN:VEVENT
DTSTART;TZID=America/Los_Angeles:20170420T180000
DTEND;TZID=America/Los_Angeles:20170420T200000
DTSTAMP:20260424T050226
CREATED:20150303T204336Z
LAST-MODIFIED:20150303T204336Z
UID:10000516-1492711200-1492718400@leadershipembodiment.com
SUMMARY:Ongoing Leadership Embodiment Classes
DESCRIPTION:Weekly Leadership Embodiment classes are held on Thursdays at Aikido of Tamalpais in Corte Madera\, CA.  These are led by either Wendy Palmer or certified LE trainers. Everyone is welcome and there is no need to reserve a space.  Wear comfortable clothes and be prepared to remove your shoes. No experience is necessary. There is a small donation payable to the dojo if you are not a member.\nDates: Thursday evenings\nTimes: 6:00pm – 8:00pm
URL:https://leadershipembodiment.com/event/ongoing-leadership-embodiment-classes-2-2017-04-20/2017-04-20/
LOCATION:Aikido of Tamalpais\, 142 Redwood Avenue\, Corte Madera\, CA\, United States
CATEGORIES:North America
ORGANIZER;CN="LE Office":MAILTO:office@leadershipembodiment.com
END:VEVENT
BEGIN:VEVENT
DTSTART;TZID=America/Los_Angeles:20150604T180000
DTEND;TZID=America/Los_Angeles:20150604T200000
DTSTAMP:20260424T050226
CREATED:20150303T204336Z
LAST-MODIFIED:20150303T204336Z
UID:10000514-1433440800-1433448000@leadershipembodiment.com
SUMMARY:Ongoing Leadership Embodiment Classes
DESCRIPTION:Weekly Leadership Embodiment classes are held on Thursdays at Aikido of Tamalpais in Corte Madera\, CA.  These are led by either Wendy Palmer or certified LE trainers. Everyone is welcome and there is no need to reserve a space.  Wear comfortable clothes and be prepared to remove your shoes. No experience is necessary. There is a small donation payable to the dojo if you are not a member.\nDates: Thursday evenings\nTimes: 6:00pm – 8:00pm
URL:https://leadershipembodiment.com/event/ongoing-leadership-embodiment-classes-2/2015-06-04/
LOCATION:Aikido of Tamalpais\, 142 Redwood Avenue\, Corte Madera\, CA\, United States
CATEGORIES:North America
ORGANIZER;CN="LE Office":MAILTO:office@leadershipembodiment.com
END:VEVENT
BEGIN:VEVENT
DTSTART;TZID=UTC:20150305T180000
DTEND;TZID=UTC:20150305T193000
DTSTAMP:20260424T050226
CREATED:20150303T204034Z
LAST-MODIFIED:20150303T204034Z
UID:10000918-1425578400-1425583800@leadershipembodiment.com
SUMMARY:Ongoing Leadership Embodiment Classes
DESCRIPTION:Weekly Leadership Embodiment classes are held most Thursdays at Aikido of Tamalpais in Corte Madera\, CA.  These are led by either Wendy Palmer or certified LE trainers. Everyone is welcome.  No experience is necessary. There is a small fee payable to the dojo if you are not a member.\nDates: Thursday evenings\nTimes: 6:00pm – 7:30pm
URL:https://leadershipembodiment.com/event/ongoing-leadership-embodiment-classes/2015-03-05/
LOCATION:Aikido of Tamalpais\, 142 Redwood Avenue\, Corte Madera\, CA\, United States
CATEGORIES:North America
ORGANIZER;CN="LE Office":MAILTO:office@leadershipembodiment.com
END:VEVENT
BEGIN:VEVENT
DTSTART;VALUE=DATE:20140809
DTEND;VALUE=DATE:20140810
DTSTAMP:20260424T050226
CREATED:20140728T173114Z
LAST-MODIFIED:20140728T173114Z
UID:10000851-1407542400-1407628799@leadershipembodiment.com
SUMMARY:Embodied Awareness\, Embodied Action
DESCRIPTION:Attend the Embodied Awareness\, Embodied Action class series with LE Associates\, Paul Ciske\, Ph.D.\, Anjali Sawhney\, MBA\, and “RJ” Ron Jennings\, ICF at the East Bay Meditation Center.  This series begins on Saturday\, August 9th and continues on the three following Monday evenings\, August 11th\, 18th\, and 15th.  For further details and to register\, click here.
URL:https://leadershipembodiment.com/event/embodied-awareness-embodied-action/2014-08-09/
LOCATION:East Bay Meditation Center\, 285 17th Street\, Oakland\, CA\, United States
CATEGORIES:North America
END:VEVENT
END:VCALENDAR