BEGIN:VCALENDAR
VERSION:2.0
PRODID:-//Leadership Embodiment - ECPv6.15.20//NONSGML v1.0//EN
CALSCALE:GREGORIAN
METHOD:PUBLISH
X-WR-CALNAME:Leadership Embodiment
X-ORIGINAL-URL:https://leadershipembodiment.com
X-WR-CALDESC:Events for Leadership Embodiment
REFRESH-INTERVAL;VALUE=DURATION:PT1H
X-Robots-Tag:noindex
X-PUBLISHED-TTL:PT1H
BEGIN:VTIMEZONE
TZID:America/Los_Angeles
BEGIN:DAYLIGHT
TZOFFSETFROM:-0800
TZOFFSETTO:-0700
TZNAME:PDT
DTSTART:20250309T100000
END:DAYLIGHT
BEGIN:STANDARD
TZOFFSETFROM:-0700
TZOFFSETTO:-0800
TZNAME:PST
DTSTART:20251102T090000
END:STANDARD
BEGIN:DAYLIGHT
TZOFFSETFROM:-0800
TZOFFSETTO:-0700
TZNAME:PDT
DTSTART:20260308T100000
END:DAYLIGHT
BEGIN:STANDARD
TZOFFSETFROM:-0700
TZOFFSETTO:-0800
TZNAME:PST
DTSTART:20261101T090000
END:STANDARD
BEGIN:DAYLIGHT
TZOFFSETFROM:-0800
TZOFFSETTO:-0700
TZNAME:PDT
DTSTART:20270314T100000
END:DAYLIGHT
BEGIN:STANDARD
TZOFFSETFROM:-0700
TZOFFSETTO:-0800
TZNAME:PST
DTSTART:20271107T090000
END:STANDARD
END:VTIMEZONE
BEGIN:VEVENT
DTSTART;VALUE=DATE:20260114
DTEND;VALUE=DATE:20260116
DTSTAMP:20260423T175206
CREATED:20250915T160049Z
LAST-MODIFIED:20251103T201154Z
UID:10001194-1768348800-1768521599@leadershipembodiment.com
SUMMARY:Leadership Embodiment Level 1 with Anne Berthelin & Valérie Vanruymbeke (in French)
DESCRIPTION:Join Anne and Valérie for a two-day Leadership Embodiment Level 1 in Paris\, France. This course will be taught in French. For a description of a Level 1\, please see our Public Courses page. For more information including costs\, please CLICK HERE. \nDates: 14-15 January 2026 \n \nEurope
URL:https://leadershipembodiment.com/event/leadership-embodiment-level-1-with-anne-berthelin-valerie-vanruymbeke-in-french/
LOCATION:Paris Venue\, Paris\, France
CATEGORIES:Europe
ORGANIZER;CN="Anne Berthelin":MAILTO:anne.berthelin@accenciel.com
END:VEVENT
BEGIN:VEVENT
DTSTART;VALUE=DATE:20260117
DTEND;VALUE=DATE:20260119
DTSTAMP:20260423T175206
CREATED:20251030T181316Z
LAST-MODIFIED:20251030T181316Z
UID:10001199-1768608000-1768780799@leadershipembodiment.com
SUMMARY:Leadership Embodiment Level 1 with Paul King
DESCRIPTION:Join Paul for a 2-day Leadership Embodiment Level 1 in a Bermondsey\, London. For a description of a Level 1\, please see our Public Courses page. \nDates: 17-18 January 2026 \n \nEurope
URL:https://leadershipembodiment.com/event/leadership-embodiment-level-1-with-paul-king-13/
LOCATION:London Venue\, London\, United Kingdom
CATEGORIES:Europe
ORGANIZER;CN="Paul King":MAILTO:info@thebeyondpartnership.co.uk
END:VEVENT
BEGIN:VEVENT
DTSTART;VALUE=DATE:20260130
DTEND;VALUE=DATE:20260201
DTSTAMP:20260423T175206
CREATED:20250930T165429Z
LAST-MODIFIED:20251201T172657Z
UID:10001198-1769731200-1769903999@leadershipembodiment.com
SUMMARY:Leadership Embodiment Level 1 with Ched Lee (in English)
DESCRIPTION:Join Ched for a 2-Day Leadership Embodiment Level 1 in Kuala Lumpur\, Malaysia. This course will be taught in English. For a description of a Level 1\, please see our Public Courses page. \nClick here for more info.  \nDetails are coming soon\, and all are warmly welcome to register with interest to ched@chedlee.com \nDates: 30-31 January 2026 \n \nAsia
URL:https://leadershipembodiment.com/event/leadership-embodiment-level-1-with-ched-lee-in-english-3/
LOCATION:Kuala Lumpur Venue\, Kuala Lumpur\, Malaysia
CATEGORIES:Asia
ORGANIZER;CN="Ched Lee":MAILTO:ched@chedlee.com
END:VEVENT
END:VCALENDAR