BEGIN:VCALENDAR
VERSION:2.0
PRODID:-//Leadership Embodiment - ECPv6.15.20//NONSGML v1.0//EN
CALSCALE:GREGORIAN
METHOD:PUBLISH
X-WR-CALNAME:Leadership Embodiment
X-ORIGINAL-URL:https://leadershipembodiment.com
X-WR-CALDESC:Events for Leadership Embodiment
REFRESH-INTERVAL;VALUE=DURATION:PT1H
X-Robots-Tag:noindex
X-PUBLISHED-TTL:PT1H
BEGIN:VTIMEZONE
TZID:America/Los_Angeles
BEGIN:DAYLIGHT
TZOFFSETFROM:-0800
TZOFFSETTO:-0700
TZNAME:PDT
DTSTART:20250309T100000
END:DAYLIGHT
BEGIN:STANDARD
TZOFFSETFROM:-0700
TZOFFSETTO:-0800
TZNAME:PST
DTSTART:20251102T090000
END:STANDARD
BEGIN:DAYLIGHT
TZOFFSETFROM:-0800
TZOFFSETTO:-0700
TZNAME:PDT
DTSTART:20260308T100000
END:DAYLIGHT
BEGIN:STANDARD
TZOFFSETFROM:-0700
TZOFFSETTO:-0800
TZNAME:PST
DTSTART:20261101T090000
END:STANDARD
BEGIN:DAYLIGHT
TZOFFSETFROM:-0800
TZOFFSETTO:-0700
TZNAME:PDT
DTSTART:20270314T100000
END:DAYLIGHT
BEGIN:STANDARD
TZOFFSETFROM:-0700
TZOFFSETTO:-0800
TZNAME:PST
DTSTART:20271107T090000
END:STANDARD
END:VTIMEZONE
BEGIN:VTIMEZONE
TZID:Europe/Paris
BEGIN:DAYLIGHT
TZOFFSETFROM:+0100
TZOFFSETTO:+0200
TZNAME:CEST
DTSTART:20250330T010000
END:DAYLIGHT
BEGIN:STANDARD
TZOFFSETFROM:+0200
TZOFFSETTO:+0100
TZNAME:CET
DTSTART:20251026T010000
END:STANDARD
BEGIN:DAYLIGHT
TZOFFSETFROM:+0100
TZOFFSETTO:+0200
TZNAME:CEST
DTSTART:20260329T010000
END:DAYLIGHT
BEGIN:STANDARD
TZOFFSETFROM:+0200
TZOFFSETTO:+0100
TZNAME:CET
DTSTART:20261025T010000
END:STANDARD
BEGIN:DAYLIGHT
TZOFFSETFROM:+0100
TZOFFSETTO:+0200
TZNAME:CEST
DTSTART:20270328T010000
END:DAYLIGHT
BEGIN:STANDARD
TZOFFSETFROM:+0200
TZOFFSETTO:+0100
TZNAME:CET
DTSTART:20271031T010000
END:STANDARD
END:VTIMEZONE
BEGIN:VEVENT
DTSTART;VALUE=DATE:20260429
DTEND;VALUE=DATE:20260501
DTSTAMP:20260423T130046
CREATED:20250905T201202Z
LAST-MODIFIED:20251219T150353Z
UID:10001193-1777420800-1777593599@leadershipembodiment.com
SUMMARY:Leadership Embodiment Level 1 with Heinrike Bergmans (in Dutch and English)
DESCRIPTION:Join Heinrike in Zandhoven\, Belgium for a 2-Day Leadership Embodiment Level 1. This course will be taught in Dutch and English. For a description of a Level 1\, please see our Public Courses page. For more information or to register\, please CLICK HERE. \nDates: 29 – 30 April 2026 \n \nEurope
URL:https://leadershipembodiment.com/event/leadership-embodiment-level-1-with-heinrike-bergmans-in-dutch-5/
LOCATION:Zandhoven Venue\, Zandhoven\, Belgium
CATEGORIES:Europe
ORGANIZER;CN="Heinrike Bergmans":MAILTO:heinrike@sarafijn.be
END:VEVENT
BEGIN:VEVENT
DTSTART;VALUE=DATE:20260503
DTEND;VALUE=DATE:20260505
DTSTAMP:20260423T130046
CREATED:20251230T153102Z
LAST-MODIFIED:20260209T165502Z
UID:10001203-1777766400-1777939199@leadershipembodiment.com
SUMMARY:Leadership Embodiment Level 1 with Paul King (in English)
DESCRIPTION:Join Paul in Vienna\, Austria for a 2-day Leadership Embodiment Level 1. For a description of a Level 1\, please see our Public Courses page. \nDates: 3-4 May 2026
URL:https://leadershipembodiment.com/event/leadership-embodiment-level-1-with-paul-king-in-english-4/
LOCATION:Vienna Venue\, Vienna\, Austria
CATEGORIES:Europe
ORGANIZER;CN="Paul King":MAILTO:info@thebeyondpartnership.co.uk
GEO:48.2081743;16.3738189
END:VEVENT
BEGIN:VEVENT
DTSTART;VALUE=DATE:20260505
DTEND;VALUE=DATE:20260506
DTSTAMP:20260423T130046
CREATED:20260119T173256Z
LAST-MODIFIED:20260119T173256Z
UID:10001212-1777939200-1778025599@leadershipembodiment.com
SUMMARY:Leadership Embodiment Level 1 with Pierre Goirand (in French)
DESCRIPTION:Join Pierre in Paris for a 2-Day Leadership Embodiment Level 1. This course will be led in French. For a description of a Level 1\, please see our Public Courses page. For more information or to register\, please CLICK HERE. \nDates: 5 May 2026 and 1 June 2026
URL:https://leadershipembodiment.com/event/leadership-embodiment-level-1-with-pierre-goirand-in-french-3/
LOCATION:Paris\, France
CATEGORIES:Europe
ORGANIZER;CN="Pierre Goirand":MAILTO:contact@presenceleadership.net
END:VEVENT
BEGIN:VEVENT
DTSTART;VALUE=DATE:20260603
DTEND;VALUE=DATE:20260605
DTSTAMP:20260423T130046
CREATED:20260422T145553Z
LAST-MODIFIED:20260423T120143Z
UID:10001230-1780444800-1780617599@leadershipembodiment.com
SUMMARY:Leadership Embodiment Level 1 with Anique van Dijck (in English)
DESCRIPTION:Join Anique for a 2-Day Leadership Embodiment Level 1 in Amsterdam. This course will be taught in English. For a description of a Level 1\, please see our Public Courses page. For more information or to register\, please CLICK HERE. \nDates: 3-4 June 2026 \n \nEurope
URL:https://leadershipembodiment.com/event/leadership-embodiment-level-1-with-anique-van-dijck-in-english/
LOCATION:WestCord Fashion Hotel Amsterdam\, Netherlands
CATEGORIES:Europe
ORGANIZER;CN="Anique van Dijck":MAILTO:info@aniquevandijck.nl
END:VEVENT
BEGIN:VEVENT
DTSTART;VALUE=DATE:20260611
DTEND;VALUE=DATE:20260613
DTSTAMP:20260423T130046
CREATED:20260129T192531Z
LAST-MODIFIED:20260129T193217Z
UID:10001215-1781136000-1781308799@leadershipembodiment.com
SUMMARY:Leadership Embodiment Level 1 with Fabienne Cuisinier (in German)
DESCRIPTION:Join Fabienne for a 2-Day Leadership Embodiment Level 1 in Zurich. This course will be taught in German. For a description of a Level 1\, please see our Public Courses page. To register or for more information\, please CLICK HERE. \nDates: 11-12 June 2026 \n \nEurope
URL:https://leadershipembodiment.com/event/leadership-embodiment-level-1-with-fabienne-cuisinier-in-german/
LOCATION:KGH Bederstrasse\, Bederstrasse 25 (at Enge station)\, Zurich\, Switzerland
CATEGORIES:Europe
ORGANIZER;CN="Fabienne Cuisinier":MAILTO:fabienne@startwhereyouare.net
END:VEVENT
BEGIN:VEVENT
DTSTART;VALUE=DATE:20260611
DTEND;VALUE=DATE:20260613
DTSTAMP:20260423T130046
CREATED:20260209T165258Z
LAST-MODIFIED:20260209T165258Z
UID:10001217-1781136000-1781308799@leadershipembodiment.com
SUMMARY:Leadership Embodiment Level 1 with Anne Berthelin (in French)
DESCRIPTION:Join Anne for a 2-Day Leadership Embodiment Level 1 in Paris. For a description of a Level 1\, please see our Public Courses page. For more information or to register\, please CLICK HERE. \nDates: 11-12 June 2026
URL:https://leadershipembodiment.com/event/leadership-embodiment-level-1-with-anne-berthelin-in-french-2/
LOCATION:MAISON D’ACCUEIL DE L’ASSOMPTION\, 17\, rue de l'Assomption\, Paris\, 75016\, France
CATEGORIES:Europe
ORGANIZER;CN="Anne Berthelin":MAILTO:anne.berthelin@accenciel.com
END:VEVENT
BEGIN:VEVENT
DTSTART;VALUE=DATE:20260613
DTEND;VALUE=DATE:20260615
DTSTAMP:20260423T130046
CREATED:20250428T181352Z
LAST-MODIFIED:20260422T143811Z
UID:10001169-1781308800-1781481599@leadershipembodiment.com
SUMMARY:Leadership Embodiment Level 1 with Paul Ciske (Hybrid: In-person or Remote)
DESCRIPTION:Hybrid: In Person or Remote Level 1\nJoin Paul for this Leadership Embodiment Level 1 in person or via remote (see below for remote requirements). For a description of the Leadership Embodiment Level 1 content\, please see our Public Courses page. The in-person Level 1 will be held in Oakland\, California.  \nDates: 13-14 June 2026 \nREQUIREMENTS FOR REMOTE: \n    Must register with a remote in-person training partner.\n    The partners must meet in a space where there is enough room to take several steps and that has a video camera.\n    The training partners must both be present for both days \nEarly registration cost: $550 until May 29\, 2026 ($100 non-refundable* deposit to hold your space)\nLater registration cost: $600 after May 29\, 2026.\n[VENMO (Personal payment\, @Paul-Ciske\, paul@paulciske.com\, 510-912-5775);\nPAYPAL: https://www.paypal.com/paypalme/PaulCiske (USD) FRIENDS & FAMILY only;\nZELLE: paul@paulciske.com\, 510-912-5775\, or mail to : Paul Ciske\, 351 Santa Clara Ave\, Oakland\, CA 94610] \nTo register\, contact Paul Ciske: 510-912-5775 or email – paulciske(at)sbcglobal.net\, Email subject heading: In-person or Remote In-Person June 2026 Level 1 \n \nNorth America
URL:https://leadershipembodiment.com/event/leadership-embodiment-level-1-with-paul-ciske-new-fall-offering/
LOCATION:Remote-Oakland\, United States
CATEGORIES:North America,Online
END:VEVENT
BEGIN:VEVENT
DTSTART;VALUE=DATE:20260615
DTEND;VALUE=DATE:20260617
DTSTAMP:20260423T130046
CREATED:20260119T173828Z
LAST-MODIFIED:20260119T174001Z
UID:10001213-1781481600-1781654399@leadershipembodiment.com
SUMMARY:Leadership Embodiment Level 1 with Pierre Goirand (in English)
DESCRIPTION:Join Pierre in Berlin for a 2-Day Leadership Embodiment Level 1. This course will be led in English. For a description of a Level 1\, please see our Public Courses page. For more information or to register\, please CLICK HERE.  \nDates: 15-16 June 2026
URL:https://leadershipembodiment.com/event/leadership-embodiment-level-1-with-pierre-goirand-in-english-3/
LOCATION:Facilitation Academy\, Berlin\, Germany
CATEGORIES:Europe
ORGANIZER;CN="Pierre Goirand":MAILTO:contact@presenceleadership.net
END:VEVENT
BEGIN:VEVENT
DTSTART;VALUE=DATE:20260707
DTEND;VALUE=DATE:20260709
DTSTAMP:20260423T130046
CREATED:20260116T164830Z
LAST-MODIFIED:20260119T172025Z
UID:10001209-1783382400-1783555199@leadershipembodiment.com
SUMMARY:Leadership Embodiment Level 1 with Valerie Vanruymbeke (in French)
DESCRIPTION:Join Valerie for a 2-Day Leadership Embodiment Level 1 in Lille\, France. This course will be led in French. For a description of a Level 1\, please see our Public Courses page.  \nDates: 7-8 July 2026
URL:https://leadershipembodiment.com/event/leadership-embodiment-level-1-with-valerie-vanruymbeke/
LOCATION:Lillie Venue\, Lille\, France
CATEGORIES:Europe
ORGANIZER;CN="Valerie Vanruymbeke":MAILTO:valerievanruymbeke@leadercoach.eu
END:VEVENT
BEGIN:VEVENT
DTSTART;VALUE=DATE:20260821
DTEND;VALUE=DATE:20260823
DTSTAMP:20260423T130046
CREATED:20260422T154527Z
LAST-MODIFIED:20260423T131224Z
UID:10001233-1787270400-1787443199@leadershipembodiment.com
SUMMARY:Leadership Embodiment Level 1 with Ched Lee (in English)
DESCRIPTION:Join Ched Lee in Singapore for a 2-Day Leadership Embodiment Level 1. For a description of a Level 1\, please see our Public Courses page. This course will be taught in English. For more information or to register\, please CLICK HERE.  \nDates: 21-22 August 2026 \n \nAsia
URL:https://leadershipembodiment.com/event/leadership-embodiment-level-1-with-ched-lee/
LOCATION:Singapore Venue\, Singapore
CATEGORIES:Asia
ORGANIZER;CN="Ched Lee":MAILTO:ched@chedlee.com
GEO:1.352083;103.819836
END:VEVENT
BEGIN:VEVENT
DTSTART;VALUE=DATE:20260916
DTEND;VALUE=DATE:20260918
DTSTAMP:20260423T130046
CREATED:20260421T150050Z
LAST-MODIFIED:20260421T150050Z
UID:10001226-1789516800-1789689599@leadershipembodiment.com
SUMMARY:Leadership Embodiment Level 1 with Anne Berthelin (in French)
DESCRIPTION:Join Anne in Lyon\, France for a 2-Day Leadership Embodiment Level 1 course. This course will be led in French. For a description of a Level 1\, please see our Public Courses page.  \nDates: 16-17 September 2026 \n \nEurope
URL:https://leadershipembodiment.com/event/leadership-embodiment-level-1-with-anne-berthelin-in-french-3/
LOCATION:Lyon Venue\, 7 rue Antoine de Saint Exupéry\, Lyon (Métro Bellecour)\, France
CATEGORIES:Europe
ORGANIZER;CN="Anne Berthelin":MAILTO:anne.berthelin@accenciel.com
END:VEVENT
BEGIN:VEVENT
DTSTART;VALUE=DATE:20260919
DTEND;VALUE=DATE:20260921
DTSTAMP:20260423T130046
CREATED:20260422T144041Z
LAST-MODIFIED:20260422T144041Z
UID:10001228-1789776000-1789948799@leadershipembodiment.com
SUMMARY:Leadership Embodiment Level 1 with Paul Ciske (Hybrid: In-person or Remote)
DESCRIPTION:Hybrid: In Person or Remote Level 1\nJoin Paul for this Leadership Embodiment Level 1 in person or via remote (see below for remote requirements). For a description of the Leadership Embodiment Level 1 content\, please see our Public Courses page. The in-person Level 1 will be held in Oakland\, California.  \nDates: 19 – 20 September 2026 \nREQUIREMENTS FOR REMOTE: \n    Must register with a remote in-person training partner.\n    The partners must meet in a space where there is enough room to take several steps and that has a video camera.\n    The training partners must both be present for both days \nEarly registration cost: $550 until September 4\, 2026 ($100 non-refundable* deposit to hold your space)\nLater registration cost: $600 after September 4\, 2026.\n[VENMO (Personal payment\, @Paul-Ciske\, paul@paulciske.com\, 510-912-5775);\nPAYPAL: https://www.paypal.com/paypalme/PaulCiske (USD) FRIENDS & FAMILY only;\nZELLE: paul@paulciske.com\, 510-912-5775\, or mail to : Paul Ciske\, 351 Santa Clara Ave\, Oakland\, CA 94610] \nTo register\, contact Paul Ciske: 510-912-5775 or email – paulciske(at)sbcglobal.net\, Email subject heading: In-person or Remote In-Person September 2026 Level 1 \n \nNorth America
URL:https://leadershipembodiment.com/event/leadership-embodiment-level-1-with-paul-ciske-hybrid-in-person-or-remote/
LOCATION:Remote-Oakland\, United States
CATEGORIES:North America,Online
END:VEVENT
BEGIN:VEVENT
DTSTART;VALUE=DATE:20260923
DTEND;VALUE=DATE:20260925
DTSTAMP:20260423T130046
CREATED:20241202T164302Z
LAST-MODIFIED:20260423T124428Z
UID:10001133-1790121600-1790294399@leadershipembodiment.com
SUMMARY:Leadership Embodiment Level 1 with Anique van Dijck (in Dutch)
DESCRIPTION:Join Anique for a 2-Day Level 1 in Zaltbommel\, Netherlands. This course will be led in Dutch. For a description of a Leadership Embodiment Level 1\, please see our Public Courses page. \nFor more information and to register\, please CLICK HERE. \nDates: 23-24 September 2026 \n \nEurope
URL:https://leadershipembodiment.com/event/leadership-embodiment-level-1-with-anouk-brack-in-dutch/
LOCATION:Zaltbommel Venue\, Netherlands
CATEGORIES:Europe
ORGANIZER;CN="Anique van Dijck":MAILTO:info@aniquevandijck.nl
END:VEVENT
BEGIN:VEVENT
DTSTART;VALUE=DATE:20260924
DTEND;VALUE=DATE:20260926
DTSTAMP:20260423T130046
CREATED:20260129T193137Z
LAST-MODIFIED:20260317T163712Z
UID:10001216-1790208000-1790380799@leadershipembodiment.com
SUMMARY:Leadership Embodiment Level 2 with Fabienne Cuisinier (in German)
DESCRIPTION:Join Fabienne for a 2-Day Leadership Embodiment Level 2 in Zurich. This course will be taught in German. You must have completed a Level 1 before enrolling in a Level 2. For a description of a Level 2\, please see our Public Courses page. To register or for more information\, please CLICK HERE.  \nDates: 24 – 25 September 2026 \n \nEurope
URL:https://leadershipembodiment.com/event/leadership-embodiment-level-2-with-fabienne-cuisinier-in-german/
LOCATION:Haus Seefeld\, Seefeldstrasse 91\, Zurich\, Switzerland
CATEGORIES:Europe
ORGANIZER;CN="Fabienne Cuisinier":MAILTO:fabienne@startwhereyouare.net
END:VEVENT
BEGIN:VEVENT
DTSTART;VALUE=DATE:20261001
DTEND;VALUE=DATE:20261003
DTSTAMP:20260423T130046
CREATED:20260116T165234Z
LAST-MODIFIED:20260119T171940Z
UID:10001210-1790812800-1790985599@leadershipembodiment.com
SUMMARY:Leadership Embodiment Level 1 with Valerie Vanruymbeke (in French)
DESCRIPTION:Join Valerie for a 2-Day Leadership Embodiment Level 1 in Paris\, France. This course will be led in French. For a description of a Level 1\, please see our Public Courses page.  \nDates: 1-2 October 2026
URL:https://leadershipembodiment.com/event/leadership-embodiment-level-1-with-valerie-vanruymbeke-2/
LOCATION:Paris Venue\, Paris\, France
CATEGORIES:Europe
ORGANIZER;CN="Valerie Vanruymbeke":MAILTO:valerievanruymbeke@leadercoach.eu
END:VEVENT
BEGIN:VEVENT
DTSTART;VALUE=DATE:20261027
DTEND;VALUE=DATE:20261029
DTSTAMP:20260423T130046
CREATED:20260422T153534Z
LAST-MODIFIED:20260422T153534Z
UID:10001232-1793059200-1793231999@leadershipembodiment.com
SUMMARY:Leadership Embodiment Level 1 with Anique van Dijck (in English)
DESCRIPTION:Join Anique for a 2-Day Level 1 in Vught\, Netherlands. This course will be led in English. For a description of a Leadership Embodiment Level 1\, please see our Public Courses page. \nDates: 27-28 October 2026 \n \nEurope
URL:https://leadershipembodiment.com/event/leadership-embodiment-level-1-with-anique-van-dijck-in-english-4/
LOCATION:Vught Venue\, Vught\, Netherlands
CATEGORIES:Europe
ORGANIZER;CN="Anique van Dijck":MAILTO:info@aniquevandijck.nl
END:VEVENT
BEGIN:VEVENT
DTSTART;VALUE=DATE:20261029
DTEND;VALUE=DATE:20261031
DTSTAMP:20260423T130046
CREATED:20260421T150459Z
LAST-MODIFIED:20260421T150459Z
UID:10001227-1793232000-1793404799@leadershipembodiment.com
SUMMARY:Leadership Embodiment Level 1 with Anne Berthelin (in French)
DESCRIPTION:Join Anne in Nimes\, France for a 2-Day Leadership Embodiment Level 1 course. This course will be led in French. For a description of a Level 1\, please see our Public Courses page.  \nDates: 29-30 October 2026 \n \nEurope
URL:https://leadershipembodiment.com/event/leadership-embodiment-level-1-with-anne-berthelin-in-french-4/
LOCATION:Centre Arraya\, 34 Rue de Beaucaire\, 30000 Nimes\, France
CATEGORIES:Europe
ORGANIZER;CN="Anne Berthelin":MAILTO:anne.berthelin@accenciel.com
END:VEVENT
BEGIN:VEVENT
DTSTART;VALUE=DATE:20261109
DTEND;VALUE=DATE:20261111
DTSTAMP:20260423T130046
CREATED:20260119T174121Z
LAST-MODIFIED:20260119T174121Z
UID:10001214-1794182400-1794355199@leadershipembodiment.com
SUMMARY:Leadership Embodiment Level 1 with Pierre Goirand (in English)
DESCRIPTION:Join Pierre in Berlin for a 2-Day Leadership Embodiment Level 1. This course will be led in English. For a description of a Level 1\, please see our Public Courses page. For more information or to register\, please CLICK HERE.  \nDates: 9 – 10 November 2026
URL:https://leadershipembodiment.com/event/leadership-embodiment-level-1-with-pierre-goirand-in-english-4/
LOCATION:Facilitation Academy\, Berlin\, Germany
CATEGORIES:Europe
ORGANIZER;CN="Pierre Goirand":MAILTO:contact@presenceleadership.net
END:VEVENT
BEGIN:VEVENT
DTSTART;VALUE=DATE:20261114
DTEND;VALUE=DATE:20261116
DTSTAMP:20260423T130046
CREATED:20260422T144251Z
LAST-MODIFIED:20260422T144251Z
UID:10001229-1794614400-1794787199@leadershipembodiment.com
SUMMARY:Leadership Embodiment Level 1 with Paul Ciske (Hybrid: In-person or Remote)
DESCRIPTION:Hybrid: In Person or Remote Level 1\nJoin Paul for this Leadership Embodiment Level 1 in person or via remote (see below for remote requirements). For a description of the Leadership Embodiment Level 1 content\, please see our Public Courses page. The in-person Level 1 will be held in Oakland\, California.  \nDates: 14-15 November 2026 \nREQUIREMENTS FOR REMOTE: \n    Must register with a remote in-person training partner.\n    The partners must meet in a space where there is enough room to take several steps and that has a video camera.\n    The training partners must both be present for both days \nEarly registration cost: $550 until October 30\, 2026 ($100 non-refundable* deposit to hold your space)\nLater registration cost: $600 after October 30\, 2026.\n[VENMO (Personal payment\, @Paul-Ciske\, paul@paulciske.com\, 510-912-5775);\nPAYPAL: https://www.paypal.com/paypalme/PaulCiske (USD) FRIENDS & FAMILY only;\nZELLE: paul@paulciske.com\, 510-912-5775\, or mail to : Paul Ciske\, 351 Santa Clara Ave\, Oakland\, CA 94610] \nTo register\, contact Paul Ciske: 510-912-5775 or email – paulciske(at)sbcglobal.net\, Email subject heading: In-person or Remote In-Person November 2026 Level 1 \n \nNorth America
URL:https://leadershipembodiment.com/event/leadership-embodiment-level-1-with-paul-ciske-hybrid-in-person-or-remote-2/
LOCATION:Remote-Oakland\, United States
CATEGORIES:North America,Online
END:VEVENT
BEGIN:VEVENT
DTSTART;VALUE=DATE:20261124
DTEND;VALUE=DATE:20261126
DTSTAMP:20260423T130046
CREATED:20250729T143832Z
LAST-MODIFIED:20250729T144132Z
UID:10001185-1795478400-1795651199@leadershipembodiment.com
SUMMARY:Leadership Embodiment Level 1 with Anique van Dijck (in English)
DESCRIPTION:Join Anique for a 2-Day Level 1 in Amsterdam\, Netherlands. This course will be led in English. For a description of a Leadership Embodiment Level 1\, please see our Public Courses page. \nFor more information and to register\, please CLICK HERE.  \nDates: 24-25 November 2026 \n \nEurope
URL:https://leadershipembodiment.com/event/leadership-embodiment-level-1-with-anique-van-dijck-in-english-3/
LOCATION:WestCord Fashion Hotel Amsterdam\, Netherlands
CATEGORIES:Europe
ORGANIZER;CN="Anique van Dijck":MAILTO:info@aniquevandijck.nl
END:VEVENT
END:VCALENDAR