BEGIN:VCALENDAR
VERSION:2.0
PRODID:-//Leadership Embodiment - ECPv6.15.20//NONSGML v1.0//EN
CALSCALE:GREGORIAN
METHOD:PUBLISH
X-WR-CALNAME:Leadership Embodiment
X-ORIGINAL-URL:https://leadershipembodiment.com
X-WR-CALDESC:Events for Leadership Embodiment
REFRESH-INTERVAL;VALUE=DURATION:PT1H
X-Robots-Tag:noindex
X-PUBLISHED-TTL:PT1H
BEGIN:VTIMEZONE
TZID:America/Los_Angeles
BEGIN:DAYLIGHT
TZOFFSETFROM:-0800
TZOFFSETTO:-0700
TZNAME:PDT
DTSTART:20240310T100000
END:DAYLIGHT
BEGIN:STANDARD
TZOFFSETFROM:-0700
TZOFFSETTO:-0800
TZNAME:PST
DTSTART:20241103T090000
END:STANDARD
BEGIN:DAYLIGHT
TZOFFSETFROM:-0800
TZOFFSETTO:-0700
TZNAME:PDT
DTSTART:20250309T100000
END:DAYLIGHT
BEGIN:STANDARD
TZOFFSETFROM:-0700
TZOFFSETTO:-0800
TZNAME:PST
DTSTART:20251102T090000
END:STANDARD
BEGIN:DAYLIGHT
TZOFFSETFROM:-0800
TZOFFSETTO:-0700
TZNAME:PDT
DTSTART:20260308T100000
END:DAYLIGHT
BEGIN:STANDARD
TZOFFSETFROM:-0700
TZOFFSETTO:-0800
TZNAME:PST
DTSTART:20261101T090000
END:STANDARD
BEGIN:DAYLIGHT
TZOFFSETFROM:-0800
TZOFFSETTO:-0700
TZNAME:PDT
DTSTART:20270314T100000
END:DAYLIGHT
BEGIN:STANDARD
TZOFFSETFROM:-0700
TZOFFSETTO:-0800
TZNAME:PST
DTSTART:20271107T090000
END:STANDARD
END:VTIMEZONE
BEGIN:VEVENT
DTSTART;VALUE=DATE:20260418
DTEND;VALUE=DATE:20260420
DTSTAMP:20260423T155220
CREATED:20251230T153825Z
LAST-MODIFIED:20251230T153825Z
UID:10001205-1776470400-1776643199@leadershipembodiment.com
SUMMARY:Leadership Embodiment Level 1 with Paul King
DESCRIPTION:Join Paul in London for a 2-Day Leadership Embodiment Level 1. For a description of a Level 1\, please see our Public Courses page.  \nDates: 18-19 April 2026
URL:https://leadershipembodiment.com/event/leadership-embodiment-level-1-with-paul-king-15/
LOCATION:London Venue\, London\, United Kingdom
CATEGORIES:Europe
ORGANIZER;CN="Paul King":MAILTO:info@thebeyondpartnership.co.uk
END:VEVENT
BEGIN:VEVENT
DTSTART;VALUE=DATE:20260325
DTEND;VALUE=DATE:20260327
DTSTAMP:20260423T155220
CREATED:20250915T161046Z
LAST-MODIFIED:20251103T201223Z
UID:10001195-1774396800-1774569599@leadershipembodiment.com
SUMMARY:Leadership Embodiment Level 1 with Anne Berthelin (in French)
DESCRIPTION:Join Anne for a two-day Leadership Embodiment Level 1 in Dijon\, France. This course will be led in French. For a description of a Level 1\, please see our Public Courses page. For more information including costs\, please CLICK HERE. \nDates: 25-26 March 2026 \n \nEurope
URL:https://leadershipembodiment.com/event/leadership-embodiment-level-1-with-anne-berthelin-in-french/
LOCATION:Venue Le Centre\, Dijon\, France
CATEGORIES:Europe
ORGANIZER;CN="Anne Berthelin":MAILTO:anne.berthelin@accenciel.com
END:VEVENT
BEGIN:VEVENT
DTSTART;VALUE=DATE:20260317
DTEND;VALUE=DATE:20260319
DTSTAMP:20260423T155220
CREATED:20250929T151937Z
LAST-MODIFIED:20250929T151937Z
UID:10001196-1773705600-1773878399@leadershipembodiment.com
SUMMARY:Leadership Embodiment Level 1 with Karen White
DESCRIPTION:Join Karen White for a 2-Day Level 1 in the Cape Town region of South Africa. For a description of a Level 1\, please see our Public Courses page. \nDates: 17-18 March 2026 \n \nSouth Africa
URL:https://leadershipembodiment.com/event/leadership-embodiment-level-1-with-karen-white/
LOCATION:Cape Town Region\, Cape Town\, South Africa
CATEGORIES:South Africa
ORGANIZER;CN="Karen White":MAILTO:karen@thehumanconnection.co.za
GEO:-33.9248685;18.4240553
END:VEVENT
BEGIN:VEVENT
DTSTART;VALUE=DATE:20260317
DTEND;VALUE=DATE:20260319
DTSTAMP:20260423T155220
CREATED:20250905T201037Z
LAST-MODIFIED:20251219T150307Z
UID:10001192-1773705600-1773878399@leadershipembodiment.com
SUMMARY:Leadership Embodiment Level 1 with Heinrike Bergmans (in Dutch and English)
DESCRIPTION:Join Heinrike in Zandhoven\, Belgium for a 2-Day Leadership Embodiment Level 1. This course will be taught in Dutch and English. For a description of a Level 1\, please see our Public Courses page. For more information or to register\, please CLICK HERE. \nDates: 17 – 18 March 2026 \n \nEurope
URL:https://leadershipembodiment.com/event/leadership-embodiment-level-1-with-heinrike-bergmans-in-dutch-4/
LOCATION:Zandhoven Venue\, Zandhoven\, Belgium
CATEGORIES:Europe
ORGANIZER;CN="Heinrike Bergmans":MAILTO:heinrike@sarafijn.be
END:VEVENT
BEGIN:VEVENT
DTSTART;VALUE=DATE:20260314
DTEND;VALUE=DATE:20260316
DTSTAMP:20260423T155220
CREATED:20251230T152802Z
LAST-MODIFIED:20251230T152802Z
UID:10001202-1773446400-1773619199@leadershipembodiment.com
SUMMARY:Leadership Embodiment Level 1 with Paul King (in English)
DESCRIPTION:Join Paul in Athens\, Greece for a 2-day Leadership Embodiment Level 1. For a description of a Level 1\, please see our Public Courses page. \nDates: 14-15 March 2026
URL:https://leadershipembodiment.com/event/leadership-embodiment-level-1-with-paul-king-in-english-3/
LOCATION:Athens Venue\, Athens\, Greece
CATEGORIES:Europe
ORGANIZER;CN="Paul King":MAILTO:info@thebeyondpartnership.co.uk
END:VEVENT
BEGIN:VEVENT
DTSTART;VALUE=DATE:20260303
DTEND;VALUE=DATE:20260305
DTSTAMP:20260423T155220
CREATED:20250729T143248Z
LAST-MODIFIED:20250729T143528Z
UID:10001184-1772496000-1772668799@leadershipembodiment.com
SUMMARY:Leadership Embodiment Level 1 with Anique van Dijck (in English)
DESCRIPTION:Join Anique for a 2-Day Level 1 in Amsterdam\, Netherlands. This course will be led in English. For a description of a Leadership Embodiment Level 1\, please see our Public Courses page. \nFor more information and to register\, please CLICK HERE.  \nDates: 3-4 March 2026 \n \nEurope
URL:https://leadershipembodiment.com/event/leadership-embodiment-level-1-with-anique-van-dijck-in-english-2/
LOCATION:WestCord Fashion Hotel Amsterdam\, Netherlands
CATEGORIES:Europe
ORGANIZER;CN="Anique van Dijck":MAILTO:info@aniquevandijck.nl
END:VEVENT
BEGIN:VEVENT
DTSTART;VALUE=DATE:20260210
DTEND;VALUE=DATE:20260212
DTSTAMP:20260423T155220
CREATED:20251217T141014Z
LAST-MODIFIED:20251217T141014Z
UID:10001200-1770681600-1770854399@leadershipembodiment.com
SUMMARY:Leadership Embodiment Level 1 with Paul King
DESCRIPTION:Join Paul for a 2-day Leadership Embodiment Level 1 in Wilmslow\, Cheshire\, UK. For a description of a Level 1\, please see our Public Courses page.  \nDates: 10-11 February 2026
URL:https://leadershipembodiment.com/event/leadership-embodiment-level-1-with-paul-king-14/
LOCATION:Wilmslow\, Cheshire\, UK\, United Kingdom
CATEGORIES:Europe
ORGANIZER;CN="Paul King":MAILTO:info@thebeyondpartnership.co.uk
END:VEVENT
BEGIN:VEVENT
DTSTART;VALUE=DATE:20260210
DTEND;VALUE=DATE:20260212
DTSTAMP:20260423T155220
CREATED:20250905T200857Z
LAST-MODIFIED:20251219T150101Z
UID:10001191-1770681600-1770854399@leadershipembodiment.com
SUMMARY:Leadership Embodiment Level 1 with Heinrike Bergmans (in Dutch and English)
DESCRIPTION:Join Heinrike in Zandhoven\, Belgium for a 2-Day Leadership Embodiment Level 1. This course will be taught in Dutch and English. For a description of a Level 1\, please see our Public Courses page. For more information or to register\, please CLICK HERE. \nDates: 10 – 11 February 2026 \n \nEurope
URL:https://leadershipembodiment.com/event/leadership-embodiment-level-1-with-heinrike-bergmans-in-dutch-3/
LOCATION:Zandhoven Venue\, Zandhoven\, Belgium
CATEGORIES:Europe
ORGANIZER;CN="Heinrike Bergmans":MAILTO:heinrike@sarafijn.be
END:VEVENT
BEGIN:VEVENT
DTSTART;VALUE=DATE:20260204
DTEND;VALUE=DATE:20260205
DTSTAMP:20260423T155220
CREATED:20260119T173050Z
LAST-MODIFIED:20260119T173050Z
UID:10001211-1770163200-1770249599@leadershipembodiment.com
SUMMARY:Leadership Embodiment Level 1 with Pierre Goirand (in French)
DESCRIPTION:Join Pierre in Paris for a 2-Day Leadership Embodiment Level 1. This course will be led in French. For a description of a Level 1\, please see our Public Courses page. For more information or to register\, please CLICK HERE. \nDates: 4 February 2026 and 11 March 2026
URL:https://leadershipembodiment.com/event/leadership-embodiment-level-1-with-pierre-goirand-in-french-2/
LOCATION:Paris\, France
CATEGORIES:Europe
ORGANIZER;CN="Pierre Goirand":MAILTO:contact@presenceleadership.net
END:VEVENT
BEGIN:VEVENT
DTSTART;VALUE=DATE:20260130
DTEND;VALUE=DATE:20260201
DTSTAMP:20260423T155220
CREATED:20250930T165429Z
LAST-MODIFIED:20251201T172657Z
UID:10001198-1769731200-1769903999@leadershipembodiment.com
SUMMARY:Leadership Embodiment Level 1 with Ched Lee (in English)
DESCRIPTION:Join Ched for a 2-Day Leadership Embodiment Level 1 in Kuala Lumpur\, Malaysia. This course will be taught in English. For a description of a Level 1\, please see our Public Courses page. \nClick here for more info.  \nDetails are coming soon\, and all are warmly welcome to register with interest to ched@chedlee.com \nDates: 30-31 January 2026 \n \nAsia
URL:https://leadershipembodiment.com/event/leadership-embodiment-level-1-with-ched-lee-in-english-3/
LOCATION:Kuala Lumpur Venue\, Kuala Lumpur\, Malaysia
CATEGORIES:Asia
ORGANIZER;CN="Ched Lee":MAILTO:ched@chedlee.com
END:VEVENT
BEGIN:VEVENT
DTSTART;VALUE=DATE:20260117
DTEND;VALUE=DATE:20260119
DTSTAMP:20260423T155220
CREATED:20251030T181316Z
LAST-MODIFIED:20251030T181316Z
UID:10001199-1768608000-1768780799@leadershipembodiment.com
SUMMARY:Leadership Embodiment Level 1 with Paul King
DESCRIPTION:Join Paul for a 2-day Leadership Embodiment Level 1 in a Bermondsey\, London. For a description of a Level 1\, please see our Public Courses page. \nDates: 17-18 January 2026 \n \nEurope
URL:https://leadershipembodiment.com/event/leadership-embodiment-level-1-with-paul-king-13/
LOCATION:London Venue\, London\, United Kingdom
CATEGORIES:Europe
ORGANIZER;CN="Paul King":MAILTO:info@thebeyondpartnership.co.uk
END:VEVENT
BEGIN:VEVENT
DTSTART;VALUE=DATE:20260114
DTEND;VALUE=DATE:20260116
DTSTAMP:20260423T155220
CREATED:20250915T160049Z
LAST-MODIFIED:20251103T201154Z
UID:10001194-1768348800-1768521599@leadershipembodiment.com
SUMMARY:Leadership Embodiment Level 1 with Anne Berthelin & Valérie Vanruymbeke (in French)
DESCRIPTION:Join Anne and Valérie for a two-day Leadership Embodiment Level 1 in Paris\, France. This course will be taught in French. For a description of a Level 1\, please see our Public Courses page. For more information including costs\, please CLICK HERE. \nDates: 14-15 January 2026 \n \nEurope
URL:https://leadershipembodiment.com/event/leadership-embodiment-level-1-with-anne-berthelin-valerie-vanruymbeke-in-french/
LOCATION:Paris Venue\, Paris\, France
CATEGORIES:Europe
ORGANIZER;CN="Anne Berthelin":MAILTO:anne.berthelin@accenciel.com
END:VEVENT
BEGIN:VEVENT
DTSTART;VALUE=DATE:20251204
DTEND;VALUE=DATE:20251206
DTSTAMP:20260423T155220
CREATED:20250905T164747Z
LAST-MODIFIED:20250905T164747Z
UID:10001190-1764806400-1764979199@leadershipembodiment.com
SUMMARY:Leadership Embodiment Level 1 with Heinrike Bergmans (in Dutch)
DESCRIPTION:Join Heinrike in Zoersel\, Belgium for a 2-Day Leadership Embodiment Level 1. This course will be taught in Dutch. For a description of a Level 1\, please see our Public Courses page. For more information or to register\, please CLICK HERE. \nDates: 4-5 December 2025 \n \nEurope
URL:https://leadershipembodiment.com/event/leadership-embodiment-level-1-with-heinrike-bergmans-in-dutch-2/
LOCATION:Zoersel Venue\, Zoersel\, Belgium
CATEGORIES:Europe
ORGANIZER;CN="Heinrike Bergmans":MAILTO:heinrike@sarafijn.be
END:VEVENT
BEGIN:VEVENT
DTSTART;VALUE=DATE:20251120
DTEND;VALUE=DATE:20251122
DTSTAMP:20260423T155220
CREATED:20241202T164815Z
LAST-MODIFIED:20250129T212850Z
UID:10001134-1763596800-1763769599@leadershipembodiment.com
SUMMARY:Leadership Embodiment Level 1 with Anique van Dijck (in English)
DESCRIPTION:Join Anique for a 2-Day Level 1 in Amsterdam. This course will be led in English. For a description of a Leadership Embodiment Level 1\, please see our Public Courses page. \nFor more information and to register\, please CLICK HERE. \nDates: 20-21 November 2025 \n \n  \nEurope
URL:https://leadershipembodiment.com/event/leadership-embodiment-level-1-with-anouk-brack-in-english-3/
LOCATION:Amsterdam Venue\, Amsterdam\, Netherlands
CATEGORIES:Europe
ORGANIZER;CN="Anique van Dijck":MAILTO:info@aniquevandijck.nl
GEO:52.3702157;4.8951679
END:VEVENT
BEGIN:VEVENT
DTSTART;VALUE=DATE:20251106
DTEND;VALUE=DATE:20251108
DTSTAMP:20260423T155220
CREATED:20250618T163550Z
LAST-MODIFIED:20250618T164507Z
UID:10001174-1762387200-1762559999@leadershipembodiment.com
SUMMARY:Leadership Embodiment Level 1 with Paul King
DESCRIPTION:Join Paul King for a 2-Day Leadership Embodiment Level 1 in Dublin. For a description of a Level 1\, please see our Public Courses page.  \nDates: 6-7 November 2025 \n \nEurope
URL:https://leadershipembodiment.com/event/leadership-embodiment-level-1-with-paul-king-12/
LOCATION:Dun Laoghaire\, Ireland
CATEGORIES:Europe
ORGANIZER;CN="Paul King":MAILTO:info@thebeyondpartnership.co.uk
END:VEVENT
BEGIN:VEVENT
DTSTART;VALUE=DATE:20251030
DTEND;VALUE=DATE:20251101
DTSTAMP:20260423T155220
CREATED:20250903T181155Z
LAST-MODIFIED:20250905T164438Z
UID:10001189-1761782400-1761955199@leadershipembodiment.com
SUMMARY:Leadership Embodiment Level 1 with Heinrike Bergmans (in Dutch)
DESCRIPTION:Join Heinrike in Zoersel\, Belgium for a 2-Day Leadership Embodiment Level 1. This course will be taught in Dutch. For a description of a Level 1\, please see our Public Courses page. For more information or to register\, please CLICK HERE. \nDates: 30 – 31 October 2025 \n \nEurope
URL:https://leadershipembodiment.com/event/leadership-embodiment-level-1-with-heinrike-bergmans-in-dutch/
LOCATION:Zoersel Venue\, Zoersel\, Belgium
CATEGORIES:Europe
ORGANIZER;CN="Heinrike Bergmans":MAILTO:heinrike@sarafijn.be
END:VEVENT
BEGIN:VEVENT
DTSTART;VALUE=DATE:20251016
DTEND;VALUE=DATE:20251018
DTSTAMP:20260423T155220
CREATED:20250114T183909Z
LAST-MODIFIED:20250115T154124Z
UID:10001148-1760572800-1760745599@leadershipembodiment.com
SUMMARY:Leadership Embodiment Level 1 with Fabienne Cuisinier (in German)
DESCRIPTION:Join Fabienne in Edlibach\, Switzerland for a 2-Day Leadership Embodiment Level 1. For a description of a Level 1\, please see our Public Courses page. For more information or to register\, please CLICK HERE. This course will be taught in German. \nDates: 16-17 October 2025 \n \nEurope
URL:https://leadershipembodiment.com/event/leadership-embodiment-level-1-with-fabienne-cuisinier-in-english-2/
LOCATION:Edlibach\, Switzerland Venue\, Edlibach\, Switzerland
CATEGORIES:Europe
ORGANIZER;CN="Fabienne Cuisinier":MAILTO:fabienne@startwhereyouare.net
END:VEVENT
BEGIN:VEVENT
DTSTART;VALUE=DATE:20251009
DTEND;VALUE=DATE:20251011
DTSTAMP:20260423T155220
CREATED:20250618T162943Z
LAST-MODIFIED:20250618T164403Z
UID:10001173-1759968000-1760140799@leadershipembodiment.com
SUMMARY:Leadership Embodiment Level 1 with Paul King (in English)
DESCRIPTION:Join Paul King for a 2-Day Leadership Embodiment Level 1 in Vienna. For a description of a Level 1\, please see our Public Courses page.  \nDates: 9-10 October 2025 \n \nEurope
URL:https://leadershipembodiment.com/event/leadership-embodiment-level-1-with-paul-king-in-english-2/
LOCATION:Vienna Venue\, Vienna\, Austria
CATEGORIES:Europe
ORGANIZER;CN="Paul King":MAILTO:info@thebeyondpartnership.co.uk
GEO:48.2081743;16.3738189
END:VEVENT
BEGIN:VEVENT
DTSTART;VALUE=DATE:20251006
DTEND;VALUE=DATE:20251008
DTSTAMP:20260423T155220
CREATED:20250114T160949Z
LAST-MODIFIED:20250114T161628Z
UID:10001139-1759708800-1759881599@leadershipembodiment.com
SUMMARY:Leadership Embodiment Level 1 with Pierre Goirand (in English)
DESCRIPTION:Join Pierre in Berlin\, Germany for a two-day Leadership Embodiment Level 1 workshop. For a description of a Leadership Embodiment Level 1\, please see our Public Courses page. For more information or to register\, please CLICK HERE. This course is taught in English. \nDates: 6-7 October 2025 \n \nEurope
URL:https://leadershipembodiment.com/event/leadership-embodiment-level-1-with-pierre-goirand-in-english/
LOCATION:Beach Mitte\, Caroline-Michaelis-Str. 8\, D\, Berlin\, Germany
CATEGORIES:Europe
ORGANIZER;CN="Pierre Goirand":MAILTO:contact@presenceleadership.net
END:VEVENT
BEGIN:VEVENT
DTSTART;VALUE=DATE:20250927
DTEND;VALUE=DATE:20250929
DTSTAMP:20260423T155220
CREATED:20250618T162722Z
LAST-MODIFIED:20250618T164322Z
UID:10001172-1758931200-1759103999@leadershipembodiment.com
SUMMARY:Leadership Embodiment Level 1 with Paul King
DESCRIPTION:Join Paul King for a 2-Day Leadership Embodiment Level 1 in London. For a description of a Level 1\, please see our Public Courses page.  \nDates: 27-28 September 2025 \n \nEurope
URL:https://leadershipembodiment.com/event/leadership-embodiment-level-1-with-paul-king-11/
LOCATION:London Venue\, London\, United Kingdom
CATEGORIES:Europe
ORGANIZER;CN="Paul King":MAILTO:info@thebeyondpartnership.co.uk
END:VEVENT
BEGIN:VEVENT
DTSTART;VALUE=DATE:20250913
DTEND;VALUE=DATE:20250915
DTSTAMP:20260423T155220
CREATED:20250421T164507Z
LAST-MODIFIED:20250421T164507Z
UID:10001166-1757721600-1757894399@leadershipembodiment.com
SUMMARY:Leadership Embodiment Level 1 with Paul Ciske
DESCRIPTION:Join Paul Ciske for a 2-Day Leadership Embodiment Level 1 in Oakland\, California. For a description of a Level 1\, please see our Public Courses page.  \nTo register\, contact Paul Ciske: 510-912-5775 or email – paulciske(at)sbcglobal.net\, Include “SEPTEMBER LE Fundamentals” in subject line. \nEarly registration cost: $550 until August 31st ($100 non-refundable* deposit to hold your space)\nLater registration cost: $600 after August 31st.\n[VENMO (Personal payment\, @Paul-Ciske\, paul@paulciske.com\, 510-912-5775);\nPAYPAL: https://www.paypal.com/paypalme/PaulCiske  (USD) FRIENDS & FAMILY only;\nZELLE: paul@paulciske.com\, 510-912-5775\, or mail to : Paul Ciske\, 351 Santa Clara Ave\, Oakland\, CA 94610] \n \nNorth America
URL:https://leadershipembodiment.com/event/leadership-embodiment-level-1-with-paul-ciske-6/
LOCATION:Oakland Venue\, Oakland\, CA\, United States
CATEGORIES:North America
ORGANIZER;CN="Paul Ciske":MAILTO:paul@paulciske.com
END:VEVENT
BEGIN:VEVENT
DTSTART;VALUE=DATE:20250712
DTEND;VALUE=DATE:20250714
DTSTAMP:20260423T155220
CREATED:20250421T163752Z
LAST-MODIFIED:20250421T163838Z
UID:10001165-1752278400-1752451199@leadershipembodiment.com
SUMMARY:Leadership Embodiment Level 1 with Paul Ciske
DESCRIPTION:Join Paul Ciske for a 2-Day Leadership Embodiment Level 1 in Oakland\, California. For a description of a Level 1\, please see our Public Courses page.  \nTo register\, contact Paul Ciske: 510-912-5775 or email – paulciske(at)sbcglobal.net\, Include “JULY LE Fundamentals” in subject line. \nEarly registration cost: $550 until June 28th ($100 non-refundable* deposit to hold your space)\nLater registration cost: $600 after June 28thth.\n[VENMO (Personal payment\, @Paul-Ciske\, paul@paulciske.com\, 510-912-5775);\nPAYPAL: https://www.paypal.com/paypalme/PaulCiske  (USD) FRIENDS & FAMILY only;\nZELLE: paul@paulciske.com\, 510-912-5775\, or mail to : Paul Ciske\, 351 Santa Clara Ave\, Oakland\, CA 94610] \n \nNorth America
URL:https://leadershipembodiment.com/event/leadership-embodiment-level-1-with-paul-ciske-5/
LOCATION:Oakland Venue\, Oakland\, CA\, United States
CATEGORIES:North America
ORGANIZER;CN="Paul Ciske":MAILTO:paul@paulciske.com
END:VEVENT
BEGIN:VEVENT
DTSTART;VALUE=DATE:20250711
DTEND;VALUE=DATE:20250713
DTSTAMP:20260423T155220
CREATED:20250212T184452Z
LAST-MODIFIED:20250212T184452Z
UID:10001152-1752192000-1752364799@leadershipembodiment.com
SUMMARY:Leadership Embodiment Level 1 with Ched Lee (in English)
DESCRIPTION:Join Ched for a 2-Day Leadership Embodiment Level 1 in Malaysia (Kuala Lumpur). See our Public Courses page for a description of a Leadership Embodiment Level 1. This course will be led in English. For more information or to register\, please CLICK HERE.\nDates: 11-12 July 2025  \n \nAsia
URL:https://leadershipembodiment.com/event/leadership-embodiment-level-1-with-ched-lee-in-english-2/
LOCATION:School of Mindfulness and Spinefulness\, Lightgrey Sungai Buloh\, Selangor\, 47000\, Malaysia
CATEGORIES:Asia
ORGANIZER;CN="Ched Lee":MAILTO:ched@chedlee.com
END:VEVENT
BEGIN:VEVENT
DTSTART;VALUE=DATE:20250704
DTEND;VALUE=DATE:20250706
DTSTAMP:20260423T155220
CREATED:20250212T194431Z
LAST-MODIFIED:20250212T194431Z
UID:10001154-1751587200-1751759999@leadershipembodiment.com
SUMMARY:Leadership Embodiment Level 1 with Ched Lee (Mandarin with English auxiliary)
DESCRIPTION:Join Ched for a 2-Day Leadership Embodiment Level 1 in Shenzhen\, China. This course will be led in Mandarin with English auxiliary. For a description of a Level 1\, please see our Public Courses page. For more information and to register\, please CLICK HERE.  \nDates: 4-5 July 2025 \n \nAsia
URL:https://leadershipembodiment.com/event/leadership-embodiment-level-1-with-ched-lee-mandarin-with-english-auxiliary-2/
LOCATION:Shenzhen Venue\, China
CATEGORIES:Asia
ORGANIZER;CN="Ched Lee":MAILTO:ched@chedlee.com
END:VEVENT
BEGIN:VEVENT
DTSTART;VALUE=DATE:20250629
DTEND;VALUE=DATE:20250630
DTSTAMP:20260423T155220
CREATED:20250428T180714Z
LAST-MODIFIED:20250428T181002Z
UID:10001168-1751155200-1751241599@leadershipembodiment.com
SUMMARY:Leadership Embodiment Level 1 with Paul Ciske (New Summer Offering)
DESCRIPTION:Remote In Person Level 1\nJoin Paul for this newly formatted Leadership Embodiment Level 1. For a description of the Leadership Embodiment Level 1 content\, please see our Public Courses page.  \nDates: Four Sundays 4-6:30pm Eastern time (1-3:30pm Pacific time); June 29\, July 6\, July 20\, August 3. Please note that you must attend all four sessions to complete a Leadership Embodiment Level 1. If these dates do not work for you\, please see the Fall offering which begins September 27\, 2025. \nIntroductory price of: $400/person \nREQUIREMENTS:  \n    Must register with an in-person training partner.\n    The partners must meet in a space where there is enough room to take several steps and that has a video camera.\n    The training partners must both be present for all 4 sessions \nEmail subject heading: Remote In Person Summer Training \n \nNorth America
URL:https://leadershipembodiment.com/event/leadership-embodiment-level-1-with-paul-ciske-new-summer-offering/
LOCATION:Remote-Oakland\, United States
CATEGORIES:North America,Online
ORGANIZER;CN="Paul Ciske":MAILTO:paul@paulciske.com
END:VEVENT
BEGIN:VEVENT
DTSTART;VALUE=DATE:20250628
DTEND;VALUE=DATE:20250630
DTSTAMP:20260423T155220
CREATED:20250212T193525Z
LAST-MODIFIED:20250212T193525Z
UID:10001153-1751068800-1751241599@leadershipembodiment.com
SUMMARY:Leadership Embodiment Level 1 with Ched Lee (Mandarin with English auxiliary)
DESCRIPTION:Join Ched for a 2-Day Leadership Embodiment Level 1 in Shanghai. This course will be led in Mandarin with English auxiliary. For a description of a Level 1\, please see our Public Courses page. For more information and to register\, please CLICK HERE.  \nDates: 28-29 June 2025 \n \nAsia
URL:https://leadershipembodiment.com/event/leadership-embodiment-level-1-with-ched-lee-mandarin-with-english-auxiliary/
LOCATION:Shanghai Venue\, Shanghai\, China
CATEGORIES:Asia
ORGANIZER;CN="Ched Lee":MAILTO:ched@chedlee.com
GEO:31.230416;121.473701
END:VEVENT
BEGIN:VEVENT
DTSTART;VALUE=DATE:20250616
DTEND;VALUE=DATE:20250618
DTSTAMP:20260423T155220
CREATED:20241202T163420Z
LAST-MODIFIED:20250129T213611Z
UID:10001132-1750032000-1750204799@leadershipembodiment.com
SUMMARY:Leadership Embodiment Level 1 with Anique van Dijck (in English)
DESCRIPTION:Join Anique for a 2-Day Level 1 in Utrecht\, Netherlands. This course will be led in English. For a description of a Leadership Embodiment Level 1\, please see our Public Courses page.  \nFor more information and to register\, please CLICK HERE.  \nDates: 16-17 June 2025 \n \nEurope
URL:https://leadershipembodiment.com/event/leadership-embodiment-level-1-with-anouk-brack-in-english-2/
LOCATION:Utrecht Venue\, Netherlands
CATEGORIES:Europe
ORGANIZER;CN="Anique van Dijck":MAILTO:info@aniquevandijck.nl
END:VEVENT
BEGIN:VEVENT
DTSTART;VALUE=DATE:20250607
DTEND;VALUE=DATE:20250609
DTSTAMP:20260423T155220
CREATED:20250114T170007Z
LAST-MODIFIED:20250114T170613Z
UID:10001144-1749254400-1749427199@leadershipembodiment.com
SUMMARY:Leadership Embodiment Level 1 with Paul King
DESCRIPTION:Join Paul for a 2-Day Leadership Embodiment Level 1 in London\, England. For a description of a Leadership Embodiment Level 1\, please see our Public Courses page.  \nDates: 7-8 June 2025 \n \nEurope
URL:https://leadershipembodiment.com/event/leadership-embodiment-level-1-with-paul-king-10/
LOCATION:London Venue\, London\, United Kingdom
CATEGORIES:Europe
ORGANIZER;CN="Paul King":MAILTO:info@thebeyondpartnership.co.uk
END:VEVENT
BEGIN:VEVENT
DTSTART;VALUE=DATE:20250602
DTEND;VALUE=DATE:20250604
DTSTAMP:20260423T155220
CREATED:20250114T183026Z
LAST-MODIFIED:20250415T163613Z
UID:10001147-1748822400-1748995199@leadershipembodiment.com
SUMMARY:Leadership Embodiment Level 1 with Fabienne Cuisinier (in German)
DESCRIPTION:Join Fabienne in Zurich\, Switzerland for a 2-Day Leadership Embodiment Level 1. For a description of a Level 1\, please see our Public Courses page. For more information or to register\, please CLICK HERE. This course will be taught in German. \nDates: 2-3 June 2025 \n \nEurope
URL:https://leadershipembodiment.com/event/leadership-embodiment-level-1-with-fabienne-cuisinier-in-english/
LOCATION:Zurich Venue\, Zurich\, Switzerland
CATEGORIES:Europe
ORGANIZER;CN="Fabienne Cuisinier":MAILTO:fabienne@startwhereyouare.net
GEO:47.3768866;8.541694
END:VEVENT
BEGIN:VEVENT
DTSTART;VALUE=DATE:20250513
DTEND;VALUE=DATE:20250514
DTSTAMP:20260423T155220
CREATED:20250320T162333Z
LAST-MODIFIED:20250320T162333Z
UID:10001157-1747094400-1747180799@leadershipembodiment.com
SUMMARY:Leadership Embodiment Level 1 with Pierre Goirand (in French)
DESCRIPTION:Join Pierre in Paris for a 2-Day Leadership Embodiment Level 1 course which will be taught in French. For a description of a Level 1\, please see our Public Courses page. For more information and to register\, please CLICK HERE. \nDates\nDay 1 – May 13\, 2025\nDay 2 – June 13\, 2025 \n \nEurope
URL:https://leadershipembodiment.com/event/leadership-embodiment-level-1-with-pierre-goirand-in-french/
LOCATION:Institut Protestant de Paris\, 83 Boulevard Arago\, Paris\, 75014\, France
CATEGORIES:Europe
ORGANIZER;CN="Pierre Goirand":MAILTO:contact@presenceleadership.net
END:VEVENT
END:VCALENDAR