BEGIN:VCALENDAR
VERSION:2.0
PRODID:-//Leadership Embodiment - ECPv6.15.20//NONSGML v1.0//EN
CALSCALE:GREGORIAN
METHOD:PUBLISH
X-ORIGINAL-URL:https://leadershipembodiment.com
X-WR-CALDESC:Events for Leadership Embodiment
REFRESH-INTERVAL;VALUE=DURATION:PT1H
X-Robots-Tag:noindex
X-PUBLISHED-TTL:PT1H
BEGIN:VTIMEZONE
TZID:America/Los_Angeles
BEGIN:DAYLIGHT
TZOFFSETFROM:-0800
TZOFFSETTO:-0700
TZNAME:PDT
DTSTART:20240310T100000
END:DAYLIGHT
BEGIN:STANDARD
TZOFFSETFROM:-0700
TZOFFSETTO:-0800
TZNAME:PST
DTSTART:20241103T090000
END:STANDARD
BEGIN:DAYLIGHT
TZOFFSETFROM:-0800
TZOFFSETTO:-0700
TZNAME:PDT
DTSTART:20250309T100000
END:DAYLIGHT
BEGIN:STANDARD
TZOFFSETFROM:-0700
TZOFFSETTO:-0800
TZNAME:PST
DTSTART:20251102T090000
END:STANDARD
BEGIN:DAYLIGHT
TZOFFSETFROM:-0800
TZOFFSETTO:-0700
TZNAME:PDT
DTSTART:20260308T100000
END:DAYLIGHT
BEGIN:STANDARD
TZOFFSETFROM:-0700
TZOFFSETTO:-0800
TZNAME:PST
DTSTART:20261101T090000
END:STANDARD
END:VTIMEZONE
BEGIN:VEVENT
DTSTART;VALUE=DATE:20250513
DTEND;VALUE=DATE:20250514
DTSTAMP:20260425T060326
CREATED:20240826T162746Z
LAST-MODIFIED:20240826T164256Z
UID:10001122-1747094400-1747180799@leadershipembodiment.com
SUMMARY:Leadership Embodiment Level 1 with Pierre Goirand (in French)
DESCRIPTION:Join Pierre for a 2-day Leadership Embodiment Level 1 in Paris. This course will be taught in French. For a description of a Level 1\, please see our Public Courses page. For more information or to register\, please CLICK HERE. \nDay 1: 13 May 2025\nDay 2: 13 June 2025 \n \nEurope
URL:https://leadershipembodiment.com/event/leadership-embodiment-level-1-with-pierre-goirand-4/
LOCATION:Institut Protestant de Paris\, 83 Boulevard Arago\, Paris\, 75014\, France
CATEGORIES:Europe
ORGANIZER;CN="Pierre Goirand":MAILTO:contact@presenceleadership.net
END:VEVENT
BEGIN:VEVENT
DTSTART;VALUE=DATE:20250513
DTEND;VALUE=DATE:20250514
DTSTAMP:20260425T060326
CREATED:20250114T161320Z
LAST-MODIFIED:20250114T161320Z
UID:10001140-1747094400-1747180799@leadershipembodiment.com
SUMMARY:Leadership Embodiment Level 1 with Pierre Goirand
DESCRIPTION:Join Pierre in Paris\, France for a 2 day Leadership Embodiment Level 1. For a description of a Level 1\, please see our Public Courses page. For more information or to register\, please CLICK HERE.  \nDay One: 13 May 2025\nDay Two: 13 June 2025 \n \nEurope
URL:https://leadershipembodiment.com/event/leadership-embodiment-level-1-with-pierre-goirand-6/
LOCATION:Institut Protestant de Paris\, 83 Boulevard Arago\, Paris\, 75014\, France
CATEGORIES:Europe
ORGANIZER;CN="Pierre Goirand":MAILTO:contact@presenceleadership.net
END:VEVENT
BEGIN:VEVENT
DTSTART;VALUE=DATE:20250513
DTEND;VALUE=DATE:20250514
DTSTAMP:20260425T060326
CREATED:20250320T162333Z
LAST-MODIFIED:20250320T162333Z
UID:10001157-1747094400-1747180799@leadershipembodiment.com
SUMMARY:Leadership Embodiment Level 1 with Pierre Goirand (in French)
DESCRIPTION:Join Pierre in Paris for a 2-Day Leadership Embodiment Level 1 course which will be taught in French. For a description of a Level 1\, please see our Public Courses page. For more information and to register\, please CLICK HERE. \nDates\nDay 1 – May 13\, 2025\nDay 2 – June 13\, 2025 \n \nEurope
URL:https://leadershipembodiment.com/event/leadership-embodiment-level-1-with-pierre-goirand-in-french/
LOCATION:Institut Protestant de Paris\, 83 Boulevard Arago\, Paris\, 75014\, France
CATEGORIES:Europe
ORGANIZER;CN="Pierre Goirand":MAILTO:contact@presenceleadership.net
END:VEVENT
END:VCALENDAR