BEGIN:VCALENDAR
VERSION:2.0
PRODID:-//Leadership Embodiment - ECPv6.15.20//NONSGML v1.0//EN
CALSCALE:GREGORIAN
METHOD:PUBLISH
X-ORIGINAL-URL:https://leadershipembodiment.com
X-WR-CALDESC:Events for Leadership Embodiment
REFRESH-INTERVAL;VALUE=DURATION:PT1H
X-Robots-Tag:noindex
X-PUBLISHED-TTL:PT1H
BEGIN:VTIMEZONE
TZID:UTC
BEGIN:STANDARD
TZOFFSETFROM:+0000
TZOFFSETTO:+0000
TZNAME:UTC
DTSTART:20210101T000000
END:STANDARD
END:VTIMEZONE
BEGIN:VEVENT
DTSTART;TZID=UTC:20221025T093000
DTEND;TZID=UTC:20221025T170000
DTSTAMP:20260424T050203
CREATED:20220913T143706Z
LAST-MODIFIED:20220913T143706Z
UID:10000805-1666690200-1666717200@leadershipembodiment.com
SUMMARY:Leadership Embodiment - Back in Touch
DESCRIPTION:Join Amanda Ridings in Fife\, Scotland for a Leadership Embodiment practice day.  This is a workshop for those who already have some LE experience to reconnect with the practices. For more information please contact: Amanda@originate.org.uk \nDate: 25 October 2022\nTime: 9:30AM – 5:00PM
URL:https://leadershipembodiment.com/event/leadership-embodiment-back-in-touch/
LOCATION:Falkland\, Fife Venue\, Fife\, Scotland
CATEGORIES:Europe
ORGANIZER;CN="Amanda Ridings":MAILTO:Amanda@originate.org.uk
END:VEVENT
END:VCALENDAR