BEGIN:VCALENDAR
VERSION:2.0
PRODID:-//Leadership Embodiment - ECPv6.15.20//NONSGML v1.0//EN
CALSCALE:GREGORIAN
METHOD:PUBLISH
X-WR-CALNAME:Leadership Embodiment
X-ORIGINAL-URL:https://leadershipembodiment.com
X-WR-CALDESC:Events for Leadership Embodiment
REFRESH-INTERVAL;VALUE=DURATION:PT1H
X-Robots-Tag:noindex
X-PUBLISHED-TTL:PT1H
BEGIN:VTIMEZONE
TZID:America/Los_Angeles
BEGIN:DAYLIGHT
TZOFFSETFROM:-0800
TZOFFSETTO:-0700
TZNAME:PDT
DTSTART:20160313T100000
END:DAYLIGHT
BEGIN:STANDARD
TZOFFSETFROM:-0700
TZOFFSETTO:-0800
TZNAME:PST
DTSTART:20161106T090000
END:STANDARD
BEGIN:DAYLIGHT
TZOFFSETFROM:-0800
TZOFFSETTO:-0700
TZNAME:PDT
DTSTART:20170312T100000
END:DAYLIGHT
BEGIN:STANDARD
TZOFFSETFROM:-0700
TZOFFSETTO:-0800
TZNAME:PST
DTSTART:20171105T090000
END:STANDARD
BEGIN:DAYLIGHT
TZOFFSETFROM:-0800
TZOFFSETTO:-0700
TZNAME:PDT
DTSTART:20180311T100000
END:DAYLIGHT
BEGIN:STANDARD
TZOFFSETFROM:-0700
TZOFFSETTO:-0800
TZNAME:PST
DTSTART:20181104T090000
END:STANDARD
BEGIN:DAYLIGHT
TZOFFSETFROM:-0800
TZOFFSETTO:-0700
TZNAME:PDT
DTSTART:20190310T100000
END:DAYLIGHT
BEGIN:STANDARD
TZOFFSETFROM:-0700
TZOFFSETTO:-0800
TZNAME:PST
DTSTART:20191103T090000
END:STANDARD
BEGIN:DAYLIGHT
TZOFFSETFROM:-0800
TZOFFSETTO:-0700
TZNAME:PDT
DTSTART:20200308T100000
END:DAYLIGHT
BEGIN:STANDARD
TZOFFSETFROM:-0700
TZOFFSETTO:-0800
TZNAME:PST
DTSTART:20201101T090000
END:STANDARD
BEGIN:DAYLIGHT
TZOFFSETFROM:-0800
TZOFFSETTO:-0700
TZNAME:PDT
DTSTART:20210314T100000
END:DAYLIGHT
BEGIN:STANDARD
TZOFFSETFROM:-0700
TZOFFSETTO:-0800
TZNAME:PST
DTSTART:20211107T090000
END:STANDARD
END:VTIMEZONE
BEGIN:VEVENT
DTSTART;VALUE=DATE:20200501
DTEND;VALUE=DATE:20201001
DTSTAMP:20260424T204546
CREATED:20191009T165134Z
LAST-MODIFIED:20191009T165134Z
UID:10000345-1588291200-1601510399@leadershipembodiment.com
SUMMARY:Level 2 with RJ Jennings and Miryam Chavarría Romero (Dates TBD)
DESCRIPTION:If you are interested in attending a Level 2 in Seattle\, please contact Miryam at miryam (at) phoenixleadershipcoaching (dot) com to express your interest. There is a rolling registration for this event. As soon as 8 participants have been confirmed\, we will set the schedule.  We are looking forward to diving deeper into the Leadership Embodiment principles and tools.\nYou must have completed a Level 1 before enrolling in a Level 2. For a description of a Level 2\, please see our courses page. \nDates: TBD (2 Day Course)\nCost: $655
URL:https://leadershipembodiment.com/event/level-2-with-rj-jennings-and-miryam-chavarria-romero-dates-tbd/
LOCATION:Seattle Venue\, Seattle\, WA\, United States
CATEGORIES:North America
ATTACH;FMTTYPE=:
ORGANIZER;CN="Miryam Chavarria Romero":MAILTO:miryam@phoenixleadershipcoaching.com
GEO:47.6062095;-122.3320708
END:VEVENT
BEGIN:VEVENT
DTSTART;VALUE=DATE:20190404
DTEND;VALUE=DATE:20190406
DTSTAMP:20260424T204546
CREATED:20190206T182315Z
LAST-MODIFIED:20190206T182315Z
UID:10000291-1554336000-1554508799@leadershipembodiment.com
SUMMARY:Level 1 with Miryam Chavarria Romero
DESCRIPTION:Join Miryam for a 2-Day Level 1 in Seattle\, Washington. For a description of a Level 1\, go to our courses page.  For more information including cost and registration\, please see this flyer.  \nDates: 4-5 April 2019
URL:https://leadershipembodiment.com/event/level-1-with-miryam-chavarria-romero-2/
LOCATION:Aikido Seattle\, 1004 Turner Way E.\, Seattle\, WA\, 98112\, United States
CATEGORIES:North America
ATTACH;FMTTYPE=:
ORGANIZER;CN="Miryam Chavarria Romero":MAILTO:miryam@phoenixleadershipcoaching.com
GEO:47.6276129;-122.3019779
X-APPLE-STRUCTURED-LOCATION;VALUE=URI;X-ADDRESS=Aikido Seattle 1004 Turner Way E. Seattle WA 98112 United States;X-APPLE-RADIUS=500;X-TITLE=1004 Turner Way E.:geo:-122.3019779,47.6276129
END:VEVENT
BEGIN:VEVENT
DTSTART;TZID=America/Los_Angeles:20190314T121500
DTEND;TZID=America/Los_Angeles:20190314T141500
DTSTAMP:20260424T204546
CREATED:20190206T181552Z
LAST-MODIFIED:20190206T181552Z
UID:10000747-1552565700-1552572900@leadershipembodiment.com
SUMMARY:Introduction to Leadership Embodiment with Miryam Chavarria Romero
DESCRIPTION:Join Miryam for a 2-hour introduction to Leadership Embodiment at the Washington State Charter Chapter of ICF at their downtown Seattle Satellite location.  For more information\, please click here.   \nDate: March 14\, 2019\nTime: 12:15pm – 2:15pm
URL:https://leadershipembodiment.com/event/introduction-to-leadership-embodiment-with-miryam-chavarria-romero/
LOCATION:Queen Anne Public Library\, 400 West Garfield St.\, Seattle\, WA\, 98119\, United States
CATEGORIES:North America
ATTACH;FMTTYPE=:
ORGANIZER;CN="Miryam Chavarria Romero":MAILTO:miryam@phoenixleadershipcoaching.com
END:VEVENT
BEGIN:VEVENT
DTSTART;VALUE=DATE:20181109
DTEND;VALUE=DATE:20181111
DTSTAMP:20260424T204546
CREATED:20180511T215049Z
LAST-MODIFIED:20180511T215049Z
UID:10000712-1541721600-1541894399@leadershipembodiment.com
SUMMARY:Level 1 with Miryam Chavarría Romero
DESCRIPTION:Join Miryam Chavarría Romero for a 2-Day Level 1 in Seattle\, Washington. For a description of a Level 1\, please see our courses page.  \nDates: 9-10 November 2018
URL:https://leadershipembodiment.com/event/level-1-with-miryam-chavarria-romero/
LOCATION:Aikido Seattle\, 1004 Turner Way E.\, Seattle\, WA\, 98112\, United States
CATEGORIES:North America
ATTACH;FMTTYPE=:
ORGANIZER;CN="Miryam Chavarria Romero":MAILTO:miryam@phoenixleadershipcoaching.com
GEO:47.6276129;-122.3019779
X-APPLE-STRUCTURED-LOCATION;VALUE=URI;X-ADDRESS=Aikido Seattle 1004 Turner Way E. Seattle WA 98112 United States;X-APPLE-RADIUS=500;X-TITLE=1004 Turner Way E.:geo:-122.3019779,47.6276129
END:VEVENT
BEGIN:VEVENT
DTSTART;VALUE=DATE:20181004
DTEND;VALUE=DATE:20181006
DTSTAMP:20260424T204546
CREATED:20180511T214615Z
LAST-MODIFIED:20180511T214615Z
UID:10000711-1538611200-1538783999@leadershipembodiment.com
SUMMARY:Level 2 with RJ Jennings
DESCRIPTION:Join RJ Jennings\, assisted by Miryam Chavarria Romero\, for a 2-Day Level 2 in Seattle\, Washington. You must have completed a Level 1 before attending a Level 2. For Level 1 and Level 2 descriptions\, see our courses page.  \nDates: 4-5 October 2018
URL:https://leadershipembodiment.com/event/level-2-with-rj-jennings-2/
LOCATION:Aikido Seattle\, 1004 Turner Way E.\, Seattle\, WA\, 98112\, United States
CATEGORIES:North America
ATTACH;FMTTYPE=:
ORGANIZER;CN="Miryam Chavarria Romero":MAILTO:miryam@phoenixleadershipcoaching.com
GEO:47.6276129;-122.3019779
X-APPLE-STRUCTURED-LOCATION;VALUE=URI;X-ADDRESS=Aikido Seattle 1004 Turner Way E. Seattle WA 98112 United States;X-APPLE-RADIUS=500;X-TITLE=1004 Turner Way E.:geo:-122.3019779,47.6276129
END:VEVENT
BEGIN:VEVENT
DTSTART;TZID=America/Los_Angeles:20180920T183000
DTEND;TZID=America/Los_Angeles:20180920T203000
DTSTAMP:20260424T204546
CREATED:20180808T160603Z
LAST-MODIFIED:20180808T160603Z
UID:10000724-1537468200-1537475400@leadershipembodiment.com
SUMMARY:Introduction to Leadership Embodiment with Miryam Chavarría Romero\, PCC
DESCRIPTION:Join Miryam for a 2-Hour Introduction to Leadership Embodiment Workshop in Seattle\, Washington.  For more information and to register\, please click here.   \nDate: September 20\, 2018\nTime: 6:30 pm
URL:https://leadershipembodiment.com/event/introduction-to-leadership-embodiment-with-miryam-chavarria-romero-pcc/
LOCATION:Phinney Neighborhood Association\, 6532 Phinney Avenue North Room 3\, Seattle\, WA\, 98103\, United States
CATEGORIES:North America
ATTACH;FMTTYPE=:
ORGANIZER;CN="Miryam Chavarria Romero":MAILTO:miryam@phoenixleadershipcoaching.com
GEO:47.6771082;-122.3539876
X-APPLE-STRUCTURED-LOCATION;VALUE=URI;X-ADDRESS=Phinney Neighborhood Association 6532 Phinney Avenue North Room 3 Seattle WA 98103 United States;X-APPLE-RADIUS=500;X-TITLE=6532 Phinney Avenue North Room 3:geo:-122.3539876,47.6771082
END:VEVENT
BEGIN:VEVENT
DTSTART;VALUE=DATE:20180621
DTEND;VALUE=DATE:20180623
DTSTAMP:20260424T204546
CREATED:20180427T204453Z
LAST-MODIFIED:20180427T204453Z
UID:10000701-1529539200-1529711999@leadershipembodiment.com
SUMMARY:Level 1 with RJ Jennings & Miryam Chavarria Romero
DESCRIPTION:Join RJ Jennings and Miryam Chavarria Romero for a 2-day Level 1 in Seattle\, Washington. For a description of a Level 1\, please see our courses page.
URL:https://leadershipembodiment.com/event/level-1-with-rj-jennings-miryam-chavarria-romero-3/
LOCATION:Seattle Venue\, Seattle\, WA\, United States
CATEGORIES:North America
ATTACH;FMTTYPE=:
ORGANIZER;CN="Miryam Chavarria Romero":MAILTO:miryam@phoenixleadershipcoaching.com
GEO:47.6062095;-122.3320708
END:VEVENT
BEGIN:VEVENT
DTSTART;VALUE=DATE:20171116
DTEND;VALUE=DATE:20171118
DTSTAMP:20260424T204546
CREATED:20170710T213534Z
LAST-MODIFIED:20170710T213534Z
UID:10000659-1510790400-1510963199@leadershipembodiment.com
SUMMARY:Level 1 with RJ Jennings & Miryam Chavarria Romero
DESCRIPTION:Join RJ Jennings with Assistant Miryam Chavarria Romero for a 2-Day Level 1 in Seattle\, Washington. For a description of a Level 1\, please see our courses page. Venue location and more information to come.  \nDates: 16-17 November 2017
URL:https://leadershipembodiment.com/event/level-1-with-rj-jennings-miryam-chavarria-romero/
LOCATION:Seattle Venue\, Seattle\, WA\, United States
CATEGORIES:North America
ATTACH;FMTTYPE=:
ORGANIZER;CN="RJ":MAILTO:rj@soulfulview.com
GEO:47.6062095;-122.3320708
END:VEVENT
END:VCALENDAR