BEGIN:VCALENDAR
VERSION:2.0
PRODID:-//Leadership Embodiment - ECPv6.15.20//NONSGML v1.0//EN
CALSCALE:GREGORIAN
METHOD:PUBLISH
X-ORIGINAL-URL:https://leadershipembodiment.com
X-WR-CALDESC:Events for Leadership Embodiment
REFRESH-INTERVAL;VALUE=DURATION:PT1H
X-Robots-Tag:noindex
X-PUBLISHED-TTL:PT1H
BEGIN:VTIMEZONE
TZID:America/Los_Angeles
BEGIN:DAYLIGHT
TZOFFSETFROM:-0800
TZOFFSETTO:-0700
TZNAME:PDT
DTSTART:20250309T100000
END:DAYLIGHT
BEGIN:STANDARD
TZOFFSETFROM:-0700
TZOFFSETTO:-0800
TZNAME:PST
DTSTART:20251102T090000
END:STANDARD
BEGIN:DAYLIGHT
TZOFFSETFROM:-0800
TZOFFSETTO:-0700
TZNAME:PDT
DTSTART:20260308T100000
END:DAYLIGHT
BEGIN:STANDARD
TZOFFSETFROM:-0700
TZOFFSETTO:-0800
TZNAME:PST
DTSTART:20261101T090000
END:STANDARD
BEGIN:DAYLIGHT
TZOFFSETFROM:-0800
TZOFFSETTO:-0700
TZNAME:PDT
DTSTART:20270314T100000
END:DAYLIGHT
BEGIN:STANDARD
TZOFFSETFROM:-0700
TZOFFSETTO:-0800
TZNAME:PST
DTSTART:20271107T090000
END:STANDARD
END:VTIMEZONE
BEGIN:VEVENT
DTSTART;VALUE=DATE:20260430
DTEND;VALUE=DATE:20260501
DTSTAMP:20260423T124159
CREATED:20260407T171041Z
LAST-MODIFIED:20260422T155845Z
UID:10001225-1777507200-1777593599@leadershipembodiment.com
SUMMARY:Webinar: Lead Under Pressure: Embodied Presence for Leaders and Teams
DESCRIPTION:Together with embodied leadership researcher Christine Tello-Lorenz and leadership trainer Anouk Brack\, you’ll explore a Leadership Embodiment self-assessment and experience a concrete practice you can immediately apply in challenging situations. This 1-hour webinar gives you a practical introduction to embodied leadership: a body-based approach that helps you recognize\, in real time\, when you’re pulled into survival mode and shows you how to return to a more grounded\, resourced state. This webinar will be led in English. \nTo register\, please CLICK HERE.  \nDate: 30 April 2026
URL:https://leadershipembodiment.com/event/webinar-lead-under-pressure-embodied-presence-for-leaders-and-teams/
LOCATION:Online
CATEGORIES:Online
ORGANIZER;CN="Anouk Brack":MAILTO:Anouk.Brack@anouka.nl
END:VEVENT
END:VCALENDAR