BEGIN:VCALENDAR
VERSION:2.0
PRODID:-//Leadership Embodiment - ECPv6.15.20//NONSGML v1.0//EN
CALSCALE:GREGORIAN
METHOD:PUBLISH
X-WR-CALNAME:Leadership Embodiment
X-ORIGINAL-URL:https://leadershipembodiment.com
X-WR-CALDESC:Events for Leadership Embodiment
REFRESH-INTERVAL;VALUE=DURATION:PT1H
X-Robots-Tag:noindex
X-PUBLISHED-TTL:PT1H
BEGIN:VTIMEZONE
TZID:America/Los_Angeles
BEGIN:DAYLIGHT
TZOFFSETFROM:-0800
TZOFFSETTO:-0700
TZNAME:PDT
DTSTART:20220313T100000
END:DAYLIGHT
BEGIN:STANDARD
TZOFFSETFROM:-0700
TZOFFSETTO:-0800
TZNAME:PST
DTSTART:20221106T090000
END:STANDARD
BEGIN:DAYLIGHT
TZOFFSETFROM:-0800
TZOFFSETTO:-0700
TZNAME:PDT
DTSTART:20230312T100000
END:DAYLIGHT
BEGIN:STANDARD
TZOFFSETFROM:-0700
TZOFFSETTO:-0800
TZNAME:PST
DTSTART:20231105T090000
END:STANDARD
BEGIN:DAYLIGHT
TZOFFSETFROM:-0800
TZOFFSETTO:-0700
TZNAME:PDT
DTSTART:20240310T100000
END:DAYLIGHT
BEGIN:STANDARD
TZOFFSETFROM:-0700
TZOFFSETTO:-0800
TZNAME:PST
DTSTART:20241103T090000
END:STANDARD
END:VTIMEZONE
BEGIN:VEVENT
DTSTART;VALUE=DATE:20230522
DTEND;VALUE=DATE:20230526
DTSTAMP:20260424T175244
CREATED:20220705T175244Z
LAST-MODIFIED:20230331T142923Z
UID:10000798-1684713600-1685059199@leadershipembodiment.com
SUMMARY:Whidbey Island Retreat with Tiphani Palmer
DESCRIPTION:Join Tiphani Palmer for this very popular retreat in Washington State on Whidbey Island. This retreat is being held in honor of Wendy Palmer. For a description of a Leadership Embodiment retreat\, please see our Public Courses page. Typically\, we require completion of Leadership Embodiment Level One and Level Two courses previous to attending a retreat. However\, for this special occasion\, we are open to considering participants who have only completed a Level 1. The cost is $1\,600 and includes lodging and meals. \nDates: 22 – 25 May 2023 \nPlease contact Lynda at office@leadershipembodiment.com to register. \n \nNorth America
URL:https://leadershipembodiment.com/event/whidbey-island-retreat-with-wendy-palmer/
LOCATION:Whidbey Institute\, Whidbey Island\, WA\, United States
CATEGORIES:North America
ORGANIZER;CN="LE Office":MAILTO:office@leadershipembodiment.com
GEO:47.9982761;-122.4395026
END:VEVENT
END:VCALENDAR