BEGIN:VCALENDAR
VERSION:2.0
PRODID:-//Leadership Embodiment - ECPv6.15.20//NONSGML v1.0//EN
CALSCALE:GREGORIAN
METHOD:PUBLISH
X-WR-CALNAME:Leadership Embodiment
X-ORIGINAL-URL:https://leadershipembodiment.com
X-WR-CALDESC:Events for Leadership Embodiment
REFRESH-INTERVAL;VALUE=DURATION:PT1H
X-Robots-Tag:noindex
X-PUBLISHED-TTL:PT1H
BEGIN:VTIMEZONE
TZID:America/Los_Angeles
BEGIN:DAYLIGHT
TZOFFSETFROM:-0800
TZOFFSETTO:-0700
TZNAME:PDT
DTSTART:20210314T100000
END:DAYLIGHT
BEGIN:STANDARD
TZOFFSETFROM:-0700
TZOFFSETTO:-0800
TZNAME:PST
DTSTART:20211107T090000
END:STANDARD
BEGIN:DAYLIGHT
TZOFFSETFROM:-0800
TZOFFSETTO:-0700
TZNAME:PDT
DTSTART:20220313T100000
END:DAYLIGHT
BEGIN:STANDARD
TZOFFSETFROM:-0700
TZOFFSETTO:-0800
TZNAME:PST
DTSTART:20221106T090000
END:STANDARD
BEGIN:DAYLIGHT
TZOFFSETFROM:-0800
TZOFFSETTO:-0700
TZNAME:PDT
DTSTART:20230312T100000
END:DAYLIGHT
BEGIN:STANDARD
TZOFFSETFROM:-0700
TZOFFSETTO:-0800
TZNAME:PST
DTSTART:20231105T090000
END:STANDARD
BEGIN:DAYLIGHT
TZOFFSETFROM:-0800
TZOFFSETTO:-0700
TZNAME:PDT
DTSTART:20240310T100000
END:DAYLIGHT
BEGIN:STANDARD
TZOFFSETFROM:-0700
TZOFFSETTO:-0800
TZNAME:PST
DTSTART:20241103T090000
END:STANDARD
END:VTIMEZONE
BEGIN:VTIMEZONE
TZID:UTC
BEGIN:STANDARD
TZOFFSETFROM:+0000
TZOFFSETTO:+0000
TZNAME:UTC
DTSTART:20130101T000000
END:STANDARD
END:VTIMEZONE
BEGIN:VEVENT
DTSTART;VALUE=DATE:20230206
DTEND;VALUE=DATE:20230208
DTSTAMP:20260425T091256
CREATED:20230104T183855Z
LAST-MODIFIED:20230125T190813Z
UID:10000978-1675641600-1675814399@leadershipembodiment.com
SUMMARY:LE Keeping in Touch with Amanda Ridings
DESCRIPTION:Join Amanda for a Leadership Embodiment Community Practice Day. These days offer a regular opportunity for those with some LE experience to reconnect with the practices. For more information\, practitioners can contact: Amanda@originate.org.uk. \nDates and places:\nMonday 6 February 2023\, Perth\, Scotland\, 9.30am to 5pm\nTuesday 6 June 2023\, location to be confirmed\, Scotland\, 9.30am to 5pm\nWednesday 4 October 2023\, location to be confirmed\, Scotland\, 9.30am to 5pm \nEurope
URL:https://leadershipembodiment.com/event/le-keeping-in-touch-with-amanda-ridings/2023-02-06/
LOCATION:Scotland Venue\, Scotland\, United Kingdom
CATEGORIES:Europe
ORGANIZER;CN="Amanda Ridings":MAILTO:Amanda@originate.org.uk
END:VEVENT
BEGIN:VEVENT
DTSTART;VALUE=DATE:20230124
DTEND;VALUE=DATE:20230126
DTSTAMP:20260425T091256
CREATED:20220913T144950Z
LAST-MODIFIED:20230120T155320Z
UID:10000807-1674518400-1674691199@leadershipembodiment.com
SUMMARY:Level 1 with Amanda Ridings
DESCRIPTION:Join Amanda for a 2-Day Level 1 in Edinburgh\, Scotland. For a description of a Level 1\, please see our courses page. \nFor more information: https://originate.org.uk/material-world/events/ \nDates: 24-25 January 2023
URL:https://leadershipembodiment.com/event/level-1-with-amanda-ridings-2/
LOCATION:Central Edinburgh\, Edinburgh\, United Kingdom
CATEGORIES:Europe
ORGANIZER;CN="Amanda Ridings":MAILTO:Amanda@originate.org.uk
GEO:55.953252;-3.188267
END:VEVENT
BEGIN:VEVENT
DTSTART;VALUE=DATE:20221111
DTEND;VALUE=DATE:20221114
DTSTAMP:20260425T091256
CREATED:20220913T144440Z
LAST-MODIFIED:20220913T144440Z
UID:10000806-1668124800-1668383999@leadershipembodiment.com
SUMMARY:Level 1 with Amanda Ridings
DESCRIPTION:Join Amanda for a Level 1 at Samye Ling\, Scotland. For a description of a Level 1\, please see our courses page.  \nFor more information: https://www.samyeling.org/courses/other/view/leadership-embodiment-level-1 \nDates: 11 November to 13 November 2022\nTimes: 7:00 PM 11 November to 4:00pm 13 November\, 2022
URL:https://leadershipembodiment.com/event/level-1-with-amanda-ridings/
LOCATION:Samye Ling\, Scotland\, United Kingdom
CATEGORIES:Europe
ORGANIZER;CN="Amanda Ridings":MAILTO:Amanda@originate.org.uk
END:VEVENT
BEGIN:VEVENT
DTSTART;TZID=UTC:20221025T093000
DTEND;TZID=UTC:20221025T170000
DTSTAMP:20260425T091256
CREATED:20220913T143706Z
LAST-MODIFIED:20220913T143706Z
UID:10000805-1666690200-1666717200@leadershipembodiment.com
SUMMARY:Leadership Embodiment - Back in Touch
DESCRIPTION:Join Amanda Ridings in Fife\, Scotland for a Leadership Embodiment practice day.  This is a workshop for those who already have some LE experience to reconnect with the practices. For more information please contact: Amanda@originate.org.uk \nDate: 25 October 2022\nTime: 9:30AM – 5:00PM
URL:https://leadershipembodiment.com/event/leadership-embodiment-back-in-touch/
LOCATION:Falkland\, Fife Venue\, Fife\, Scotland
CATEGORIES:Europe
ORGANIZER;CN="Amanda Ridings":MAILTO:Amanda@originate.org.uk
END:VEVENT
BEGIN:VEVENT
DTSTART;VALUE=DATE:20150928
DTEND;VALUE=DATE:20150929
DTSTAMP:20260425T091256
CREATED:20150519T214252Z
LAST-MODIFIED:20150519T214252Z
UID:10000924-1443398400-1443484799@leadershipembodiment.com
SUMMARY:Level 1 with Amanda Ridings - 3 Day Course
DESCRIPTION:Join Amanda Ridings for a Fundamentals Level 1 in central Edinburgh.   \nAll sessions in central Edinburgh from 9.30am to 5.00pm\, and the opportunity to embed practice between days. For more information\, please go to Amanda’s website. \nThe course takes place over 3 separate dates:\nMonday\, 28 September 2015 – Collecting self\, leading self\nMonday\, 26 October 2015 – Including others\, leading in relationship\nMonday\, 23 November 2015 – The bigger picture\, leading with perspective
URL:https://leadershipembodiment.com/event/level-1-with-amanda-ridings-3-day-course/2015-09-28/
LOCATION:Central Edinburgh\, Edinburgh\, United Kingdom
CATEGORIES:Europe
ATTACH;FMTTYPE=:
ORGANIZER;CN="Amanda Ridings":MAILTO:Amanda@originate.org.uk
GEO:55.953252;-3.188267
END:VEVENT
BEGIN:VEVENT
DTSTART;TZID=UTC:20150420T093000
DTEND;TZID=UTC:20150420T170000
DTSTAMP:20260425T091256
CREATED:20150120T232622Z
LAST-MODIFIED:20150120T232622Z
UID:10000898-1429522200-1429549200@leadershipembodiment.com
SUMMARY:Level 1 with Amanda Ridings in Edinburgh (Day 3 of 3)
DESCRIPTION:Join Amanda Ridings for a 3-day Level 1 in Edinburgh\, Scotland. (See a description of Level 1 on our courses page.) The sessions take place from 9:30am – 5:00pm in central Edinburgh on the following dates:\n23 February 2015 – Collecting self\, leading self\n23 March 2015 – Including others\, leading in relationship\n20 April 2015 – The bigger picture\, leading with perspective\nThe course comes with the opportunity to embed practice between dates. Please note that completion of a Level 1 is required before attending a Leadership Embodiment Intensive Retreat.
URL:https://leadershipembodiment.com/event/level-1-with-amanda-ridings-in-edinburgh-day-3-of-3/
CATEGORIES:Europe
ORGANIZER;CN="Amanda Ridings":MAILTO:Amanda@originate.org.uk
END:VEVENT
BEGIN:VEVENT
DTSTART;TZID=UTC:20150323T093000
DTEND;TZID=UTC:20150323T170000
DTSTAMP:20260425T091256
CREATED:20150120T232424Z
LAST-MODIFIED:20150120T232424Z
UID:10000897-1427103000-1427130000@leadershipembodiment.com
SUMMARY:Level 1 with Amanda Ridings in Edinburgh (Day 2 of 3)
DESCRIPTION:Join Amanda Ridings for a 3-day Level 1 in Edinburgh\, Scotland. (See a description of Level 1 on our courses page.) The sessions take place from 9:30am – 5:00pm in central Edinburgh on the following dates:\n23 February 2015 – Collecting self\, leading self\n23 March 2015 – Including others\, leading in relationship\n20 April 2015 – The bigger picture\, leading with perspective\nThe course comes with the opportunity to embed practice between dates. Please note that completion of a Level 1 is required before attending a Leadership Embodiment Intensive Retreat.
URL:https://leadershipembodiment.com/event/level-1-with-amanda-ridings-in-edinburgh-day-2-of-3/
CATEGORIES:Europe
ORGANIZER;CN="Amanda Ridings":MAILTO:Amanda@originate.org.uk
END:VEVENT
BEGIN:VEVENT
DTSTART;TZID=UTC:20150223T093000
DTEND;TZID=UTC:20150223T170000
DTSTAMP:20260425T091256
CREATED:20150120T232149Z
LAST-MODIFIED:20150120T232149Z
UID:10000896-1424683800-1424710800@leadershipembodiment.com
SUMMARY:Level 1 with Amanda Ridings in Edinburgh (Day 1 of 3)
DESCRIPTION:Join Amanda Ridings for a 3-day Level 1 in Edinburgh\, Scotland. (See a description of Level 1 on our courses page.) The sessions take place from 9:30am – 5:00pm in central Edinburgh on the following dates:\n23 February 2015 – Collecting self\, leading self\n23 March 2015 – Including others\, leading in relationship\n20 April 2015 – The bigger picture\, leading with perspective\nThe course comes with the opportunity to embed practice between dates. Please note that completion of a Level 1 is required before attending a Leadership Embodiment Intensive Retreat.
URL:https://leadershipembodiment.com/event/level-1-with-amanda-ridings-in-edinburgh-day-1-of-3/
CATEGORIES:Europe
ORGANIZER;CN="Amanda Ridings":MAILTO:Amanda@originate.org.uk
END:VEVENT
BEGIN:VEVENT
DTSTART;TZID=UTC:20141124T090000
DTEND;TZID=UTC:20141124T170000
DTSTAMP:20260425T091256
CREATED:20140626T231927Z
LAST-MODIFIED:20140626T231927Z
UID:10000829-1416819600-1416848400@leadershipembodiment.com
SUMMARY:Level 1 with Amanda Ridings (Day 3 of 3)
DESCRIPTION:Leadership Embodiment Level 1 (Day 3 of 3)\nBecoming familiar with your physiological and energetic responses to stressors and exploring how to recover poise with greater resources. \nMonday\, 29 September 2014 – Collecting self\, leading self\nMonday\, 27 October 2014 – Including others\, leading in relationship\nMonday\, 24 November 2014 – The bigger picture\, leading with perspective \nAll sessions in central Fife from 9.00am to 5.00pm. Contact Amanda to register your interest and request a booking form.
URL:https://leadershipembodiment.com/event/level-1-with-amanda-ridings-day-3-of-3/
LOCATION:Unnamed Venue\, Fife\, Scotland\, United Kingdom
ORGANIZER;CN="Amanda Ridings":MAILTO:Amanda@originate.org.uk
GEO:56.2082078;-3.1495175
END:VEVENT
BEGIN:VEVENT
DTSTART;TZID=UTC:20141027T090000
DTEND;TZID=UTC:20141027T170000
DTSTAMP:20260425T091256
CREATED:20140703T215241Z
LAST-MODIFIED:20140703T215241Z
UID:10000849-1414400400-1414429200@leadershipembodiment.com
SUMMARY:Level 1 with Amanda Ridings (Day 2 of 3)
DESCRIPTION:Leadership Embodiment Level 1 (Day 2 of 3)\nBecoming familiar with your physiological and energetic responses to stressors and exploring how to recover poise with greater resources. \nMonday\, 29 September 2014 – Collecting self\, leading self\nMonday\, 27 October 2014 – Including others\, leading in relationship\nMonday\, 24 November 2014 – The bigger picture\, leading with perspective \nAll sessions in central Fife from 9.00am to 5.00pm. Contact Amanda to register your interest and request a booking form.
URL:https://leadershipembodiment.com/event/level-1-with-amanda-ridings-day-2-of-3-2/
LOCATION:Unnamed Venue\, Fife\, Scotland\, United Kingdom
CATEGORIES:Europe
ORGANIZER;CN="Amanda Ridings":MAILTO:Amanda@originate.org.uk
GEO:56.2082078;-3.1495175
END:VEVENT
BEGIN:VEVENT
DTSTART;TZID=UTC:20141027T090000
DTEND;TZID=UTC:20141027T170000
DTSTAMP:20260425T091256
CREATED:20140626T231729Z
LAST-MODIFIED:20140626T231729Z
UID:10000828-1414400400-1414429200@leadershipembodiment.com
SUMMARY:Level 1 with Amanda Ridings (Day 2 of 3)
DESCRIPTION:Leadership Embodiment Level 1 (Day 2 of 3)\nBecoming familiar with your physiological and energetic responses to stressors and exploring how to recover poise with greater resources. \nMonday\, 29 September 2014 – Collecting self\, leading self\nMonday\, 27 October 2014 – Including others\, leading in relationship\nMonday\, 24 November 2014 – The bigger picture\, leading with perspective \nAll sessions in central Fife from 9.00am to 5.00pm. Contact Amanda to register your interest and request a booking form.
URL:https://leadershipembodiment.com/event/level-1-with-amanda-ridings-day-2-of-3/
LOCATION:Unnamed Venue\, Fife\, Scotland\, United Kingdom
ORGANIZER;CN="Amanda Ridings":MAILTO:Amanda@originate.org.uk
GEO:56.2082078;-3.1495175
END:VEVENT
BEGIN:VEVENT
DTSTART;TZID=UTC:20140929T090000
DTEND;TZID=UTC:20140929T170000
DTSTAMP:20260425T091256
CREATED:20140626T231323Z
LAST-MODIFIED:20140626T231323Z
UID:10000827-1411981200-1412010000@leadershipembodiment.com
SUMMARY:Level 1 with Amanda Ridings (Day 1 of 3)
DESCRIPTION:Leadership Embodiment Level 1 (Day 1 of 3)\nBecoming familiar with your physiological and energetic responses to stressors and exploring how to recover poise with greater resources. \nMonday\, 29 September 2014 – Collecting self\, leading self\nMonday\, 27 October 2014 – Including others\, leading in relationship\nMonday\, 24 November 2014 – The bigger picture\, leading with perspective \nAll sessions in central Fife from 9.00am to 5.00pm. Contact Amanda to register your interest and request a booking form.
URL:https://leadershipembodiment.com/event/level-1-with-amanda-ridings-day-1-of-3/
LOCATION:Unnamed Venue\, Fife\, Scotland\, United Kingdom
CATEGORIES:Europe
ORGANIZER;CN="Amanda Ridings":MAILTO:Amanda@originate.org.uk
GEO:56.2082078;-3.1495175
END:VEVENT
BEGIN:VEVENT
DTSTART;VALUE=DATE:20140925
DTEND;VALUE=DATE:20140926
DTSTAMP:20260425T091256
CREATED:20140519T135516Z
LAST-MODIFIED:20140519T135516Z
UID:10000826-1411603200-1411689599@leadershipembodiment.com
SUMMARY:Leadership Embodiment Level 2\, Edinburgh\, Scotland
DESCRIPTION:Over three (non-consecutive) days\, we will explore the edges of our capacity to centre and begin to work with greater intensity\, such as dealing with multiple\, rapid demands\, and using bokkens (Japanese wooden swords) in committing to our purpose. The broad approach is: \nDay 1: Thursday 25th September – Deeper exploration of leading self\nDay 2: Thursday 30th October – Deeper exploration of leading in relationship\nDay 3: Thursday 27th November – Deeper exploration of leading with perspective \nIntervals between the workshops create the opportunity to put learning into practice. Each increase in confidence raises new questions\, supporting deeper exploration in the next session. \nLeadership Embodiment practitioners say: \n‘With more experience and practice\, I’m gaining confidence that there is no right or wrong reaction\, and that being aware of what’s going on ‘inside’ is key.’ \n‘Very enjoyable ‘hands-on’ course. Lots of practical exercises that helped me to learn about myself and lots of exploring left to do.’ \nClick for more information.
URL:https://leadershipembodiment.com/event/leadership-embodiment-level-2-edinburgh-scotland/
LOCATION:Central Edinburgh\, Edinburgh\, United Kingdom
CATEGORIES:Europe
ATTACH;FMTTYPE=:
ORGANIZER;CN="Amanda Ridings":MAILTO:Amanda@originate.org.uk
GEO:55.953252;-3.188267
END:VEVENT
END:VCALENDAR