BEGIN:VCALENDAR
VERSION:2.0
PRODID:-//Leadership Embodiment - ECPv6.15.20//NONSGML v1.0//EN
CALSCALE:GREGORIAN
METHOD:PUBLISH
X-WR-CALNAME:Leadership Embodiment
X-ORIGINAL-URL:https://leadershipembodiment.com
X-WR-CALDESC:Events for Leadership Embodiment
REFRESH-INTERVAL;VALUE=DURATION:PT1H
X-Robots-Tag:noindex
X-PUBLISHED-TTL:PT1H
BEGIN:VTIMEZONE
TZID:America/Los_Angeles
BEGIN:DAYLIGHT
TZOFFSETFROM:-0800
TZOFFSETTO:-0700
TZNAME:PDT
DTSTART:20170312T100000
END:DAYLIGHT
BEGIN:STANDARD
TZOFFSETFROM:-0700
TZOFFSETTO:-0800
TZNAME:PST
DTSTART:20171105T090000
END:STANDARD
BEGIN:DAYLIGHT
TZOFFSETFROM:-0800
TZOFFSETTO:-0700
TZNAME:PDT
DTSTART:20180311T100000
END:DAYLIGHT
BEGIN:STANDARD
TZOFFSETFROM:-0700
TZOFFSETTO:-0800
TZNAME:PST
DTSTART:20181104T090000
END:STANDARD
BEGIN:DAYLIGHT
TZOFFSETFROM:-0800
TZOFFSETTO:-0700
TZNAME:PDT
DTSTART:20190310T100000
END:DAYLIGHT
BEGIN:STANDARD
TZOFFSETFROM:-0700
TZOFFSETTO:-0800
TZNAME:PST
DTSTART:20191103T090000
END:STANDARD
END:VTIMEZONE
BEGIN:VTIMEZONE
TZID:UTC
BEGIN:STANDARD
TZOFFSETFROM:+0000
TZOFFSETTO:+0000
TZNAME:UTC
DTSTART:20140101T000000
END:STANDARD
END:VTIMEZONE
BEGIN:VEVENT
DTSTART;VALUE=DATE:20180922
DTEND;VALUE=DATE:20180923
DTSTAMP:20260424T050033
CREATED:20180514T192537Z
LAST-MODIFIED:20180514T192537Z
UID:10000714-1537574400-1537660799@leadershipembodiment.com
SUMMARY:Embodying Resilience with Paul Ciske & Anjali Sawhney
DESCRIPTION:Join Paul & Anjali for their “Embodying Resilience” series at the East Bay Meditation Center. The series begins on  Saturday September 22 (all day) followed by 3 two-hour sessions on September 24\, October 1\, October 8th. This series includes all material needed to qualify as a Level 1 course upon completion.   \nDates:\n22 September 2018\n24 September 2018\n1 October 2018\n8 October 2018
URL:https://leadershipembodiment.com/event/embodying-resilience-with-paul-ciske-anjali-sawhney/
LOCATION:East Bay Meditation Center\, 285 17th Street\, Oakland\, CA\, United States
CATEGORIES:North America
ATTACH;FMTTYPE=:
ORGANIZER;CN="Paul Ciske":MAILTO:paulciske@sbcglobal.net
END:VEVENT
BEGIN:VEVENT
DTSTART;TZID=UTC:20150206T190000
DTEND;TZID=UTC:20150206T213000
DTSTAMP:20260424T050033
CREATED:20150129T221727Z
LAST-MODIFIED:20150129T221727Z
UID:10000907-1423249200-1423258200@leadershipembodiment.com
SUMMARY:Somatic Coaching Women's Group for Embodiment in Transition
DESCRIPTION:Anjali Sawhney uses Level 1 and Level 2 Leadership Embodiment exercises in a twice monthly women’s group workshop focusing on Embodiment in Transition. The workshop series begins on February 6th and is generally held on the first & third Friday evenings from 7:00pm-9:30pm through May 2015.  For more information\, please contact Anjali at (415)269-5151 or anjalilifecoach@gmail.com
URL:https://leadershipembodiment.com/event/using-leadership-embodiment-in-transition/2015-02-06/
CATEGORIES:North America
ORGANIZER;CN="Anjali Sawhney":MAILTO:anjalilifecoach@gmail.com
END:VEVENT
END:VCALENDAR