BEGIN:VCALENDAR
VERSION:2.0
PRODID:-//Leadership Embodiment - ECPv6.15.20//NONSGML v1.0//EN
CALSCALE:GREGORIAN
METHOD:PUBLISH
X-ORIGINAL-URL:https://leadershipembodiment.com
X-WR-CALDESC:Events for Leadership Embodiment
REFRESH-INTERVAL;VALUE=DURATION:PT1H
X-Robots-Tag:noindex
X-PUBLISHED-TTL:PT1H
BEGIN:VTIMEZONE
TZID:America/Los_Angeles
BEGIN:DAYLIGHT
TZOFFSETFROM:-0800
TZOFFSETTO:-0700
TZNAME:PDT
DTSTART:20180311T100000
END:DAYLIGHT
BEGIN:STANDARD
TZOFFSETFROM:-0700
TZOFFSETTO:-0800
TZNAME:PST
DTSTART:20181104T090000
END:STANDARD
BEGIN:DAYLIGHT
TZOFFSETFROM:-0800
TZOFFSETTO:-0700
TZNAME:PDT
DTSTART:20190310T100000
END:DAYLIGHT
BEGIN:STANDARD
TZOFFSETFROM:-0700
TZOFFSETTO:-0800
TZNAME:PST
DTSTART:20191103T090000
END:STANDARD
BEGIN:DAYLIGHT
TZOFFSETFROM:-0800
TZOFFSETTO:-0700
TZNAME:PDT
DTSTART:20200308T100000
END:DAYLIGHT
BEGIN:STANDARD
TZOFFSETFROM:-0700
TZOFFSETTO:-0800
TZNAME:PST
DTSTART:20201101T090000
END:STANDARD
BEGIN:DAYLIGHT
TZOFFSETFROM:-0800
TZOFFSETTO:-0700
TZNAME:PDT
DTSTART:20210314T100000
END:DAYLIGHT
BEGIN:STANDARD
TZOFFSETFROM:-0700
TZOFFSETTO:-0800
TZNAME:PST
DTSTART:20211107T090000
END:STANDARD
BEGIN:DAYLIGHT
TZOFFSETFROM:-0800
TZOFFSETTO:-0700
TZNAME:PDT
DTSTART:20220313T100000
END:DAYLIGHT
BEGIN:STANDARD
TZOFFSETFROM:-0700
TZOFFSETTO:-0800
TZNAME:PST
DTSTART:20221106T090000
END:STANDARD
BEGIN:DAYLIGHT
TZOFFSETFROM:-0800
TZOFFSETTO:-0700
TZNAME:PDT
DTSTART:20230312T100000
END:DAYLIGHT
BEGIN:STANDARD
TZOFFSETFROM:-0700
TZOFFSETTO:-0800
TZNAME:PST
DTSTART:20231105T090000
END:STANDARD
BEGIN:DAYLIGHT
TZOFFSETFROM:-0800
TZOFFSETTO:-0700
TZNAME:PDT
DTSTART:20240310T100000
END:DAYLIGHT
BEGIN:STANDARD
TZOFFSETFROM:-0700
TZOFFSETTO:-0800
TZNAME:PST
DTSTART:20241103T090000
END:STANDARD
BEGIN:DAYLIGHT
TZOFFSETFROM:-0800
TZOFFSETTO:-0700
TZNAME:PDT
DTSTART:20250309T100000
END:DAYLIGHT
BEGIN:STANDARD
TZOFFSETFROM:-0700
TZOFFSETTO:-0800
TZNAME:PST
DTSTART:20251102T090000
END:STANDARD
BEGIN:DAYLIGHT
TZOFFSETFROM:-0800
TZOFFSETTO:-0700
TZNAME:PDT
DTSTART:20260308T100000
END:DAYLIGHT
BEGIN:STANDARD
TZOFFSETFROM:-0700
TZOFFSETTO:-0800
TZNAME:PST
DTSTART:20261101T090000
END:STANDARD
BEGIN:DAYLIGHT
TZOFFSETFROM:-0800
TZOFFSETTO:-0700
TZNAME:PDT
DTSTART:20270314T100000
END:DAYLIGHT
BEGIN:STANDARD
TZOFFSETFROM:-0700
TZOFFSETTO:-0800
TZNAME:PST
DTSTART:20271107T090000
END:STANDARD
END:VTIMEZONE
BEGIN:VEVENT
DTSTART;VALUE=DATE:20251023
DTEND;VALUE=DATE:20260418
DTSTAMP:20260423T141038
CREATED:20250307T153648Z
LAST-MODIFIED:20250307T162614Z
UID:10001156-1761177600-1776470399@leadershipembodiment.com
SUMMARY:Leadership Embodiment Coach Training EU 2025-2026
DESCRIPTION:The LECT Certification is a 6-month program tailored to professional coaches and facilitators offering the core foundations of LE training exercises with a focus on working with individuals and small groups/teams. This training consists of six modules\, three in-person and three virtual.  \nLE Level 1 & 2 courses are a prerequisite to the LECT. If you have attended a Level 1 course\, you may be able to attend a Level 2 course during the LECT program to meet the prerequisite requirements. Please reach out to the LECT program hub instructor to see if this option is available. \nThe venue for the three in person modules will be located in the Netherlands. If possible\, the location will be in a natural environment. After registration\, all information about the venue and transportation will be provided to you.  \nCost does not include food\, lodging\, or transportation. Please contact us regarding meal options. \nStart Date: October 25\, 2025 (Kick-off phone call) \nEnd Date: April 17\, 2026
URL:https://leadershipembodiment.com/event/leadership-embodiment-coach-training-eu-2025-2026/
LOCATION:Netherlands\, Netherlands
CATEGORIES:Europe
ORGANIZER;CN="Anouk Brack":MAILTO:Anouk.Brack@anouka.nl
GEO:52.132633;5.291266
END:VEVENT
BEGIN:VEVENT
DTSTART;VALUE=DATE:20251023
DTEND;VALUE=DATE:20260418
DTSTAMP:20260423T141038
CREATED:20250128T202342Z
LAST-MODIFIED:20250128T203017Z
UID:10001151-1761177600-1776470399@leadershipembodiment.com
SUMMARY:Leadership Embodiment Coach Training - Europe 2025
DESCRIPTION:The Leadership Embodiment Coach Training Program (LECT) offers participants the opportunity to deepen their experience of the practices and principles of the LE model and develop the skills to share the work with others. \nProgram Details\nPREREQUISITES: LE Level 1 & 2 courses are a prerequisite to the LECT. If you have attended a Level 1 course\, you may be able to attend a Level 2 course during the LECT program to meet the prerequisite requirements. Please reach out to the LECT program hub instructor to see if this option is available. \nPROGRAM OVERVIEW: The LECT Certification is a 6-month program tailored to professional coaches and facilitators offering the core foundations of LE training exercises with a focus on working with individuals and small groups/teams. \nPROGRAM TRAINING MODULES: The LECT program consists of 3 virtual training modules and 3 in person\, training modules. Trainees must attend all modules to graduate. \nFor in-depth information\, dates\, and pricing\, please see our Program Download page. \nStart date: October 23\, 2025\nEnd date: April 17\, 2026
URL:https://leadershipembodiment.com/event/leadership-embodiment-coach-training-europe-2025/
LOCATION:Amsterdam Venue\, Amsterdam\, Netherlands
CATEGORIES:Europe
ORGANIZER;CN="Anouk Brack":MAILTO:Anouk.Brack@anouka.nl
GEO:52.3702157;4.8951679
END:VEVENT
BEGIN:VEVENT
DTSTART;VALUE=DATE:20250904
DTEND;VALUE=DATE:20250906
DTSTAMP:20260423T141038
CREATED:20250611T160914Z
LAST-MODIFIED:20250611T160914Z
UID:10001171-1756944000-1757116799@leadershipembodiment.com
SUMMARY:Leadership Embodiment Level 2 with Anouk Brack
DESCRIPTION:Join Anouk for a 2-Day Leadership Embodiment Level 2 in Vught the Netherlands. You must have completed a Level 1 before attending a Level 2. This course will be held in either Dutch or English depending on the participants. For more information or to register\, please click here.  \nDates: 4-5 September 2025 \n \nEurope
URL:https://leadershipembodiment.com/event/leadership-embodiment-level-2-with-anouk-brack-3/
LOCATION:Kloosterhotel ZIN\, Boxtelseweg 58\, Vught\, 5261NE\, Netherlands
CATEGORIES:Europe
ORGANIZER;CN="Anouk Brack":MAILTO:Anouk.Brack@anouka.nl
END:VEVENT
BEGIN:VEVENT
DTSTART;VALUE=DATE:20250603
DTEND;VALUE=DATE:20250605
DTSTAMP:20260423T141038
CREATED:20241113T151115Z
LAST-MODIFIED:20241203T170113Z
UID:10001130-1748908800-1749081599@leadershipembodiment.com
SUMMARY:Leadership Embodiment Level 2 with Anouk Brack (in English)
DESCRIPTION:Join Anouk for a 2-Day Leadership Embodiment Level 2 in Hilversum\, The Netherlands. You must have completed a Level 1 before enrolling in a Level 2. For a description of a Level 2\, please see our Public Courses page. This course will be led in English. For more information and to register connect to Anouk.brack@anouka.nl.   \nDates: 3-4 June 2025 \n \nEurope
URL:https://leadershipembodiment.com/event/leadership-embodiment-level-2-with-anouk-brack-in-english/
LOCATION:Hilversum Venue\, Netherlands
CATEGORIES:Europe
ORGANIZER;CN="Anouk Brack":MAILTO:Anouk.Brack@anouka.nl
END:VEVENT
BEGIN:VEVENT
DTSTART;VALUE=DATE:20241210
DTEND;VALUE=DATE:20241212
DTSTAMP:20260423T141038
CREATED:20231108T165819Z
LAST-MODIFIED:20240205T185044Z
UID:10001043-1733788800-1733961599@leadershipembodiment.com
SUMMARY:Leadership Embodiment Level 1 with Anouk Brack (in English)
DESCRIPTION:Join Anouk for a 2-Day Leadership Embodiment Level 1 in Amsterdam\, Netherlands. This course will be taught in English. For a description of a Level 1\, please see our Public Courses page. For more information or to book\, please CLICK HERE. \nDates: 10-11 December 2024 \n \nEurope
URL:https://leadershipembodiment.com/event/level-1-with-anouk-brack-30/
LOCATION:WestCord Fashion Hotel Amsterdam\, Netherlands
CATEGORIES:Europe
ORGANIZER;CN="Anouk Brack":MAILTO:Anouk.Brack@anouka.nl
END:VEVENT
BEGIN:VEVENT
DTSTART;VALUE=DATE:20241115
DTEND;VALUE=DATE:20241117
DTSTAMP:20260423T141038
CREATED:20231108T165331Z
LAST-MODIFIED:20240205T185124Z
UID:10001042-1731628800-1731801599@leadershipembodiment.com
SUMMARY:Leadership Embodiment Level 1 with Anouk Brack (in English)
DESCRIPTION:Join Anouk for a 2-Day Leadership Embodiment Level 1 in Düsseldorf\, Germany. This course will be taught in English. For a description of a Level 1\, please see our Public Courses page. For more information or to book\, please CLICK HERE. \nDates: 15-16 November 2024 \n \nEurope
URL:https://leadershipembodiment.com/event/level-1-with-anouk-brack-29/
LOCATION:Düsseldorf Venue\, Düsseldorf\, Germany
CATEGORIES:Europe
ORGANIZER;CN="Anouk Brack":MAILTO:Anouk.Brack@anouka.nl
END:VEVENT
BEGIN:VEVENT
DTSTART;VALUE=DATE:20241016
DTEND;VALUE=DATE:20241018
DTSTAMP:20260423T141038
CREATED:20231108T164748Z
LAST-MODIFIED:20240205T185215Z
UID:10001041-1729036800-1729209599@leadershipembodiment.com
SUMMARY:Leadership Embodiment Level 1 with Anouk Brack (in Dutch)
DESCRIPTION:Join Anouk for a 2-Day Leadership Embodiment Level 1 in Amsterdam\, the Netherlands.  This course will be taught in Dutch. For a description of a Level 1\, please see our Public Courses page.  For more information or to book\, please CLICK HERE. \nDates: 16-17 October 2024 \n \nEurope
URL:https://leadershipembodiment.com/event/level-1-with-anouk-brack-28/
LOCATION:WestCord Fashion Hotel Amsterdam\, Netherlands
CATEGORIES:Europe
ORGANIZER;CN="Anouk Brack":MAILTO:Anouk.Brack@anouka.nl
END:VEVENT
BEGIN:VEVENT
DTSTART;VALUE=DATE:20240904
DTEND;VALUE=DATE:20240906
DTSTAMP:20260423T141038
CREATED:20231108T164346Z
LAST-MODIFIED:20240808T153654Z
UID:10001040-1725408000-1725580799@leadershipembodiment.com
SUMMARY:Leadership Embodiment Level 1 with Anouk Brack (in English)
DESCRIPTION:Join Anouk for a 2-Day Leadership Embodiment Level 1 in Amsterdam\, Netherlands. This course will be taught in English. For a description of a Level 1\, please see our Public Courses page. For more information or to book\, please contact Anouk at Anouk.brack@anouka.nl. \nDates: 4-5 September 2024 \n \nEurope
URL:https://leadershipembodiment.com/event/level-1-with-anouk-brack-27/
LOCATION:Amsterdam Venue\, Amsterdam\, Netherlands
CATEGORIES:Europe
ORGANIZER;CN="Anouk Brack":MAILTO:Anouk.Brack@anouka.nl
GEO:52.3702157;4.8951679
END:VEVENT
BEGIN:VEVENT
DTSTART;VALUE=DATE:20240627
DTEND;VALUE=DATE:20240629
DTSTAMP:20260423T141038
CREATED:20230612T150454Z
LAST-MODIFIED:20240205T185451Z
UID:10001024-1719446400-1719619199@leadershipembodiment.com
SUMMARY:Leadership Embodiment Level 1 with Anouk Brack (in English)
DESCRIPTION:Join Anouk for a 2-Day Leadership Embodiment Level 1 in Amsterdam. This course will be taught in English.  For a description of a Leadership Embodiment Level 1\, please see our Public Courses page. For more information or to register\, please CLICK HERE. \nDates: 27-28 June 2024 \n \nEurope
URL:https://leadershipembodiment.com/event/level-1-with-anouk-brack-26/
LOCATION:WestCord Fashion Hotel Amsterdam\, Netherlands
CATEGORIES:Europe
ORGANIZER;CN="Anouk Brack":MAILTO:Anouk.Brack@anouka.nl
END:VEVENT
BEGIN:VEVENT
DTSTART;VALUE=DATE:20240423
DTEND;VALUE=DATE:20240425
DTSTAMP:20260423T141038
CREATED:20230612T150254Z
LAST-MODIFIED:20240205T175520Z
UID:10001023-1713830400-1714003199@leadershipembodiment.com
SUMMARY:Leadership Embodiment Level 1 with Anouk Brack (in Dutch)
DESCRIPTION:Join Anouk for a 2-Day Level 1 in Utrecht\, Netherlands. This course will be taught in Dutch. For a description of a Leadership Embodiment Level 1\, please see our Public Courses page.  For more information or to register\, please CLICK HERE.  \nDates: 23-24 April 2024 \n \nEurope
URL:https://leadershipembodiment.com/event/level-1-with-anouk-brack-25/
LOCATION:Park Plaza Utrecht\, Westplein 50\, Utrecht\, Netherlands
CATEGORIES:Europe
ORGANIZER;CN="Anouk Brack":MAILTO:Anouk.Brack@anouka.nl
END:VEVENT
BEGIN:VEVENT
DTSTART;VALUE=DATE:20240301
DTEND;VALUE=DATE:20240303
DTSTAMP:20260423T141038
CREATED:20230612T150012Z
LAST-MODIFIED:20240205T181131Z
UID:10001022-1709251200-1709423999@leadershipembodiment.com
SUMMARY:Leadership Embodiment Level 1 with Anouk Brack (in English)
DESCRIPTION:Join Anouk for a 2-Day Leadership Embodiment Level 1 in Düsseldorf\, Germany. This course will be taught in English. For a description of a Level 1\, please see our Public Courses Page. For more information or to register\, please CLICK HERE. \nDates: 1-2 March 2024 \n \nEurope
URL:https://leadershipembodiment.com/event/level-1-with-anouk-brack-24/
LOCATION:Düsseldorf Venue\, Düsseldorf\, Germany
CATEGORIES:Europe
ORGANIZER;CN="Anouk Brack":MAILTO:Anouk.Brack@anouka.nl
END:VEVENT
BEGIN:VEVENT
DTSTART;VALUE=DATE:20240206
DTEND;VALUE=DATE:20240208
DTSTAMP:20260423T141038
CREATED:20230612T145831Z
LAST-MODIFIED:20240205T184332Z
UID:10001021-1707177600-1707350399@leadershipembodiment.com
SUMMARY:Leadership Embodiment Level 1 with Anouk Brack
DESCRIPTION:Join Anouk for a 2-Day Level 1 in Amsterdam. This course will be taught in English.  For a description of a Leadership Embodiment Level 1\, please see our Public Courses page. For more information or to register\, please CLICK HERE. \nDates: 6-7 February 2024 \n \nEurope
URL:https://leadershipembodiment.com/event/level-1-with-anouk-brack-23/
LOCATION:WestCord Fashion Hotel Amsterdam\, Netherlands
CATEGORIES:Europe
ORGANIZER;CN="Anouk Brack":MAILTO:Anouk.Brack@anouka.nl
END:VEVENT
BEGIN:VEVENT
DTSTART;VALUE=DATE:20231204
DTEND;VALUE=DATE:20231206
DTSTAMP:20260423T141038
CREATED:20230522T153716Z
LAST-MODIFIED:20230522T153716Z
UID:10001011-1701648000-1701820799@leadershipembodiment.com
SUMMARY:Level 1 with Anouk Brack
DESCRIPTION:Join Anouk for a 2-Day Level 1 in Amsterdam.  This course will be taught in Dutch. For a description of a Leadership Embodiment Level 1\, please see our Public Courses page.  For more information or to register\, please CLICK HERE.  \nDates: 4-5 December 2023 \n \nEurope
URL:https://leadershipembodiment.com/event/level-1-with-anouk-brack-22/
LOCATION:WestCord Fashion Hotel Amsterdam\, Netherlands
CATEGORIES:Europe
ORGANIZER;CN="Anouk Brack":MAILTO:Anouk.Brack@anouka.nl
END:VEVENT
BEGIN:VEVENT
DTSTART;VALUE=DATE:20231121
DTEND;VALUE=DATE:20231123
DTSTAMP:20260423T141038
CREATED:20230522T152728Z
LAST-MODIFIED:20230522T153759Z
UID:10001010-1700524800-1700697599@leadershipembodiment.com
SUMMARY:Level 1 with Anouk Brack
DESCRIPTION:Join Anouk for a 2-Day Level 1 in Utrecht\, Netherlands. This course will be taught in English. For a description of a Leadership Embodiment Level 1\, please see our Public Courses page.  For more information or to register\, please CLICK HERE.  \nDates: 21-22 November 2023 \n \nEurope
URL:https://leadershipembodiment.com/event/level-1-with-anouk-brack-21/
LOCATION:Park Plaza Utrecht\, Westplein 50\, Utrecht\, Netherlands
CATEGORIES:Europe
ORGANIZER;CN="Anouk Brack":MAILTO:Anouk.Brack@anouka.nl
END:VEVENT
BEGIN:VEVENT
DTSTART;VALUE=DATE:20231106
DTEND;VALUE=DATE:20231108
DTSTAMP:20260423T141038
CREATED:20221229T171710Z
LAST-MODIFIED:20230522T152825Z
UID:10000950-1699228800-1699401599@leadershipembodiment.com
SUMMARY:Level 1 with Anouk Brack
DESCRIPTION:Join Anouk for a 2-Day Leadership Embodiment Level 1 in Munich\, Germany. This course will be taught in English. For a description of a Level 1\, please see our Public Courses Page. For more information or to register\, please CLICK HERE. \nDates: 6-7 November 2023 \n \nEurope
URL:https://leadershipembodiment.com/event/level-1-with-anouk-brack-19/
LOCATION:Munich Venue\, Munich\, Germany
CATEGORIES:Europe
ORGANIZER;CN="Anouk Brack":MAILTO:Anouk.Brack@anouka.nl
END:VEVENT
BEGIN:VEVENT
DTSTART;VALUE=DATE:20231003
DTEND;VALUE=DATE:20231005
DTSTAMP:20260423T141038
CREATED:20230522T150538Z
LAST-MODIFIED:20230522T153922Z
UID:10001009-1696291200-1696463999@leadershipembodiment.com
SUMMARY:Level 1 with Anouk Brack
DESCRIPTION:Join Anouk for a 2-Day Level 1 in Eindhoven\, Netherlands. This course will be taught in Dutch. For a description of a Leadership Embodiment Level 1\, please see our Public Courses page.  For more information or to register\, please CLICK HERE. \nDates: 3-4 October 2023 \n \nEurope
URL:https://leadershipembodiment.com/event/level-1-with-anouk-brack-20/
LOCATION:Park Plaza Eindhoven\, Geldropseweg 17\, Eindhoven\, Netherlands
CATEGORIES:Europe
ORGANIZER;CN="Anouk Brack":MAILTO:Anouk.Brack@anouka.nl
END:VEVENT
BEGIN:VEVENT
DTSTART;VALUE=DATE:20230919
DTEND;VALUE=DATE:20230921
DTSTAMP:20260423T141038
CREATED:20230522T145948Z
LAST-MODIFIED:20230522T154021Z
UID:10001008-1695081600-1695254399@leadershipembodiment.com
SUMMARY:Level 1 with Anouk Brack
DESCRIPTION:Join Anouk for a 2-Day Level 1 in Amsterdam. This course will be taught in English.  For a description of a Leadership Embodiment Level 1\, please see our Public Courses page. For more information or to register\, please CLICK HERE. \nDates: 19-20 September 2023 \n \nEurope
URL:https://leadershipembodiment.com/event/level-1-with-anouk-brack-15/
LOCATION:WestCord Fashion Hotel Amsterdam\, Netherlands
CATEGORIES:Europe
ORGANIZER;CN="Anouk Brack":MAILTO:Anouk.Brack@anouka.nl
END:VEVENT
BEGIN:VEVENT
DTSTART;VALUE=DATE:20230905
DTEND;VALUE=DATE:20230906
DTSTAMP:20260423T141038
CREATED:20230613T170836Z
LAST-MODIFIED:20230613T170919Z
UID:10001026-1693872000-1693958399@leadershipembodiment.com
SUMMARY:Leadership Embodiment Information Session with Anouk Brack
DESCRIPTION:Join Anouk for a free one hour online Leadership Embodiment Information Session. These sessions will be taught in English. For more information and to register please CLICK HERE.  \nDates: 5 September 2023 and 1 November 2023 \nTime: 16:00 – 17:00 CEST \n \nOnline
URL:https://leadershipembodiment.com/event/leadership-embodiment-information-session-with-anouk-brack-2/
LOCATION:Online
CATEGORIES:North America,Asia,Europe,Online,South Africa
ORGANIZER;CN="Anouk Brack":MAILTO:Anouk.Brack@anouka.nl
END:VEVENT
BEGIN:VEVENT
DTSTART;VALUE=DATE:20230703
DTEND;VALUE=DATE:20230705
DTSTAMP:20260423T141038
CREATED:20221229T170617Z
LAST-MODIFIED:20230125T174933Z
UID:10000949-1688342400-1688515199@leadershipembodiment.com
SUMMARY:Level 1 with Anouk Brack
DESCRIPTION:Join Anouk for a 2-Day Leadership Embodiment Level 1 in Amsterdam\, Netherlands. For a description of a Level 1\, please see our Public Courses Page. For more information or to register\, please CLICK HERE. \nDates: 3-4 July 2023 \n \nEurope
URL:https://leadershipembodiment.com/event/level-1-with-anouk-brack-18/
LOCATION:WestCord Fashion Hotel Amsterdam\, Netherlands
CATEGORIES:Europe
ORGANIZER;CN="Anouk Brack":MAILTO:Anouk.Brack@anouka.nl
END:VEVENT
BEGIN:VEVENT
DTSTART;VALUE=DATE:20230524
DTEND;VALUE=DATE:20230526
DTSTAMP:20260423T141038
CREATED:20221229T165831Z
LAST-MODIFIED:20230125T184749Z
UID:10000948-1684886400-1685059199@leadershipembodiment.com
SUMMARY:Level 1 with Anouk Brack
DESCRIPTION:Join Anouk for a 2-Day Level 1 in Eindhoven\, Netherlands. For a description of a Level 1\, please see our public courses page. For more information or to register\, please CLICK HERE.  \nDates: 24-25 May 2023 \n \nEurope
URL:https://leadershipembodiment.com/event/level-1-with-anouk-brack-17/
LOCATION:Pullman Cocagne\, Vestdijk 47\, EINDHOVEN\, Netherlands
CATEGORIES:Europe
ORGANIZER;CN="Anouk Brack":MAILTO:Anouk.Brack@anouka.nl
END:VEVENT
BEGIN:VEVENT
DTSTART;VALUE=DATE:20230116
DTEND;VALUE=DATE:20230118
DTSTAMP:20260423T141038
CREATED:20220610T143247Z
LAST-MODIFIED:20221229T181106Z
UID:10000796-1673827200-1673999999@leadershipembodiment.com
SUMMARY:Level 1 with Anouk Brack
DESCRIPTION:Join Anouk for a 2-day Level 1 in Amsterdam. For a description of a Level 1\, please see our courses page. This course will be led in English. \nDates: 16 – 17 January 2023 \nFor more information or to register\, please CLICK HERE.
URL:https://leadershipembodiment.com/event/level-1-with-anouk-brack-14/
LOCATION:WestCord Fashion Hotel Amsterdam\, Netherlands
CATEGORIES:Europe
ORGANIZER;CN="Anouk Brack":MAILTO:Anouk.Brack@anouka.nl
END:VEVENT
BEGIN:VEVENT
DTSTART;VALUE=DATE:20221207
DTEND;VALUE=DATE:20221209
DTSTAMP:20260423T141038
CREATED:20220420T162038Z
LAST-MODIFIED:20220420T162038Z
UID:10000791-1670371200-1670543999@leadershipembodiment.com
SUMMARY:Level 2 with Anouk Brack
DESCRIPTION:Join Anouk for a 2-Day Level 2 in Arnhem\, Netherlands. You must have completed a Level 1 before enrolling in a Level 2.  For a description of a Level 2\, please see our courses page. This training is provided in English and Dutch. For more information and registration contact anouk.brack@anouka.nl   \nDates: 7-8 December 2022
URL:https://leadershipembodiment.com/event/level-2-with-anouk-brack-8/
LOCATION:Arnhem Venue\, Arnhem\, Netherlands
CATEGORIES:Europe
ORGANIZER;CN="Anouk Brack":MAILTO:Anouk.Brack@anouka.nl
END:VEVENT
BEGIN:VEVENT
DTSTART;VALUE=DATE:20221201
DTEND;VALUE=DATE:20221203
DTSTAMP:20260423T141038
CREATED:20220610T142938Z
LAST-MODIFIED:20220610T142938Z
UID:10000795-1669852800-1670025599@leadershipembodiment.com
SUMMARY:Level 1 with Anouk Brack
DESCRIPTION:Join Anouk for a 2-day Level 1 in Eindhoven. For a description of a Level 1\, please see our courses page. This course will be led in English. \nDates: 1 – 2 December 2022 \nFor more information or to register\, please CLICK HERE.
URL:https://leadershipembodiment.com/event/level-1-with-anouk-brack-13/
LOCATION:Pullman Cocagne\, Vestdijk 47\, EINDHOVEN\, Netherlands
CATEGORIES:Europe
ORGANIZER;CN="Anouk Brack":MAILTO:Anouk.Brack@anouka.nl
END:VEVENT
BEGIN:VEVENT
DTSTART;VALUE=DATE:20221108
DTEND;VALUE=DATE:20221110
DTSTAMP:20260423T141038
CREATED:20220610T142353Z
LAST-MODIFIED:20220610T142353Z
UID:10000794-1667865600-1668038399@leadershipembodiment.com
SUMMARY:Level 1 with Anouk Brack
DESCRIPTION:Join Anouk for a 2-day Level 1 in Amsterdam. For a description of a Level 1\, please see our courses page.  \nDates: 8 -9 November 2022
URL:https://leadershipembodiment.com/event/level-1-with-anouk-brack-12/
LOCATION:Postillion Hotel & Convention Centre\, Amsterdam\, Netherlands
CATEGORIES:Europe
ORGANIZER;CN="Anouk Brack":MAILTO:Anouk.Brack@anouka.nl
END:VEVENT
BEGIN:VEVENT
DTSTART;VALUE=DATE:20220601
DTEND;VALUE=DATE:20220603
DTSTAMP:20260423T141038
CREATED:20220420T161731Z
LAST-MODIFIED:20220420T161731Z
UID:10000790-1654041600-1654214399@leadershipembodiment.com
SUMMARY:Level 1 with Anouk Brack
DESCRIPTION:Join Anouk for a 2-Day Level 1 in Arnhem\, Netherlands. For a description of a Level 1\, please see our courses page. This training is provided in English and Dutch. For more information and registration contact anouk.brack@anouka.nl   \nDates: 1-2 June 2022
URL:https://leadershipembodiment.com/event/level-1-with-anouk-brack-9/
LOCATION:Arnhem Venue\, Arnhem\, Netherlands
CATEGORIES:Europe
ORGANIZER;CN="Anouk Brack":MAILTO:Anouk.Brack@anouka.nl
END:VEVENT
BEGIN:VEVENT
DTSTART;VALUE=DATE:20211118
DTEND;VALUE=DATE:20211120
DTSTAMP:20260423T141038
CREATED:20211018T193023Z
LAST-MODIFIED:20211018T193023Z
UID:10000460-1637193600-1637366399@leadershipembodiment.com
SUMMARY:Level 2 with Anouk Brack
DESCRIPTION:Join Anouk in Arnhem\, The Netherlands for a 2-day Level 2 Intermediate.  \nLanguage will be English (and Dutch clarifications) \n(Interested people can contact Anouk at Anouk.brack@anouka.nl)
URL:https://leadershipembodiment.com/event/level-2-with-anouk-brack-7/
LOCATION:Arnhem Venue\, Arnhem\, Netherlands
CATEGORIES:Europe
ORGANIZER;CN="Anouk Brack":MAILTO:Anouk.Brack@anouka.nl
END:VEVENT
BEGIN:VEVENT
DTSTART;VALUE=DATE:20200619
DTEND;VALUE=DATE:20200621
DTSTAMP:20260423T141038
CREATED:20190417T150937Z
LAST-MODIFIED:20190417T150937Z
UID:10000304-1592524800-1592697599@leadershipembodiment.com
SUMMARY:LE Course with Anouk Brack (Time zone Amsterdam/CEST)
DESCRIPTION:Join Anouk for an 2-Day Online LE Course.  This course will be offered in Dutch unless there are many requests for English. \nFor more information and to register\, please click here.  \nDates: 19-20 June 2020\nStart: 09:30 CEST
URL:https://leadershipembodiment.com/event/level-1-with-anouk-brack-7/
LOCATION:Online
CATEGORIES:Europe,Online
ATTACH;FMTTYPE=:
ORGANIZER;CN="Anouk Brack":MAILTO:Anouk.Brack@anouka.nl
END:VEVENT
BEGIN:VEVENT
DTSTART;VALUE=DATE:20200408
DTEND;VALUE=DATE:20200410
DTSTAMP:20260423T141038
CREATED:20200130T173302Z
LAST-MODIFIED:20200130T173302Z
UID:10000385-1586304000-1586476799@leadershipembodiment.com
SUMMARY:Level 1 with Anouk Brack
DESCRIPTION:Join Anouk for a 2-Day Level 1 Fundamentals in Arnhem\, the Netherlands. For a description of a Level 1\, please see our courses page.  \nDates: 8-9 April 2020 \nContact Anouk for details: Anouk.brack@anouka.nl
URL:https://leadershipembodiment.com/event/level-1-with-anouk-brack-8/
LOCATION:Arnhem Venue\, Arnhem\, Netherlands
CATEGORIES:Europe
ATTACH;FMTTYPE=:
ORGANIZER;CN="Anouk Brack":MAILTO:Anouk.Brack@anouka.nl
END:VEVENT
BEGIN:VEVENT
DTSTART;VALUE=DATE:20200309
DTEND;VALUE=DATE:20200310
DTSTAMP:20260423T141038
CREATED:20200130T173929Z
LAST-MODIFIED:20200130T173929Z
UID:10000386-1583712000-1583798399@leadershipembodiment.com
SUMMARY:LE Advanced Practice Day with Anouk Brack
DESCRIPTION:Anouk leads a workshop to refresh and deepen your LE practice with peers.  Available to anyone who has completed a Level 1 and above. \nDate: 9 March 2020 \nContact Anouk for details: Anouk.brack@anouka.nl
URL:https://leadershipembodiment.com/event/le-advanced-practice-day-with-anouk-brack/
LOCATION:Arnhem Venue\, Arnhem\, Netherlands
CATEGORIES:Europe
ATTACH;FMTTYPE=:
ORGANIZER;CN="Anouk Brack":MAILTO:Anouk.Brack@anouka.nl
END:VEVENT
BEGIN:VEVENT
DTSTART;VALUE=DATE:20191202
DTEND;VALUE=DATE:20191204
DTSTAMP:20260423T141038
CREATED:20190206T184958Z
LAST-MODIFIED:20190206T184958Z
UID:10000293-1575244800-1575417599@leadershipembodiment.com
SUMMARY:Level 2 with Anouk Brack - Updated
DESCRIPTION:Join Anouk for a 2-Day Level 2 course in Arnhem\, the Netherlands. Language of the training is English with explanation in Dutch when necessary. You must have completed a Level 1 Fundamentals before taking a Level 2 course. For more information or to register\, please click here if you speak Dutch\, otherwise reach out directly to Anouk via anouk.brack@anouka.nl.  \nDates 2-3 December 2019
URL:https://leadershipembodiment.com/event/level-2-with-anouk-brack-5/
LOCATION:Shambhala Centre Arnhem\, Rijnkade 32\, Arnhem\,  6811 HA\, Netherlands
CATEGORIES:Europe
ATTACH;FMTTYPE=:
ORGANIZER;CN="Anouk Brack":MAILTO:Anouk.Brack@anouka.nl
END:VEVENT
END:VCALENDAR