BEGIN:VCALENDAR
VERSION:2.0
PRODID:-//Leadership Embodiment - ECPv6.15.20//NONSGML v1.0//EN
CALSCALE:GREGORIAN
METHOD:PUBLISH
X-ORIGINAL-URL:https://leadershipembodiment.com
X-WR-CALDESC:Events for Leadership Embodiment
REFRESH-INTERVAL;VALUE=DURATION:PT1H
X-Robots-Tag:noindex
X-PUBLISHED-TTL:PT1H
BEGIN:VTIMEZONE
TZID:UTC
BEGIN:STANDARD
TZOFFSETFROM:+0000
TZOFFSETTO:+0000
TZNAME:UTC
DTSTART:20130101T000000
END:STANDARD
END:VTIMEZONE
BEGIN:VEVENT
DTSTART;VALUE=DATE:20141121
DTEND;VALUE=DATE:20141123
DTSTAMP:20260423T235417
CREATED:20141007T124558Z
LAST-MODIFIED:20141007T124558Z
UID:10000856-1416528000-1416700799@leadershipembodiment.com
SUMMARY:Leadership Embodiment Fundamentals\, Amsterdam\, Netherlands
DESCRIPTION:This course – facilitated by Anouk Brack – is open to Dutch- and English-speaking participants. \nThis course can be booked by a single payment or through two payments. \nThese links will take you to Anouk’s Dutch shopping cart – most of the page is in English\, but if you have any concerns or questions\, please get in touch with Anouk\, who will be happy to guide you through the process.
URL:https://leadershipembodiment.com/event/leadership-embodiment-fundamentals-amsterdam-netherlands/
LOCATION:To be confirmed\, Amsterdam\, Netherlands
CATEGORIES:Europe
ORGANIZER;CN="Anouk Brack":MAILTO:Anouk.Brack@anouka.nl
GEO:52.3702157;4.8951679
END:VEVENT
BEGIN:VEVENT
DTSTART;VALUE=DATE:20141003
DTEND;VALUE=DATE:20141005
DTSTAMP:20260423T235417
CREATED:20140629T073952Z
LAST-MODIFIED:20140629T073952Z
UID:10000834-1412294400-1412467199@leadershipembodiment.com
SUMMARY:Leadership Embodiment Intermediate with Anouk Brack\, the Netherlands
DESCRIPTION:This course will be English spoken\nWebpage about it in Dutch: \nhttp://www.anouka.nl/leadership-embodiment/lei-le-intermediate-level-2/ \nWebpage in English \nhttp://www.centreforembodiedwisdom.com/leadership-embodiment-intermediatelevel-2/
URL:https://leadershipembodiment.com/event/leadership-embodiment-intermediate-with-anouk-brack-the-netherlands/
CATEGORIES:Europe
ATTACH;FMTTYPE=:
ORGANIZER;CN="Anouk Brack":MAILTO:Anouk.Brack@anouka.nl
END:VEVENT
BEGIN:VEVENT
DTSTART;VALUE=DATE:20140926
DTEND;VALUE=DATE:20140929
DTSTAMP:20260423T235417
CREATED:20140629T073544Z
LAST-MODIFIED:20140629T073544Z
UID:10000833-1411689600-1411948799@leadershipembodiment.com
SUMMARY:Bright Now Festival
DESCRIPTION:The strength of a gentle society \nConnecting with each other and opening our hearts to the question of how to develop a good human society. Moving the world in a positive direction requires vision\, courage and trust. This festival combines training inner strength and leadership with contemplative arts and communication skills. A variety of inspiring initiatives in the areas of sustainable economy\, education and health come together. \nYou’re welcome – Be Bright Now! \nThis innovative festival is organized by Shambhala Netherlands in cooperation with Knowmads.
URL:https://leadershipembodiment.com/event/bright-now-festival/
LOCATION:Royal Tropical Institute\, Amsterdam\, Netherlands
CATEGORIES:Europe
ATTACH;FMTTYPE=:
ORGANIZER;CN="Anouk Brack":MAILTO:Anouk.Brack@anouka.nl
END:VEVENT
BEGIN:VEVENT
DTSTART;VALUE=DATE:20140829
DTEND;VALUE=DATE:20140831
DTSTAMP:20260423T235417
CREATED:20140629T072536Z
LAST-MODIFIED:20140629T072536Z
UID:10000831-1409270400-1409443199@leadershipembodiment.com
SUMMARY:Leadership Embodiment Fundamentals\, the Netherlands – in English
DESCRIPTION:Anouk Brack \nhttp://www.anouka.nl/leadership-embodiment/in-english-leadership-embodiment-events/
URL:https://leadershipembodiment.com/event/leadership-embodiment-fundamentals-the-netherlands-in-english/
CATEGORIES:Europe
ORGANIZER;CN="Anouk Brack":MAILTO:Anouk.Brack@anouka.nl
END:VEVENT
END:VCALENDAR