BEGIN:VCALENDAR
VERSION:2.0
PRODID:-//Leadership Embodiment - ECPv6.15.20//NONSGML v1.0//EN
CALSCALE:GREGORIAN
METHOD:PUBLISH
X-ORIGINAL-URL:https://leadershipembodiment.com
X-WR-CALDESC:Events for Leadership Embodiment
REFRESH-INTERVAL;VALUE=DURATION:PT1H
X-Robots-Tag:noindex
X-PUBLISHED-TTL:PT1H
BEGIN:VTIMEZONE
TZID:America/Los_Angeles
BEGIN:DAYLIGHT
TZOFFSETFROM:-0800
TZOFFSETTO:-0700
TZNAME:PDT
DTSTART:20150308T100000
END:DAYLIGHT
BEGIN:STANDARD
TZOFFSETFROM:-0700
TZOFFSETTO:-0800
TZNAME:PST
DTSTART:20151101T090000
END:STANDARD
BEGIN:DAYLIGHT
TZOFFSETFROM:-0800
TZOFFSETTO:-0700
TZNAME:PDT
DTSTART:20160313T100000
END:DAYLIGHT
BEGIN:STANDARD
TZOFFSETFROM:-0700
TZOFFSETTO:-0800
TZNAME:PST
DTSTART:20161106T090000
END:STANDARD
BEGIN:DAYLIGHT
TZOFFSETFROM:-0800
TZOFFSETTO:-0700
TZNAME:PDT
DTSTART:20170312T100000
END:DAYLIGHT
BEGIN:STANDARD
TZOFFSETFROM:-0700
TZOFFSETTO:-0800
TZNAME:PST
DTSTART:20171105T090000
END:STANDARD
END:VTIMEZONE
BEGIN:VTIMEZONE
TZID:UTC
BEGIN:STANDARD
TZOFFSETFROM:+0000
TZOFFSETTO:+0000
TZNAME:UTC
DTSTART:20130101T000000
END:STANDARD
END:VTIMEZONE
BEGIN:VEVENT
DTSTART;VALUE=DATE:20160514
DTEND;VALUE=DATE:20160516
DTSTAMP:20260424T030435
CREATED:20160412T205527Z
LAST-MODIFIED:20160412T205527Z
UID:10000556-1463184000-1463356799@leadershipembodiment.com
SUMMARY:Level 2 with Bettina Rothe
DESCRIPTION:Join Bettina Rothe in lovely Vancouver\, BC for a Level 2 Intermediate course.  You must have completed a Level 1 before enrolling in a Level 2.  For a description of a Level 2\, please see our courses page.   \nDates: May 14 & 15\, 2016
URL:https://leadershipembodiment.com/event/level-2-with-bettina-rothe/
LOCATION:Vancouver\, Vancouver\, British Columbia\, Canada
CATEGORIES:North America
ATTACH;FMTTYPE=:
GEO:49.2827291;-123.1207375
END:VEVENT
BEGIN:VEVENT
DTSTART;VALUE=DATE:20160409
DTEND;VALUE=DATE:20160411
DTSTAMP:20260424T030435
CREATED:20160317T174711Z
LAST-MODIFIED:20160317T174711Z
UID:10000550-1460160000-1460332799@leadershipembodiment.com
SUMMARY:Embodied Leadership Level 1 with Bettina Rothe
DESCRIPTION:Join Bettina Rothe in Vancouver\, BC for a 2-day Level 1 “Embodied Leadership Level 1: Aligning body\, heart\, and knowledge for impact”. \nFor a complete description or to register\, please click here.   \n \nDates: April 9th & 10th\, 2016
URL:https://leadershipembodiment.com/event/embodied-leadership-level-1-with-bettina-rothe/
CATEGORIES:North America
ATTACH;FMTTYPE=:
END:VEVENT
BEGIN:VEVENT
DTSTART;VALUE=DATE:20141023
DTEND;VALUE=DATE:20141024
DTSTAMP:20260424T030435
CREATED:20140703T203820Z
LAST-MODIFIED:20140703T203820Z
UID:10000842-1414022400-1414108799@leadershipembodiment.com
SUMMARY:Leadership Embodiment Level 1 (6-week series) with Bettina Rothe - Day 6 of 6
DESCRIPTION:Join Bettina Rothe in beautiful Vancouver\, BC for a 6-week (1 day each week) Leadership Embodiment Fundamentals Level 1.  Beginning Thursday\, September 18th\, and continuing on every Thursday through October 23rd.
URL:https://leadershipembodiment.com/event/leadership-embodiment-level-1-6-week-series-with-bettina-rothe-day-1-of-6-2014-10-23/
LOCATION:Unnamed Venue\, Vancouver\, British Columbia\, Canada
CATEGORIES:North America
GEO:49.261226;-123.1139268
END:VEVENT
BEGIN:VEVENT
DTSTART;VALUE=DATE:20141016
DTEND;VALUE=DATE:20141017
DTSTAMP:20260424T030435
CREATED:20140703T203820Z
LAST-MODIFIED:20140703T203820Z
UID:10000841-1413417600-1413503999@leadershipembodiment.com
SUMMARY:Leadership Embodiment Level 1 (6-week series) with Bettina Rothe - Day 5 of 6
DESCRIPTION:Join Bettina Rothe in beautiful Vancouver\, BC for a 6-week (1 day each week) Leadership Embodiment Fundamentals Level 1.  Beginning Thursday\, September 18th\, and continuing on every Thursday through October 23rd.
URL:https://leadershipembodiment.com/event/leadership-embodiment-level-1-6-week-series-with-bettina-rothe-day-1-of-6-2014-10-16/
LOCATION:Unnamed Venue\, Vancouver\, British Columbia\, Canada
CATEGORIES:North America
GEO:49.261226;-123.1139268
END:VEVENT
BEGIN:VEVENT
DTSTART;VALUE=DATE:20141009
DTEND;VALUE=DATE:20141010
DTSTAMP:20260424T030435
CREATED:20140703T203820Z
LAST-MODIFIED:20140703T203820Z
UID:10000840-1412812800-1412899199@leadershipembodiment.com
SUMMARY:Leadership Embodiment Level 1 (6-week series) with Bettina Rothe - Day 4 of 6
DESCRIPTION:Join Bettina Rothe in beautiful Vancouver\, BC for a 6-week (1 day each week) Leadership Embodiment Fundamentals Level 1.  Beginning Thursday\, September 18th\, and continuing on every Thursday through October 23rd.
URL:https://leadershipembodiment.com/event/leadership-embodiment-level-1-6-week-series-with-bettina-rothe-day-1-of-6-2014-10-09/
LOCATION:Unnamed Venue\, Vancouver\, British Columbia\, Canada
CATEGORIES:North America
GEO:49.261226;-123.1139268
END:VEVENT
BEGIN:VEVENT
DTSTART;VALUE=DATE:20141003
DTEND;VALUE=DATE:20141006
DTSTAMP:20260424T030435
CREATED:20140703T205603Z
LAST-MODIFIED:20140703T205603Z
UID:10000843-1412294400-1412553599@leadershipembodiment.com
SUMMARY:Leadership Embodiment Level 1 with Bettina Rothe
DESCRIPTION:Join Bettina  in Victoria\, British Columbia for a 2 1/2 day Leadership Embodiment Level 1 “A Practice for Confidence\, Clarity and Compassion”.
URL:https://leadershipembodiment.com/event/leadership-embodiment-level-1-with-bettina-rothe/
LOCATION:Unnamed Venue\, Victoria\, British Columbia\, Canada
CATEGORIES:North America
GEO:48.4284207;-123.3656444
END:VEVENT
BEGIN:VEVENT
DTSTART;VALUE=DATE:20141002
DTEND;VALUE=DATE:20141003
DTSTAMP:20260424T030435
CREATED:20140703T203820Z
LAST-MODIFIED:20140703T203820Z
UID:10000839-1412208000-1412294399@leadershipembodiment.com
SUMMARY:Leadership Embodiment Level 1 (6-week series) with Bettina Rothe - Day 3 of 6
DESCRIPTION:Join Bettina Rothe in beautiful Vancouver\, BC for a 6-week (1 day each week) Leadership Embodiment Fundamentals Level 1.  Beginning Thursday\, September 18th\, and continuing on every Thursday through October 23rd.
URL:https://leadershipembodiment.com/event/leadership-embodiment-level-1-6-week-series-with-bettina-rothe-day-1-of-6-2014-10-02/
LOCATION:Unnamed Venue\, Vancouver\, British Columbia\, Canada
CATEGORIES:North America
GEO:49.261226;-123.1139268
END:VEVENT
BEGIN:VEVENT
DTSTART;VALUE=DATE:20140925
DTEND;VALUE=DATE:20140926
DTSTAMP:20260424T030435
CREATED:20140703T203820Z
LAST-MODIFIED:20140703T203820Z
UID:10000838-1411603200-1411689599@leadershipembodiment.com
SUMMARY:Leadership Embodiment Level 1 (6-week series) with Bettina Rothe - Day 2 of 6
DESCRIPTION:Join Bettina Rothe in beautiful Vancouver\, BC for a 6-week (1 day each week) Leadership Embodiment Fundamentals Level 1.  Beginning Thursday\, September 18th\, and continuing on every Thursday through October 23rd.
URL:https://leadershipembodiment.com/event/leadership-embodiment-level-1-6-week-series-with-bettina-rothe-day-1-of-6-2014-09-25/
LOCATION:Unnamed Venue\, Vancouver\, British Columbia\, Canada
CATEGORIES:North America
GEO:49.261226;-123.1139268
END:VEVENT
BEGIN:VEVENT
DTSTART;VALUE=DATE:20140918
DTEND;VALUE=DATE:20140919
DTSTAMP:20260424T030435
CREATED:20140703T203820Z
LAST-MODIFIED:20140703T203820Z
UID:10000837-1410998400-1411084799@leadershipembodiment.com
SUMMARY:Leadership Embodiment Level 1 (6-week series) with Bettina Rothe - Day 1 of 6
DESCRIPTION:Join Bettina Rothe in beautiful Vancouver\, BC for a 6-week (1 day each week) Leadership Embodiment Fundamentals Level 1.  Beginning Thursday\, September 18th\, and continuing on every Thursday through October 23rd.
URL:https://leadershipembodiment.com/event/leadership-embodiment-level-1-6-week-series-with-bettina-rothe-day-1-of-6/2014-09-18/
LOCATION:Unnamed Venue\, Vancouver\, British Columbia\, Canada
CATEGORIES:North America
GEO:49.261226;-123.1139268
END:VEVENT
END:VCALENDAR