BEGIN:VCALENDAR
VERSION:2.0
PRODID:-//Leadership Embodiment - ECPv6.15.20//NONSGML v1.0//EN
CALSCALE:GREGORIAN
METHOD:PUBLISH
X-ORIGINAL-URL:https://leadershipembodiment.com
X-WR-CALDESC:Events for Leadership Embodiment
REFRESH-INTERVAL;VALUE=DURATION:PT1H
X-Robots-Tag:noindex
X-PUBLISHED-TTL:PT1H
BEGIN:VTIMEZONE
TZID:America/Los_Angeles
BEGIN:DAYLIGHT
TZOFFSETFROM:-0800
TZOFFSETTO:-0700
TZNAME:PDT
DTSTART:20180311T100000
END:DAYLIGHT
BEGIN:STANDARD
TZOFFSETFROM:-0700
TZOFFSETTO:-0800
TZNAME:PST
DTSTART:20181104T090000
END:STANDARD
BEGIN:DAYLIGHT
TZOFFSETFROM:-0800
TZOFFSETTO:-0700
TZNAME:PDT
DTSTART:20190310T100000
END:DAYLIGHT
BEGIN:STANDARD
TZOFFSETFROM:-0700
TZOFFSETTO:-0800
TZNAME:PST
DTSTART:20191103T090000
END:STANDARD
BEGIN:DAYLIGHT
TZOFFSETFROM:-0800
TZOFFSETTO:-0700
TZNAME:PDT
DTSTART:20200308T100000
END:DAYLIGHT
BEGIN:STANDARD
TZOFFSETFROM:-0700
TZOFFSETTO:-0800
TZNAME:PST
DTSTART:20201101T090000
END:STANDARD
BEGIN:DAYLIGHT
TZOFFSETFROM:-0800
TZOFFSETTO:-0700
TZNAME:PDT
DTSTART:20210314T100000
END:DAYLIGHT
BEGIN:STANDARD
TZOFFSETFROM:-0700
TZOFFSETTO:-0800
TZNAME:PST
DTSTART:20211107T090000
END:STANDARD
BEGIN:DAYLIGHT
TZOFFSETFROM:-0800
TZOFFSETTO:-0700
TZNAME:PDT
DTSTART:20220313T100000
END:DAYLIGHT
BEGIN:STANDARD
TZOFFSETFROM:-0700
TZOFFSETTO:-0800
TZNAME:PST
DTSTART:20221106T090000
END:STANDARD
BEGIN:DAYLIGHT
TZOFFSETFROM:-0800
TZOFFSETTO:-0700
TZNAME:PDT
DTSTART:20230312T100000
END:DAYLIGHT
BEGIN:STANDARD
TZOFFSETFROM:-0700
TZOFFSETTO:-0800
TZNAME:PST
DTSTART:20231105T090000
END:STANDARD
BEGIN:DAYLIGHT
TZOFFSETFROM:-0800
TZOFFSETTO:-0700
TZNAME:PDT
DTSTART:20240310T100000
END:DAYLIGHT
BEGIN:STANDARD
TZOFFSETFROM:-0700
TZOFFSETTO:-0800
TZNAME:PST
DTSTART:20241103T090000
END:STANDARD
BEGIN:DAYLIGHT
TZOFFSETFROM:-0800
TZOFFSETTO:-0700
TZNAME:PDT
DTSTART:20250309T100000
END:DAYLIGHT
BEGIN:STANDARD
TZOFFSETFROM:-0700
TZOFFSETTO:-0800
TZNAME:PST
DTSTART:20251102T090000
END:STANDARD
BEGIN:DAYLIGHT
TZOFFSETFROM:-0800
TZOFFSETTO:-0700
TZNAME:PDT
DTSTART:20260308T100000
END:DAYLIGHT
BEGIN:STANDARD
TZOFFSETFROM:-0700
TZOFFSETTO:-0800
TZNAME:PST
DTSTART:20261101T090000
END:STANDARD
BEGIN:DAYLIGHT
TZOFFSETFROM:-0800
TZOFFSETTO:-0700
TZNAME:PDT
DTSTART:20270314T100000
END:DAYLIGHT
BEGIN:STANDARD
TZOFFSETFROM:-0700
TZOFFSETTO:-0800
TZNAME:PST
DTSTART:20271107T090000
END:STANDARD
END:VTIMEZONE
BEGIN:VTIMEZONE
TZID:Asia/Singapore
BEGIN:STANDARD
TZOFFSETFROM:+0800
TZOFFSETTO:+0800
TZNAME:+08
DTSTART:20180101T000000
END:STANDARD
END:VTIMEZONE
BEGIN:VEVENT
DTSTART;VALUE=DATE:20260130
DTEND;VALUE=DATE:20260201
DTSTAMP:20260424T104604
CREATED:20250930T165429Z
LAST-MODIFIED:20251201T172657Z
UID:10001198-1769731200-1769903999@leadershipembodiment.com
SUMMARY:Leadership Embodiment Level 1 with Ched Lee (in English)
DESCRIPTION:Join Ched for a 2-Day Leadership Embodiment Level 1 in Kuala Lumpur\, Malaysia. This course will be taught in English. For a description of a Level 1\, please see our Public Courses page. \nClick here for more info.  \nDetails are coming soon\, and all are warmly welcome to register with interest to ched@chedlee.com \nDates: 30-31 January 2026 \n \nAsia
URL:https://leadershipembodiment.com/event/leadership-embodiment-level-1-with-ched-lee-in-english-3/
LOCATION:Kuala Lumpur Venue\, Kuala Lumpur\, Malaysia
CATEGORIES:Asia
ORGANIZER;CN="Ched Lee":MAILTO:ched@chedlee.com
END:VEVENT
BEGIN:VEVENT
DTSTART;VALUE=DATE:20260122
DTEND;VALUE=DATE:20260126
DTSTAMP:20260424T104604
CREATED:20250930T164702Z
LAST-MODIFIED:20251201T171936Z
UID:10001197-1769040000-1769385599@leadershipembodiment.com
SUMMARY:Leadership Embodiment Retreat in Asia with Ched Lee (in English)
DESCRIPTION:Leading Through the Fire – A Journey of Renewal\nJoin Ched for a 4-Day Leadership Embodiment Retreat in Penang\, Malaysia. This retreat will be led in English. Details are coming soon\, and all graduates of LE Fundamentals and above are warmly welcome to register with interest to ched@chedlee.com. \nDates: 22 – 25 January 2026 \n\nAsia
URL:https://leadershipembodiment.com/event/leadership-embodiment-retreat-in-asia-with-ched-lee-in-english/
LOCATION:Penang\, Malaysia Venue\, Penang\, Malaysia
CATEGORIES:Asia
ORGANIZER;CN="Ched Lee":MAILTO:ched@chedlee.com
END:VEVENT
BEGIN:VEVENT
DTSTART;VALUE=DATE:20250711
DTEND;VALUE=DATE:20250713
DTSTAMP:20260424T104604
CREATED:20250212T184452Z
LAST-MODIFIED:20250212T184452Z
UID:10001152-1752192000-1752364799@leadershipembodiment.com
SUMMARY:Leadership Embodiment Level 1 with Ched Lee (in English)
DESCRIPTION:Join Ched for a 2-Day Leadership Embodiment Level 1 in Malaysia (Kuala Lumpur). See our Public Courses page for a description of a Leadership Embodiment Level 1. This course will be led in English. For more information or to register\, please CLICK HERE.\nDates: 11-12 July 2025  \n \nAsia
URL:https://leadershipembodiment.com/event/leadership-embodiment-level-1-with-ched-lee-in-english-2/
LOCATION:School of Mindfulness and Spinefulness\, Lightgrey Sungai Buloh\, Selangor\, 47000\, Malaysia
CATEGORIES:Asia
ORGANIZER;CN="Ched Lee":MAILTO:ched@chedlee.com
END:VEVENT
BEGIN:VEVENT
DTSTART;VALUE=DATE:20250704
DTEND;VALUE=DATE:20250706
DTSTAMP:20260424T104604
CREATED:20250212T194431Z
LAST-MODIFIED:20250212T194431Z
UID:10001154-1751587200-1751759999@leadershipembodiment.com
SUMMARY:Leadership Embodiment Level 1 with Ched Lee (Mandarin with English auxiliary)
DESCRIPTION:Join Ched for a 2-Day Leadership Embodiment Level 1 in Shenzhen\, China. This course will be led in Mandarin with English auxiliary. For a description of a Level 1\, please see our Public Courses page. For more information and to register\, please CLICK HERE.  \nDates: 4-5 July 2025 \n \nAsia
URL:https://leadershipembodiment.com/event/leadership-embodiment-level-1-with-ched-lee-mandarin-with-english-auxiliary-2/
LOCATION:Shenzhen Venue\, China
CATEGORIES:Asia
ORGANIZER;CN="Ched Lee":MAILTO:ched@chedlee.com
END:VEVENT
BEGIN:VEVENT
DTSTART;VALUE=DATE:20250628
DTEND;VALUE=DATE:20250630
DTSTAMP:20260424T104604
CREATED:20250212T193525Z
LAST-MODIFIED:20250212T193525Z
UID:10001153-1751068800-1751241599@leadershipembodiment.com
SUMMARY:Leadership Embodiment Level 1 with Ched Lee (Mandarin with English auxiliary)
DESCRIPTION:Join Ched for a 2-Day Leadership Embodiment Level 1 in Shanghai. This course will be led in Mandarin with English auxiliary. For a description of a Level 1\, please see our Public Courses page. For more information and to register\, please CLICK HERE.  \nDates: 28-29 June 2025 \n \nAsia
URL:https://leadershipembodiment.com/event/leadership-embodiment-level-1-with-ched-lee-mandarin-with-english-auxiliary/
LOCATION:Shanghai Venue\, Shanghai\, China
CATEGORIES:Asia
ORGANIZER;CN="Ched Lee":MAILTO:ched@chedlee.com
GEO:31.230416;121.473701
END:VEVENT
BEGIN:VEVENT
DTSTART;VALUE=DATE:20250325
DTEND;VALUE=DATE:20250327
DTSTAMP:20260424T104604
CREATED:20250115T153948Z
LAST-MODIFIED:20250212T184606Z
UID:10001150-1742860800-1743033599@leadershipembodiment.com
SUMMARY:Leadership Embodiment Level 1 with Ched Lee (in English)
DESCRIPTION:Join Ched for a 2-Day Leadership Embodiment Level 1 in Malaysia (Kuala Lumpur). See our Public Courses page for a description of a Leadership Embodiment Level 1. This course will be led in English. For more information or to register\, please CLICK HERE. \nDates: 25-26 March 2025  \n \nAsia
URL:https://leadershipembodiment.com/event/leadership-embodiment-level-1-with-ched-lee-in-english/
LOCATION:School of Mindfulness and Spinefulness\, Lightgrey Sungai Buloh\, Selangor\, 47000\, Malaysia
CATEGORIES:Asia
ORGANIZER;CN="Ched Lee":MAILTO:ched@chedlee.com
END:VEVENT
BEGIN:VEVENT
DTSTART;VALUE=DATE:20201005
DTEND;VALUE=DATE:20201118
DTSTAMP:20260424T104604
CREATED:20200527T192300Z
LAST-MODIFIED:20200527T192300Z
UID:10000406-1601856000-1605657599@leadershipembodiment.com
SUMMARY:LEAP + LIVE with Paul Ciske and Ched Lee - 6 Week Course
DESCRIPTION:LEAP + LIVE   REGISTER    INFORMATION\nPacific US > Mondays\, October 5 – November 17\nWeekly LIVE calls at 6pm-7:30pm \nSingapore> Tuesdays\, October 6 – November 18\nWeekly LIVE calls at 9am-10:30am \nLEAP: LE Online\, our interactive Learning Platform\n(Leadership Embodiment Accelerate Program)\n3 months subscription US$169\n+\nLIVE: Group Online training-coaching\n7 Weekly sessions US$385\nREGISTER    INFORMATION\nChange takes biological time and practice.\nPURPOSE:\nThis 6-week course is designed to: \n\nOptimise the advantages of the online learning experience\, so your body and mind are receptive to deeper benefit.\nFor beginners – Prime your body and mind for the benefits of our in-person Leadership Embodiment Fundamentals programme.\nFor those who have attended an in-person LE programme – Supports you to review\, practice and further integrate what you’ve learnt into your personal and professional life.\n\nLIVE: Group Online training-coaching\, small groups\, 7 Weekly sessions\nWith lead Instructors Paul Ciske and Ched Lee\nSCHEDULE\nKickoff / LIVE 1: Getting the most out of LEAP + LIVE\nLIVE 2: Inspiration\nLIVE 3: The Power of Centered Listening\nLIVE 4: The Shape of Speaking Up and Taking Action\nLIVE 5: Declaration\nLIVE 6: Where do you speak from?\nClosing / LIVE 7: Training with what’s real
URL:https://leadershipembodiment.com/event/leap-live-with-paul-ciske-and-ched-lee-7-week-course/
LOCATION:Online
CATEGORIES:Online
ATTACH;FMTTYPE=:
ORGANIZER;CN="Ched Lee":MAILTO:ched@chedlee.com
END:VEVENT
BEGIN:VEVENT
DTSTART;VALUE=DATE:20200611
DTEND;VALUE=DATE:20200613
DTSTAMP:20260424T104604
CREATED:20200128T171334Z
LAST-MODIFIED:20200128T171334Z
UID:10000381-1591833600-1592006399@leadershipembodiment.com
SUMMARY:Level 2 with Ched Lee
DESCRIPTION:Join Ched Lee for a 2-Day Level 2 in Singapore.  For a description of a Level 2\, please see our courses page. You must have completed a Level 1 before taking a Level 2. \nDates: 11-12 June 2020
URL:https://leadershipembodiment.com/event/level-2-with-ched-lee-2/
LOCATION:Singapore Venue\, Singapore
CATEGORIES:Asia
ATTACH;FMTTYPE=:
ORGANIZER;CN="Ched Lee":MAILTO:ched@chedlee.com
GEO:1.352083;103.819836
END:VEVENT
BEGIN:VEVENT
DTSTART;VALUE=DATE:20200516
DTEND;VALUE=DATE:20200518
DTSTAMP:20260424T104604
CREATED:20200109T215357Z
LAST-MODIFIED:20200109T215357Z
UID:10000378-1589587200-1589759999@leadershipembodiment.com
SUMMARY:Intro to LE: Patterns in Presence with Ched Lee (2 Dates)
DESCRIPTION:Join Ched Lee for the conference: Patterns in Presence: Embodying Leadership with Presence\, Confidence and Compassion in Kuala Lumpur\, Malaysia. Ched will be presenting on two different dates:  \nDate: 16 May 2020\nTime: 1:00pm-3:00pm \nAnd \nDate: 17 May 2020\nTime: 1:00pm-3:00pm \nFor more information\, please CLICK HERE.
URL:https://leadershipembodiment.com/event/patterns-in-presence-with-ched-lee-2-dates/
LOCATION:Universiti Tunku Abdul Rahman\, Utar Sungei Long\, Kuala Lumpur Campus\, Malaysia
CATEGORIES:Asia
ATTACH;FMTTYPE=:
ORGANIZER;CN="Ched Lee":MAILTO:ched@chedlee.com
END:VEVENT
BEGIN:VEVENT
DTSTART;VALUE=DATE:20200514
DTEND;VALUE=DATE:20200516
DTSTAMP:20260424T104604
CREATED:20200109T193958Z
LAST-MODIFIED:20200109T193958Z
UID:10000377-1589414400-1589587199@leadershipembodiment.com
SUMMARY:Level 1 with Ched Lee
DESCRIPTION:Join Ched for a 2-Day Level 1 Fundamentals in Kuala Lumpur\, Malaysia. For a description of a Level 1\, please see our courses page.  \nDates: 14-15 May 2020\nTimes: 9:00am – 5:30pm
URL:https://leadershipembodiment.com/event/level-1-with-ched-lee-16/
LOCATION:Kuala Lumpur Venue\, Kuala Lumpur\, Malaysia
CATEGORIES:Asia
ATTACH;FMTTYPE=:
ORGANIZER;CN="Ched Lee":MAILTO:ched@chedlee.com
END:VEVENT
BEGIN:VEVENT
DTSTART;VALUE=DATE:20200424
DTEND;VALUE=DATE:20200426
DTSTAMP:20260424T104604
CREATED:20200129T181629Z
LAST-MODIFIED:20200129T181629Z
UID:10000384-1587686400-1587859199@leadershipembodiment.com
SUMMARY:Level 1 with Ched Lee
DESCRIPTION:Join Ched for a 2-Day Level 1 in Shanghai. For a description of a Level 1\, please see our courses page.  \nDates: 24-25 April 2020
URL:https://leadershipembodiment.com/event/level-1-with-ched-lee-17/
LOCATION:Shanghai Venue\, Shanghai\, China
CATEGORIES:Asia
ATTACH;FMTTYPE=:
ORGANIZER;CN="Ched Lee":MAILTO:ched@chedlee.com
GEO:31.230416;121.473701
END:VEVENT
BEGIN:VEVENT
DTSTART;VALUE=DATE:20200417
DTEND;VALUE=DATE:20200419
DTSTAMP:20260424T104604
CREATED:20200109T192824Z
LAST-MODIFIED:20200109T192824Z
UID:10000376-1587081600-1587254399@leadershipembodiment.com
SUMMARY:Level 1 with Ched Lee
DESCRIPTION:Join Ched Lee for a 2-Day Level 1 Fundamentals in Singapore. For a description of a Level 1\, please see our courses page.  \nDates: 17-18 April 2020\nTimes: 9:00am – 5:30pm
URL:https://leadershipembodiment.com/event/level-1-with-ched-lee-15/
LOCATION:Singapore Venue\, Singapore
CATEGORIES:Asia
ATTACH;FMTTYPE=:
ORGANIZER;CN="Ched Lee":MAILTO:ched@chedlee.com
GEO:1.352083;103.819836
END:VEVENT
BEGIN:VEVENT
DTSTART;VALUE=DATE:20200314
DTEND;VALUE=DATE:20200316
DTSTAMP:20260424T104604
CREATED:20200109T184840Z
LAST-MODIFIED:20200109T184840Z
UID:10000375-1584144000-1584316799@leadershipembodiment.com
SUMMARY:Level 1 with Ched Lee
DESCRIPTION:Join Ched Lee for a 2-Day Level 1 Fundamentals in Singapore.  For a description of a Level 1\, please see our courses page.  \nDates: 14-15 March 2020\nTimes: 9:00am-5:30pm
URL:https://leadershipembodiment.com/event/level-1-with-ched-lee-14/
LOCATION:Singapore Venue\, Singapore
CATEGORIES:Asia
ATTACH;FMTTYPE=:
ORGANIZER;CN="Ched Lee":MAILTO:ched@chedlee.com
GEO:1.352083;103.819836
END:VEVENT
BEGIN:VEVENT
DTSTART;TZID=America/Los_Angeles:20200226T190000
DTEND;TZID=America/Los_Angeles:20200226T203000
DTSTAMP:20260424T104604
CREATED:20200109T182956Z
LAST-MODIFIED:20200109T182956Z
UID:10000374-1582743600-1582749000@leadershipembodiment.com
SUMMARY:Introduction to LE with Ched Lee: Patterns in Presence
DESCRIPTION:Join Ched Lee for an evening introduction to Leadership Embodiment: Patterns in Presence. \nDate: 26 February 2020\nTime: 7:00pm – 8:30pm
URL:https://leadershipembodiment.com/event/introduction-to-le-with-ched-lee-patterns-in-presence/
LOCATION:Singapore Venue\, Singapore
CATEGORIES:Asia
ATTACH;FMTTYPE=:
ORGANIZER;CN="Ched Lee":MAILTO:ched@chedlee.com
GEO:1.352083;103.819836
END:VEVENT
BEGIN:VEVENT
DTSTART;VALUE=DATE:20200220
DTEND;VALUE=DATE:20200222
DTSTAMP:20260424T104604
CREATED:20200109T181759Z
LAST-MODIFIED:20200109T181759Z
UID:10000372-1582156800-1582329599@leadershipembodiment.com
SUMMARY:Level 2 with Ched Lee
DESCRIPTION:Join Ched for a 2-Day Level 2 in Singapore. For a description of a Level 2 Intermediate\, please see our courses page. You must have completed a Level 1 before taking a Level 2.  \nDates: 20-21 February 2020\nTimes: 9:00am – 5:30pm
URL:https://leadershipembodiment.com/event/level-1-with-ched-lee-13/
LOCATION:Singapore Venue\, Singapore
CATEGORIES:Asia
ATTACH;FMTTYPE=:
ORGANIZER;CN="Ched Lee":MAILTO:ched@chedlee.com
GEO:1.352083;103.819836
END:VEVENT
BEGIN:VEVENT
DTSTART;VALUE=DATE:20200214
DTEND;VALUE=DATE:20200216
DTSTAMP:20260424T104604
CREATED:20200109T181542Z
LAST-MODIFIED:20200109T181542Z
UID:10000371-1581638400-1581811199@leadershipembodiment.com
SUMMARY:Level 1 with Ched Lee
DESCRIPTION:Join Ched for a 2-Day Level 1 in Singapore. For a description of a Level 1 Fundamentals\, please see our courses page.  \nDates: 14-15 February 2020\nTimes: 9:00am – 5:30pm
URL:https://leadershipembodiment.com/event/level-1-with-ched-lee-12/
LOCATION:Singapore Venue\, Singapore
CATEGORIES:Asia
ATTACH;FMTTYPE=:
ORGANIZER;CN="Ched Lee":MAILTO:ched@chedlee.com
GEO:1.352083;103.819836
END:VEVENT
BEGIN:VEVENT
DTSTART;TZID=America/Los_Angeles:20200131T190000
DTEND;TZID=America/Los_Angeles:20200131T203000
DTSTAMP:20260424T104604
CREATED:20200109T182348Z
LAST-MODIFIED:20200109T182348Z
UID:10000373-1580497200-1580502600@leadershipembodiment.com
SUMMARY:Intro to LE with Ched Lee: Patterns in Presence
DESCRIPTION:Join Ched Lee for an evening introduction to Leadership Embodiment: Patterns in Presence. \nDate: January 31\, 2020\nTime: 7:00pm – 8:30pm
URL:https://leadershipembodiment.com/event/intro-to-le-with-ched-lee-patterns-in-presence/
LOCATION:Singapore Venue\, Singapore
CATEGORIES:Asia
ATTACH;FMTTYPE=:
ORGANIZER;CN="Ched Lee":MAILTO:ched@chedlee.com
GEO:1.352083;103.819836
END:VEVENT
BEGIN:VEVENT
DTSTART;VALUE=DATE:20200116
DTEND;VALUE=DATE:20200118
DTSTAMP:20260424T104604
CREATED:20200109T181139Z
LAST-MODIFIED:20200109T181139Z
UID:10000370-1579132800-1579305599@leadershipembodiment.com
SUMMARY:Level 1 with Ched Lee
DESCRIPTION:Join Ched for a 2-Day Level 1 in Singapore. For a description of a Level 1 Fundamentals\, please see our courses page.  \nDates: 16-17 January 2020\nTimes: 9:00am – 5:30pm
URL:https://leadershipembodiment.com/event/level-1-with-ched-lee-11/
LOCATION:Singapore Venue\, Singapore
CATEGORIES:Asia
ATTACH;FMTTYPE=:
ORGANIZER;CN="Ched Lee":MAILTO:ched@chedlee.com
GEO:1.352083;103.819836
END:VEVENT
BEGIN:VEVENT
DTSTART;VALUE=DATE:20191213
DTEND;VALUE=DATE:20191215
DTSTAMP:20260424T104604
CREATED:20191028T201249Z
LAST-MODIFIED:20191028T201249Z
UID:10000347-1576195200-1576367999@leadershipembodiment.com
SUMMARY:Level 1 with Ched Lee
DESCRIPTION:Join Ched for a 2-Day Level 1 in Singapore. For a description of a Level 1\, please see our courses page.  \nDates: 13-14 December 2019
URL:https://leadershipembodiment.com/event/level-1-with-ched-lee-10/
LOCATION:Singapore Venue\, Singapore
CATEGORIES:Asia
ATTACH;FMTTYPE=:
ORGANIZER;CN="Ched Lee":MAILTO:ched@chedlee.com
GEO:1.352083;103.819836
END:VEVENT
BEGIN:VEVENT
DTSTART;TZID=Asia/Singapore:20191206T190000
DTEND;TZID=Asia/Singapore:20191206T203000
DTSTAMP:20260424T104604
CREATED:20191028T202826Z
LAST-MODIFIED:20191028T202826Z
UID:10000349-1575658800-1575664200@leadershipembodiment.com
SUMMARY:Practice-Play with Ched Lee
DESCRIPTION:Join Ched for an evening of Leadership Embodiment exercises.  This one night event is geared toward those who have participated in a Level 1 course.   \nDate: 6 December 2019\n7:00pm – 8:30 pm
URL:https://leadershipembodiment.com/event/practice-play-with-ched-lee/
LOCATION:Singapore Venue\, Singapore
CATEGORIES:Asia
ATTACH;FMTTYPE=:
ORGANIZER;CN="Ched Lee":MAILTO:ched@chedlee.com
GEO:1.352083;103.819836
END:VEVENT
BEGIN:VEVENT
DTSTART;VALUE=DATE:20191121
DTEND;VALUE=DATE:20191123
DTSTAMP:20260424T104604
CREATED:20191028T201001Z
LAST-MODIFIED:20191028T201001Z
UID:10000346-1574294400-1574467199@leadershipembodiment.com
SUMMARY:Level 1 with Ched Lee
DESCRIPTION:Join Ched for a 2-Day Level 1 in Singapore.  For a description of a Level 1\, please see our courses page.   \nDates: 21-22 November 2019
URL:https://leadershipembodiment.com/event/level-1-with-ched-lee-9/
LOCATION:Singapore Venue\, Singapore
CATEGORIES:Asia
ATTACH;FMTTYPE=:
ORGANIZER;CN="Ched Lee":MAILTO:ched@chedlee.com
GEO:1.352083;103.819836
END:VEVENT
BEGIN:VEVENT
DTSTART;VALUE=DATE:20191115
DTEND;VALUE=DATE:20191117
DTSTAMP:20260424T104604
CREATED:20190320T151509Z
LAST-MODIFIED:20190320T151509Z
UID:10000303-1573776000-1573948799@leadershipembodiment.com
SUMMARY:Level 2 with Ched Lee
DESCRIPTION:Join Ched for a 2-Day Level 2 in Singapore.  You must have completed a Level 1 before enrolling in a Level 2.  For a description of a Level 2\, please see our courses page.  \nDates: 15-16 November 2019
URL:https://leadershipembodiment.com/event/level-2-with-ched-lee/
LOCATION:Singapore Venue\, Singapore
CATEGORIES:Asia
ATTACH;FMTTYPE=:
ORGANIZER;CN="Ched Lee":MAILTO:ched@chedlee.com
GEO:1.352083;103.819836
END:VEVENT
BEGIN:VEVENT
DTSTART;TZID=America/Los_Angeles:20191029T190000
DTEND;TZID=America/Los_Angeles:20191029T203000
DTSTAMP:20260424T104604
CREATED:20191028T202148Z
LAST-MODIFIED:20191028T202148Z
UID:10000348-1572375600-1572381000@leadershipembodiment.com
SUMMARY:Patterns in Presence with Ched Lee
DESCRIPTION:Join Ched for an introduction to Leadership Embodiment principles and practices.  For more information\, please click here.  \nOctober 29\, 2019\n7:00 pm – 8:30 pm
URL:https://leadershipembodiment.com/event/patterns-in-presence-with-ched-lee/
LOCATION:Singapore Venue\, Singapore
CATEGORIES:Asia
ATTACH;FMTTYPE=:
ORGANIZER;CN="Ched Lee":MAILTO:ched@chedlee.com
GEO:1.352083;103.819836
END:VEVENT
BEGIN:VEVENT
DTSTART;VALUE=DATE:20191018
DTEND;VALUE=DATE:20191020
DTSTAMP:20260424T104604
CREATED:20190320T151128Z
LAST-MODIFIED:20190320T151128Z
UID:10000302-1571356800-1571529599@leadershipembodiment.com
SUMMARY:Level 1 with Ched Lee
DESCRIPTION:Join Ched for a 2-Day Level 1 in Singapore. For a description of a Level 1\, please see our courses page.   \nDates: 18-19 October 2019
URL:https://leadershipembodiment.com/event/level-1-with-ched-lee-8/
LOCATION:Singapore Venue\, Singapore
CATEGORIES:Asia
ATTACH;FMTTYPE=:
ORGANIZER;CN="Ched Lee":MAILTO:ched@chedlee.com
GEO:1.352083;103.819836
END:VEVENT
BEGIN:VEVENT
DTSTART;VALUE=DATE:20190927
DTEND;VALUE=DATE:20190929
DTSTAMP:20260424T104604
CREATED:20190320T144318Z
LAST-MODIFIED:20190320T144318Z
UID:10000301-1569542400-1569715199@leadershipembodiment.com
SUMMARY:Level 1 with Ched Lee
DESCRIPTION:Join Ched in Singapore for a 2-Day Level 1 course. For a description of a Level 1\, please see our courses page.  \nDates: 27-28 September 2019
URL:https://leadershipembodiment.com/event/level-1-with-ched-lee-7/
LOCATION:Singapore Venue\, Singapore
CATEGORIES:Asia
ATTACH;FMTTYPE=:
ORGANIZER;CN="Ched Lee":MAILTO:ched@chedlee.com
GEO:1.352083;103.819836
END:VEVENT
BEGIN:VEVENT
DTSTART;VALUE=DATE:20190628
DTEND;VALUE=DATE:20190630
DTSTAMP:20260424T104604
CREATED:20181203T143858Z
LAST-MODIFIED:20181203T143858Z
UID:10000283-1561680000-1561852799@leadershipembodiment.com
SUMMARY:Level 1 with Ched Lee
DESCRIPTION:Join Ched for a 2-Day Level 1 in Singapore.  For a description of a Level 1\, please see our courses page.   \nFor registration and more information\, see www.leadershipembodimentasia.com \nDates: 28-29 June 2019 (9am – 5pm)
URL:https://leadershipembodiment.com/event/level-1-with-ched-lee-6/
LOCATION:Singapore Venue\, Singapore
CATEGORIES:Asia
ATTACH;FMTTYPE=:
ORGANIZER;CN="Ched Lee":MAILTO:ched@chedlee.com
GEO:1.352083;103.819836
END:VEVENT
BEGIN:VEVENT
DTSTART;VALUE=DATE:20190524
DTEND;VALUE=DATE:20190526
DTSTAMP:20260424T104604
CREATED:20181203T143614Z
LAST-MODIFIED:20181203T143614Z
UID:10000282-1558656000-1558828799@leadershipembodiment.com
SUMMARY:Level 1 with Ched Lee
DESCRIPTION:Join Ched for a 2-Day Level 1 in Singapore.  For a description of a Level 1\, please see our courses page.   \nFor registration and more information\, see www.leadershipembodimentasia.com \nDates: 24-25 May 2019 (9am to 5pm)
URL:https://leadershipembodiment.com/event/level-1-with-ched-lee-5/
LOCATION:Singapore Venue\, Singapore
CATEGORIES:Asia
ATTACH;FMTTYPE=:
ORGANIZER;CN="Ched Lee":MAILTO:ched@chedlee.com
GEO:1.352083;103.819836
END:VEVENT
BEGIN:VEVENT
DTSTART;VALUE=DATE:20190426
DTEND;VALUE=DATE:20190428
DTSTAMP:20260424T104604
CREATED:20181203T143340Z
LAST-MODIFIED:20181203T143340Z
UID:10000281-1556236800-1556409599@leadershipembodiment.com
SUMMARY:Level 1 with Ched Lee
DESCRIPTION:Join Ched for a 2-Day Level 1 in Singapore.  For a description of a Level 1\, please see our courses page.   \nFor registration and more information\, see www.leadershipembodimentasia.com \nDates: 26-27 April 2019
URL:https://leadershipembodiment.com/event/level-1-with-ched-lee-4/
LOCATION:Singapore Venue\, Singapore
CATEGORIES:Asia
ATTACH;FMTTYPE=:
ORGANIZER;CN="Ched Lee":MAILTO:ched@chedlee.com
GEO:1.352083;103.819836
END:VEVENT
BEGIN:VEVENT
DTSTART;VALUE=DATE:20190223
DTEND;VALUE=DATE:20190225
DTSTAMP:20260424T104604
CREATED:20181203T142534Z
LAST-MODIFIED:20181203T142534Z
UID:10000746-1550880000-1551052799@leadershipembodiment.com
SUMMARY:Level 1 with Ched Lee
DESCRIPTION:Join Ched for a 2-Day Level 1 in Singapore.  For a description of a Level 1\, please see our courses page.   \nFor registration and more information\, see www.leadershipembodimentasia.com \nDates: 23-24 February 2019 (9am to 5pm)
URL:https://leadershipembodiment.com/event/level-1-with-ched-lee-2/
LOCATION:Singapore Venue\, Singapore
CATEGORIES:Asia
ATTACH;FMTTYPE=:
ORGANIZER;CN="Ched Lee":MAILTO:ched@chedlee.com
GEO:1.352083;103.819836
END:VEVENT
BEGIN:VEVENT
DTSTART;VALUE=DATE:20190126
DTEND;VALUE=DATE:20190128
DTSTAMP:20260424T104604
CREATED:20181203T142212Z
LAST-MODIFIED:20181203T142212Z
UID:10000745-1548460800-1548633599@leadershipembodiment.com
SUMMARY:Level 1 with Ched Lee
DESCRIPTION:Join Ched for a 2-Day Level 1 in Singapore.  For a description of a Level 1\, please see our courses page.   \nFor registration and more information\, see www.leadershipembodimentasia.com \nDates: 26-27 January 2019 (9am to 5pm)
URL:https://leadershipembodiment.com/event/level-1-with-ched-lee/
LOCATION:Singapore Venue\, Singapore
CATEGORIES:Asia
ATTACH;FMTTYPE=:
ORGANIZER;CN="Ched Lee":MAILTO:ched@chedlee.com
GEO:1.352083;103.819836
END:VEVENT
END:VCALENDAR