BEGIN:VCALENDAR
VERSION:2.0
PRODID:-//Leadership Embodiment - ECPv6.15.20//NONSGML v1.0//EN
CALSCALE:GREGORIAN
METHOD:PUBLISH
X-ORIGINAL-URL:https://leadershipembodiment.com
X-WR-CALDESC:Events for Leadership Embodiment
REFRESH-INTERVAL;VALUE=DURATION:PT1H
X-Robots-Tag:noindex
X-PUBLISHED-TTL:PT1H
BEGIN:VTIMEZONE
TZID:America/New_York
BEGIN:DAYLIGHT
TZOFFSETFROM:-0500
TZOFFSETTO:-0400
TZNAME:EDT
DTSTART:20180311T070000
END:DAYLIGHT
BEGIN:STANDARD
TZOFFSETFROM:-0400
TZOFFSETTO:-0500
TZNAME:EST
DTSTART:20181104T060000
END:STANDARD
BEGIN:DAYLIGHT
TZOFFSETFROM:-0500
TZOFFSETTO:-0400
TZNAME:EDT
DTSTART:20190310T070000
END:DAYLIGHT
BEGIN:STANDARD
TZOFFSETFROM:-0400
TZOFFSETTO:-0500
TZNAME:EST
DTSTART:20191103T060000
END:STANDARD
BEGIN:DAYLIGHT
TZOFFSETFROM:-0500
TZOFFSETTO:-0400
TZNAME:EDT
DTSTART:20200308T070000
END:DAYLIGHT
BEGIN:STANDARD
TZOFFSETFROM:-0400
TZOFFSETTO:-0500
TZNAME:EST
DTSTART:20201101T060000
END:STANDARD
END:VTIMEZONE
BEGIN:VTIMEZONE
TZID:America/Los_Angeles
BEGIN:DAYLIGHT
TZOFFSETFROM:-0800
TZOFFSETTO:-0700
TZNAME:PDT
DTSTART:20150308T100000
END:DAYLIGHT
BEGIN:STANDARD
TZOFFSETFROM:-0700
TZOFFSETTO:-0800
TZNAME:PST
DTSTART:20151101T090000
END:STANDARD
BEGIN:DAYLIGHT
TZOFFSETFROM:-0800
TZOFFSETTO:-0700
TZNAME:PDT
DTSTART:20160313T100000
END:DAYLIGHT
BEGIN:STANDARD
TZOFFSETFROM:-0700
TZOFFSETTO:-0800
TZNAME:PST
DTSTART:20161106T090000
END:STANDARD
BEGIN:DAYLIGHT
TZOFFSETFROM:-0800
TZOFFSETTO:-0700
TZNAME:PDT
DTSTART:20170312T100000
END:DAYLIGHT
BEGIN:STANDARD
TZOFFSETFROM:-0700
TZOFFSETTO:-0800
TZNAME:PST
DTSTART:20171105T090000
END:STANDARD
BEGIN:DAYLIGHT
TZOFFSETFROM:-0800
TZOFFSETTO:-0700
TZNAME:PDT
DTSTART:20180311T100000
END:DAYLIGHT
BEGIN:STANDARD
TZOFFSETFROM:-0700
TZOFFSETTO:-0800
TZNAME:PST
DTSTART:20181104T090000
END:STANDARD
END:VTIMEZONE
BEGIN:VEVENT
DTSTART;TZID=America/New_York:20190615T093000
DTEND;TZID=America/New_York:20190615T163000
DTSTAMP:20260425T163350
CREATED:20190315T162906Z
LAST-MODIFIED:20190315T162906Z
UID:10000300-1560591000-1560616200@leadershipembodiment.com
SUMMARY:Women Together Spring Series with Wendy Palmer & Others
DESCRIPTION:Join Wendy Palmer and others for a one-day event offered by the Eileen Fisher Learning Lab in Irvington\, New York.  Experience it by live-streaming online or attending in person.  For more information or to register\, please click here.   \nDate: June 15\, 2019\nTime: 9:30am-4:30pm ET
URL:https://leadershipembodiment.com/event/women-together-spring-series-with-wendy-palmer-others/
LOCATION:EILEEN FISHER LIFEWORK\, 50 SOUTH BUCKHOUT STREET\, #102\, IRVINGTON\, NY\, 10533\, United States
CATEGORIES:North America
ATTACH;FMTTYPE=:
ORGANIZER;CN="Eileen Fisher Learning Lab":MAILTO:customerservice@eileenfisherlearninglab.com
GEO:41.0374066;-73.8727329
X-APPLE-STRUCTURED-LOCATION;VALUE=URI;X-ADDRESS=EILEEN FISHER LIFEWORK 50 SOUTH BUCKHOUT STREET #102 IRVINGTON NY 10533 United States;X-APPLE-RADIUS=500;X-TITLE=50 SOUTH BUCKHOUT STREET\, #102:geo:-73.8727329,41.0374066
END:VEVENT
BEGIN:VEVENT
DTSTART;VALUE=DATE:20170428
DTEND;VALUE=DATE:20170430
DTSTAMP:20260425T163350
CREATED:20170221T161836Z
LAST-MODIFIED:20170221T161836Z
UID:10000621-1493337600-1493510399@leadershipembodiment.com
SUMMARY:Level 2 with Wendy Palmer
DESCRIPTION:Join Wendy Palmer for a 2-Day Level 2 at the Eileen Fisher Learning Lab in Irvington\, NY.  You must have completed a Level 1 before enrolling in a Level 2.  For a description of a Level 2\, please see our courses page.  \nGRACE UNDER PRESSURE:\nLeadership Embodiment Level 2 \nFriday April 28 – Saturday April 29\, 2017 \n9:30am–5:30pm \nA note from Wendy:\nDear Friends\,\nI am delighted to be offering Leadership Embodiment Level 2 at the Eileen Fisher Learning Lab in Irvington\, New York\, this spring. The Learning Lab is a beautiful\, welcoming space overlooking the Hudson River where I very much enjoy teaching. \nThis is the only time I will be personally teaching Level 2 in 2017. \nBuilding on the foundation of Level 1\, the Intermediate Level 2 course offers you an opportunity to deepen your awareness and explore your patterns and centering practice in a variety of situations. \nThe Intermediate Level 2 course will introduce you to:\n* Working with the wooden practice sword to raise energy and increase your capacity for positive power\, especially when Speaking Up\n* Working with greater inspiration to address challenges with more ease\n* Aligning your body and speech to become more effective at influencing the environment\n* Learn ways to work with the challenge of visibility and success \nI hope that you are inspired to continue to develop your skills and fully express your potential in the world. \n— Wendy   \nFor more information and to register\, please click here.
URL:https://leadershipembodiment.com/event/level-2-with-wendy-palmer/
LOCATION:EILEEN FISHER LIFEWORK\, 50 SOUTH BUCKHOUT STREET\, #102\, IRVINGTON\, NY\, 10533\, United States
CATEGORIES:North America
ATTACH;FMTTYPE=:
ORGANIZER;CN="Eileen Fisher Learning Lab":MAILTO:customerservice@eileenfisherlearninglab.com
GEO:41.0374066;-73.8727329
X-APPLE-STRUCTURED-LOCATION;VALUE=URI;X-ADDRESS=EILEEN FISHER LIFEWORK 50 SOUTH BUCKHOUT STREET #102 IRVINGTON NY 10533 United States;X-APPLE-RADIUS=500;X-TITLE=50 SOUTH BUCKHOUT STREET\, #102:geo:-73.8727329,41.0374066
END:VEVENT
BEGIN:VEVENT
DTSTART;VALUE=DATE:20161203
DTEND;VALUE=DATE:20161205
DTSTAMP:20260425T163350
CREATED:20160816T185348Z
LAST-MODIFIED:20160816T185348Z
UID:10000585-1480723200-1480895999@leadershipembodiment.com
SUMMARY:Level 1 with Wendy Palmer
DESCRIPTION:Join Wendy Palmer for a 2-Day Level 1\, Grace Under Pressure\, in Irvington\, New York.  For a description of a Level 1\, please see our courses page. \nFor more information and to register\, please click here.  \n  \nLocation: Eileen Fisher Learning Lab\, 50 South Buckhout Street\, Irvington\, New York
URL:https://leadershipembodiment.com/event/level-1-with-wendy-palmer-2/
LOCATION:EILEEN FISHER LIFEWORK\, 50 SOUTH BUCKHOUT STREET\, #102\, IRVINGTON\, NY\, 10533\, United States
CATEGORIES:North America
ATTACH;FMTTYPE=:
ORGANIZER;CN="Eileen Fisher Learning Lab":MAILTO:customerservice@eileenfisherlearninglab.com
GEO:41.0374066;-73.8727329
X-APPLE-STRUCTURED-LOCATION;VALUE=URI;X-ADDRESS=EILEEN FISHER LIFEWORK 50 SOUTH BUCKHOUT STREET #102 IRVINGTON NY 10533 United States;X-APPLE-RADIUS=500;X-TITLE=50 SOUTH BUCKHOUT STREET\, #102:geo:-73.8727329,41.0374066
END:VEVENT
END:VCALENDAR