BEGIN:VCALENDAR
VERSION:2.0
PRODID:-//Leadership Embodiment - ECPv6.15.20//NONSGML v1.0//EN
CALSCALE:GREGORIAN
METHOD:PUBLISH
X-ORIGINAL-URL:https://leadershipembodiment.com
X-WR-CALDESC:Events for Leadership Embodiment
REFRESH-INTERVAL;VALUE=DURATION:PT1H
X-Robots-Tag:noindex
X-PUBLISHED-TTL:PT1H
BEGIN:VTIMEZONE
TZID:America/Los_Angeles
BEGIN:DAYLIGHT
TZOFFSETFROM:-0800
TZOFFSETTO:-0700
TZNAME:PDT
DTSTART:20170312T100000
END:DAYLIGHT
BEGIN:STANDARD
TZOFFSETFROM:-0700
TZOFFSETTO:-0800
TZNAME:PST
DTSTART:20171105T090000
END:STANDARD
BEGIN:DAYLIGHT
TZOFFSETFROM:-0800
TZOFFSETTO:-0700
TZNAME:PDT
DTSTART:20180311T100000
END:DAYLIGHT
BEGIN:STANDARD
TZOFFSETFROM:-0700
TZOFFSETTO:-0800
TZNAME:PST
DTSTART:20181104T090000
END:STANDARD
BEGIN:DAYLIGHT
TZOFFSETFROM:-0800
TZOFFSETTO:-0700
TZNAME:PDT
DTSTART:20190310T100000
END:DAYLIGHT
BEGIN:STANDARD
TZOFFSETFROM:-0700
TZOFFSETTO:-0800
TZNAME:PST
DTSTART:20191103T090000
END:STANDARD
BEGIN:DAYLIGHT
TZOFFSETFROM:-0800
TZOFFSETTO:-0700
TZNAME:PDT
DTSTART:20200308T100000
END:DAYLIGHT
BEGIN:STANDARD
TZOFFSETFROM:-0700
TZOFFSETTO:-0800
TZNAME:PST
DTSTART:20201101T090000
END:STANDARD
END:VTIMEZONE
BEGIN:VEVENT
DTSTART;VALUE=DATE:20190511
DTEND;VALUE=DATE:20190513
DTSTAMP:20260424T000107
CREATED:20181123T163652Z
LAST-MODIFIED:20181123T163652Z
UID:10000278-1557532800-1557705599@leadershipembodiment.com
SUMMARY:Level 1 with Olivia Cheever and Elizabeth Valentine
DESCRIPTION:Join Olivia & Elizabeth for a 2-Day Level 1 in Westwood\, MA.  For a description of a Level 1\, please see our courses page.  \nDates: 11-12 May 2019
URL:https://leadershipembodiment.com/event/level-1-with-olivia-cheever-and-elizabeth-valentine-5/
LOCATION:Center at Westwoods\, 590 Gay Street\, Westwood\, MA\, 02090\, United States
CATEGORIES:North America
ATTACH;FMTTYPE=:
ORGANIZER;CN="Elizabeth Valentine & Olivia Cheever":MAILTO:valentine.ev@gmail.com
GEO:42.2219368;-71.1962182
X-APPLE-STRUCTURED-LOCATION;VALUE=URI;X-ADDRESS=Center at Westwoods 590 Gay Street Westwood MA 02090 United States;X-APPLE-RADIUS=500;X-TITLE=590 Gay Street:geo:-71.1962182,42.2219368
END:VEVENT
BEGIN:VEVENT
DTSTART;VALUE=DATE:20190309
DTEND;VALUE=DATE:20190311
DTSTAMP:20260424T000107
CREATED:20181123T163424Z
LAST-MODIFIED:20181123T163424Z
UID:10000744-1552089600-1552262399@leadershipembodiment.com
SUMMARY:Level 1 with Olivia Cheever and Elizabeth Valentine
DESCRIPTION:Join Olivia & Elizabeth for a 2-Day Level 1 in Westwood\, MA.  For a description of a Level 1\, please see our courses page.  \nDates: 9-10 March 2019
URL:https://leadershipembodiment.com/event/level-1-with-olivia-cheever-and-elizabeth-valentine-4/
LOCATION:Center at Westwoods\, 590 Gay Street\, Westwood\, MA\, 02090\, United States
CATEGORIES:North America
ATTACH;FMTTYPE=:
ORGANIZER;CN="Elizabeth Valentine & Olivia Cheever":MAILTO:valentine.ev@gmail.com
GEO:42.2219368;-71.1962182
X-APPLE-STRUCTURED-LOCATION;VALUE=URI;X-ADDRESS=Center at Westwoods 590 Gay Street Westwood MA 02090 United States;X-APPLE-RADIUS=500;X-TITLE=590 Gay Street:geo:-71.1962182,42.2219368
END:VEVENT
BEGIN:VEVENT
DTSTART;VALUE=DATE:20180929
DTEND;VALUE=DATE:20181001
DTSTAMP:20260424T000107
CREATED:20180511T195240Z
LAST-MODIFIED:20180511T195240Z
UID:10000706-1538179200-1538351999@leadershipembodiment.com
SUMMARY:Level 1 with Elizabeth Valentine & Olivia Cheever
DESCRIPTION:Join Elizabeth and Olivia for a 2-day Level 1 in Westwood\, Massachusetts.  For a description of a Level 1\, please see our courses page.   \nDates: 29-30 September 2018
URL:https://leadershipembodiment.com/event/level-1-with-elizabeth-valentine-olivia-cheever/
LOCATION:The Center at Westwoods\, 590 Gay Street\, Westwood\, MA\, 02090\, United States
CATEGORIES:North America
ATTACH;FMTTYPE=:
ORGANIZER;CN="Elizabeth Valentine & Olivia Cheever":MAILTO:valentine.ev@gmail.com
GEO:42.2218815;-71.1965959
X-APPLE-STRUCTURED-LOCATION;VALUE=URI;X-ADDRESS=The Center at Westwoods 590 Gay Street Westwood MA 02090 United States;X-APPLE-RADIUS=500;X-TITLE=590 Gay Street:geo:-71.1965959,42.2218815
END:VEVENT
BEGIN:VEVENT
DTSTART;VALUE=DATE:20180428
DTEND;VALUE=DATE:20180430
DTSTAMP:20260424T000107
CREATED:20171006T190805Z
LAST-MODIFIED:20171006T190805Z
UID:10000665-1524873600-1525046399@leadershipembodiment.com
SUMMARY:Level 1 with Olivia Cheever and Elizabeth Valentine
DESCRIPTION:Please join Olivia Cheever and Elizabeth Valentine for a 2-day Level 1 workshop in Westwood\, MA. For a description of Level 1\, please see our courses page.  For more information\, please see click here. \nDates: 28-29 April 2018
URL:https://leadershipembodiment.com/event/level-1-with-olivia-cheever-and-elizabeth-valentine-3/
LOCATION:The Center at Westwoods\, 590 Gay Street\, Westwood\, MA\, 02090\, United States
ATTACH;FMTTYPE=:
ORGANIZER;CN="Elizabeth Valentine & Olivia Cheever":MAILTO:valentine.ev@gmail.com
GEO:42.2218815;-71.1965959
X-APPLE-STRUCTURED-LOCATION;VALUE=URI;X-ADDRESS=The Center at Westwoods 590 Gay Street Westwood MA 02090 United States;X-APPLE-RADIUS=500;X-TITLE=590 Gay Street:geo:-71.1965959,42.2218815
END:VEVENT
BEGIN:VEVENT
DTSTART;VALUE=DATE:20180210
DTEND;VALUE=DATE:20180212
DTSTAMP:20260424T000107
CREATED:20171006T190032Z
LAST-MODIFIED:20171006T190032Z
UID:10000664-1518220800-1518393599@leadershipembodiment.com
SUMMARY:Level 1 with Olivia Cheever and Elizabeth Valentine
DESCRIPTION:Please join Olivia Cheever and Elizabeth Valentine for a 2-day Level 1 workshop in Westwood\, MA. For a description of Level 1\, please see our courses page.  For more information\, please see this flyer. \nDates: 10-11 February 2018
URL:https://leadershipembodiment.com/event/level-1-with-olivia-cheever-and-elizabeth-valentine-2/
LOCATION:The Center at Westwoods\, 590 Gay Street\, Westwood\, MA\, 02090\, United States
CATEGORIES:North America
ATTACH;FMTTYPE=:
ORGANIZER;CN="Elizabeth Valentine & Olivia Cheever":MAILTO:valentine.ev@gmail.com
GEO:42.2218815;-71.1965959
X-APPLE-STRUCTURED-LOCATION;VALUE=URI;X-ADDRESS=The Center at Westwoods 590 Gay Street Westwood MA 02090 United States;X-APPLE-RADIUS=500;X-TITLE=590 Gay Street:geo:-71.1965959,42.2218815
END:VEVENT
END:VCALENDAR