BEGIN:VCALENDAR
VERSION:2.0
PRODID:-//Leadership Embodiment - ECPv6.15.20//NONSGML v1.0//EN
CALSCALE:GREGORIAN
METHOD:PUBLISH
X-WR-CALNAME:Leadership Embodiment
X-ORIGINAL-URL:https://leadershipembodiment.com
X-WR-CALDESC:Events for Leadership Embodiment
REFRESH-INTERVAL;VALUE=DURATION:PT1H
X-Robots-Tag:noindex
X-PUBLISHED-TTL:PT1H
BEGIN:VTIMEZONE
TZID:America/Los_Angeles
BEGIN:DAYLIGHT
TZOFFSETFROM:-0800
TZOFFSETTO:-0700
TZNAME:PDT
DTSTART:20200308T100000
END:DAYLIGHT
BEGIN:STANDARD
TZOFFSETFROM:-0700
TZOFFSETTO:-0800
TZNAME:PST
DTSTART:20201101T090000
END:STANDARD
BEGIN:DAYLIGHT
TZOFFSETFROM:-0800
TZOFFSETTO:-0700
TZNAME:PDT
DTSTART:20210314T100000
END:DAYLIGHT
BEGIN:STANDARD
TZOFFSETFROM:-0700
TZOFFSETTO:-0800
TZNAME:PST
DTSTART:20211107T090000
END:STANDARD
BEGIN:DAYLIGHT
TZOFFSETFROM:-0800
TZOFFSETTO:-0700
TZNAME:PDT
DTSTART:20220313T100000
END:DAYLIGHT
BEGIN:STANDARD
TZOFFSETFROM:-0700
TZOFFSETTO:-0800
TZNAME:PST
DTSTART:20221106T090000
END:STANDARD
END:VTIMEZONE
BEGIN:VEVENT
DTSTART;VALUE=DATE:20210223
DTEND;VALUE=DATE:20210227
DTSTAMP:20260424T082538
CREATED:20201203T220142Z
LAST-MODIFIED:20201203T220142Z
UID:10000426-1614038400-1614383999@leadershipembodiment.com
SUMMARY:ICF Romania Online Conference with Wendy Palmer
DESCRIPTION:Wendy Palmer is a featured speaker at the ICF Romania Online Conference: Visions and Perspectives from Future to Present. \nSpeakers at the ICF Romania Annual Conference will uncover a variety of visions and perspectives from the future towards present: \n\nWhat are the skills that we need to learn now\, to be prepared for the future?\nHow do we transform global change into an opportunity to reinvent ourselves?\nHow can we live in the unknown together?\nWhat is coming from over the horizon?\n\nDates: February 23rd – 26th\, 2021\nWendy Palmer: February 25th\, 6:00pm \nPlease CLICK HERE for more information or to register.
URL:https://leadershipembodiment.com/event/icf-romania-conference-with-wendy-palmer/
LOCATION:Online
CATEGORIES:North America,Asia,Europe,Online,South Africa
ATTACH;FMTTYPE=:
ORGANIZER;CN="ICF Romania":MAILTO:partners@coachfederation.ro
END:VEVENT
END:VCALENDAR