BEGIN:VCALENDAR
VERSION:2.0
PRODID:-//Leadership Embodiment - ECPv6.15.20//NONSGML v1.0//EN
CALSCALE:GREGORIAN
METHOD:PUBLISH
X-ORIGINAL-URL:https://leadershipembodiment.com
X-WR-CALDESC:Events for Leadership Embodiment
REFRESH-INTERVAL;VALUE=DURATION:PT1H
X-Robots-Tag:noindex
X-PUBLISHED-TTL:PT1H
BEGIN:VTIMEZONE
TZID:America/Los_Angeles
BEGIN:DAYLIGHT
TZOFFSETFROM:-0800
TZOFFSETTO:-0700
TZNAME:PDT
DTSTART:20170312T100000
END:DAYLIGHT
BEGIN:STANDARD
TZOFFSETFROM:-0700
TZOFFSETTO:-0800
TZNAME:PST
DTSTART:20171105T090000
END:STANDARD
BEGIN:DAYLIGHT
TZOFFSETFROM:-0800
TZOFFSETTO:-0700
TZNAME:PDT
DTSTART:20180311T100000
END:DAYLIGHT
BEGIN:STANDARD
TZOFFSETFROM:-0700
TZOFFSETTO:-0800
TZNAME:PST
DTSTART:20181104T090000
END:STANDARD
BEGIN:DAYLIGHT
TZOFFSETFROM:-0800
TZOFFSETTO:-0700
TZNAME:PDT
DTSTART:20190310T100000
END:DAYLIGHT
BEGIN:STANDARD
TZOFFSETFROM:-0700
TZOFFSETTO:-0800
TZNAME:PST
DTSTART:20191103T090000
END:STANDARD
BEGIN:DAYLIGHT
TZOFFSETFROM:-0800
TZOFFSETTO:-0700
TZNAME:PDT
DTSTART:20200308T100000
END:DAYLIGHT
BEGIN:STANDARD
TZOFFSETFROM:-0700
TZOFFSETTO:-0800
TZNAME:PST
DTSTART:20201101T090000
END:STANDARD
END:VTIMEZONE
BEGIN:VTIMEZONE
TZID:UTC
BEGIN:STANDARD
TZOFFSETFROM:+0000
TZOFFSETTO:+0000
TZNAME:UTC
DTSTART:20130101T000000
END:STANDARD
END:VTIMEZONE
BEGIN:VEVENT
DTSTART;VALUE=DATE:20190912
DTEND;VALUE=DATE:20190914
DTSTAMP:20260424T012026
CREATED:20190419T161945Z
LAST-MODIFIED:20190419T161945Z
UID:10000308-1568246400-1568419199@leadershipembodiment.com
SUMMARY:Level 1 with Julia Bonadei
DESCRIPTION:Join Julia for a 2-Day Level 1 in Johannesburg.  For a description of a Level 1\, please see our courses page.  For more information or to register\, please click here.  \nDates: 12-13 September 2019
URL:https://leadershipembodiment.com/event/level-1-with-julia-bonadei-4/
LOCATION:Living  Essence Coaching and Mindfulness\, 17 Cambridge Ave\, Craighall Park\, Johannesburg\, South Africa
CATEGORIES:South Africa
ATTACH;FMTTYPE=:
ORGANIZER;CN="Julia Bonadei":MAILTO:julia@wideopenspaces.co.za
END:VEVENT
BEGIN:VEVENT
DTSTART;VALUE=DATE:20190618
DTEND;VALUE=DATE:20190620
DTSTAMP:20260424T012026
CREATED:20190419T161349Z
LAST-MODIFIED:20190419T161349Z
UID:10000307-1560816000-1560988799@leadershipembodiment.com
SUMMARY:Level 1 with Julia Bonadei
DESCRIPTION:Join Julia for a 2-Day Level 1 in Johannesburg.  For a description of a Level 1\, please see our courses page.  For more information or to register\, please click here.  \nDates: 18-19 June 2019
URL:https://leadershipembodiment.com/event/level-1-with-julia-bonadei-3/
LOCATION:Living  Essence Coaching and Mindfulness\, 17 Cambridge Ave\, Craighall Park\, Johannesburg\, South Africa
CATEGORIES:South Africa
ATTACH;FMTTYPE=:
ORGANIZER;CN="Julia Bonadei":MAILTO:julia@wideopenspaces.co.za
END:VEVENT
BEGIN:VEVENT
DTSTART;VALUE=DATE:20181018
DTEND;VALUE=DATE:20181020
DTSTAMP:20260424T012026
CREATED:20180820T124224Z
LAST-MODIFIED:20180820T124224Z
UID:10000730-1539820800-1539993599@leadershipembodiment.com
SUMMARY:Level 1 with Julia Bonadei
DESCRIPTION:Join Julia for a 2-Day Level 1 in Johannesburg.  For a description of a Level 1\, review our courses page. For more information\, please see Johannesburg Level 1. \nDates: 18-19 October 2018
URL:https://leadershipembodiment.com/event/level-1-with-julia-bonadei-2/
LOCATION:Campbell House\, 2 Campbell St\, Johannesburg\, 2090\, South Africa
CATEGORIES:South Africa
ATTACH;FMTTYPE=:
ORGANIZER;CN="Julia Bonadei":MAILTO:julia@wideopenspaces.co.za
END:VEVENT
BEGIN:VEVENT
DTSTART;TZID=America/Los_Angeles:20180810T080000
DTEND;TZID=America/Los_Angeles:20180810T170000
DTSTAMP:20260424T012026
CREATED:20180810T200748Z
LAST-MODIFIED:20180810T200748Z
UID:10000725-1533888000-1533920400@leadershipembodiment.com
SUMMARY:Level 1 with Julia Bonadei
DESCRIPTION:Join Julia Bonadei in Johannesburg for a 2 day Level 1. For a description of a Level 1\, please see our courses page. For more information including pricing and registration\, please LE Level 1_Jhb_18-19 October 2018. An early bird discount is offered if booked and paid for by 21 September 2018. \nDates: 18-29 October 2018
URL:https://leadershipembodiment.com/event/level-1-with-julia-bonadei/
LOCATION:Campbell House\, 2 Campbell St\, Johannesburg\, 2090\, South Africa
CATEGORIES:South Africa
ATTACH;FMTTYPE=:
ORGANIZER;CN="Julia Bonadei":MAILTO:julia@wideopenspaces.co.za
END:VEVENT
BEGIN:VEVENT
DTSTART;VALUE=DATE:20141029
DTEND;VALUE=DATE:20141031
DTSTAMP:20260424T012026
CREATED:20140911T180508Z
LAST-MODIFIED:20140911T180508Z
UID:10000855-1414540800-1414713599@leadershipembodiment.com
SUMMARY:Level 1 with Julia Bonadei-Thorns
DESCRIPTION:Join Julia Bonadei-Thorns in Makaranga\, Kloof for a two-day Level 1 course in Leadership Embodiment.
URL:https://leadershipembodiment.com/event/level-1-with-julia-bonadei-thorns/
LOCATION:Makaranga\, Kloof\, Makaranga\, Kloof\, South Africa
CATEGORIES:South Africa
ORGANIZER;CN="Julia Bonadei":MAILTO:julia@wideopenspaces.co.za
END:VEVENT
END:VCALENDAR