BEGIN:VCALENDAR
VERSION:2.0
PRODID:-//Leadership Embodiment - ECPv6.15.20//NONSGML v1.0//EN
CALSCALE:GREGORIAN
METHOD:PUBLISH
X-WR-CALNAME:Leadership Embodiment
X-ORIGINAL-URL:https://leadershipembodiment.com
X-WR-CALDESC:Events for Leadership Embodiment
REFRESH-INTERVAL;VALUE=DURATION:PT1H
X-Robots-Tag:noindex
X-PUBLISHED-TTL:PT1H
BEGIN:VTIMEZONE
TZID:America/Los_Angeles
BEGIN:DAYLIGHT
TZOFFSETFROM:-0800
TZOFFSETTO:-0700
TZNAME:PDT
DTSTART:20160313T100000
END:DAYLIGHT
BEGIN:STANDARD
TZOFFSETFROM:-0700
TZOFFSETTO:-0800
TZNAME:PST
DTSTART:20161106T090000
END:STANDARD
BEGIN:DAYLIGHT
TZOFFSETFROM:-0800
TZOFFSETTO:-0700
TZNAME:PDT
DTSTART:20170312T100000
END:DAYLIGHT
BEGIN:STANDARD
TZOFFSETFROM:-0700
TZOFFSETTO:-0800
TZNAME:PST
DTSTART:20171105T090000
END:STANDARD
BEGIN:DAYLIGHT
TZOFFSETFROM:-0800
TZOFFSETTO:-0700
TZNAME:PDT
DTSTART:20180311T100000
END:DAYLIGHT
BEGIN:STANDARD
TZOFFSETFROM:-0700
TZOFFSETTO:-0800
TZNAME:PST
DTSTART:20181104T090000
END:STANDARD
BEGIN:DAYLIGHT
TZOFFSETFROM:-0800
TZOFFSETTO:-0700
TZNAME:PDT
DTSTART:20190310T100000
END:DAYLIGHT
BEGIN:STANDARD
TZOFFSETFROM:-0700
TZOFFSETTO:-0800
TZNAME:PST
DTSTART:20191103T090000
END:STANDARD
BEGIN:DAYLIGHT
TZOFFSETFROM:-0800
TZOFFSETTO:-0700
TZNAME:PDT
DTSTART:20200308T100000
END:DAYLIGHT
BEGIN:STANDARD
TZOFFSETFROM:-0700
TZOFFSETTO:-0800
TZNAME:PST
DTSTART:20201101T090000
END:STANDARD
END:VTIMEZONE
BEGIN:VEVENT
DTSTART;VALUE=DATE:20191207
DTEND;VALUE=DATE:20191209
DTSTAMP:20260424T170238
CREATED:20190612T164513Z
LAST-MODIFIED:20190612T164513Z
UID:10000317-1575676800-1575849599@leadershipembodiment.com
SUMMARY:Level 2 with Paul Ciske
DESCRIPTION:Join Paul Ciske for a 2-Day Level 2 in Oakland\, California (near Lake Merritt).  You must have completed a Level 1 before enrolling in a Level 2.  For a description of a Level 2\, please see our courses page.   \nLevel 2 Information:\nDates: December 7-8\, 2019\nTimes: 9:30am – 5:00pm \nInvestment:\nEarly registration cost: $550 until November 30th ($100 non-refundable* deposit to hold your space)\nLater registration cost: $600 after November 30th  \nPayment:\nPaypal to: paul@paulciske.com (please use “friends and family”)\nCheck – please mail check to:\nPaul Ciske\n351 Santa Clara Ave\nOakland\, CA 94610 \nPlease email all inquiries to paul@paulciske.com\nwith the subject heading of: \nLE Level 2 OAKLAND  in December \n*Under extenuating circumstances deposit may be applied to a future class
URL:https://leadershipembodiment.com/event/level-2-with-paul-ciske-2/
LOCATION:Your Well-Being\, Oakland\, CA\, United States
CATEGORIES:North America
ATTACH;FMTTYPE=:
ORGANIZER;CN="Paul Ciske":MAILTO:paulciske@sbcglobal.net
END:VEVENT
BEGIN:VEVENT
DTSTART;VALUE=DATE:20191005
DTEND;VALUE=DATE:20191007
DTSTAMP:20260424T170238
CREATED:20190612T164008Z
LAST-MODIFIED:20190612T164008Z
UID:10000316-1570233600-1570406399@leadershipembodiment.com
SUMMARY:Level 1 with Paul Ciske
DESCRIPTION:Join Paul Ciske for a 2-Day Level 1 in Oakland\, California (near Lake Merritt).  For a description of a Level 1\, please see our courses page.   \nLevel 1 Information:\nDates: October 5-6\, 2019\nTimes: 9:30am – 5:00pm \nInvestment:\nEarly registration cost: $450 until September 28th ($100 non-refundable* deposit to hold your space)\nLater registration cost: $500 after September 28th\nPackage with Level 2 with Paul Ciske: $900 – SAVES $100 ($200 non-refundable* deposit to hold your space) \nPayment:\nPaypal to: paul@paulciske.com (please use “friends and family”)\nCheck – please mail check to:\nPaul Ciske\n351 Santa Clara Ave\nOakland\, CA 94610 \nPlease email all inquiries to paul@paulciske.com\nwith the subject heading of: \nLE Level 1 OAKLAND  in October \n*Under extenuating circumstances deposit may be applied to a future class
URL:https://leadershipembodiment.com/event/level-1-with-paul-ciske-3/
LOCATION:Your Well-Being\, Oakland\, CA\, United States
CATEGORIES:North America
ATTACH;FMTTYPE=:
ORGANIZER;CN="Paul Ciske":MAILTO:paulciske@sbcglobal.net
END:VEVENT
BEGIN:VEVENT
DTSTART;VALUE=DATE:20190801
DTEND;VALUE=DATE:20190802
DTSTAMP:20260424T170238
CREATED:20190708T135049Z
LAST-MODIFIED:20190708T135049Z
UID:10000318-1564617600-1564703999@leadershipembodiment.com
SUMMARY:Ongoing Leadership Embodiment Classes with Paul Ciske
DESCRIPTION:Paul is  offering a monthly ongoing Leadership Embodiment class on the first Thursday of the month. Next dates are: August 1\, September 5\, October 3\, November 7\, December 5. From 6-8 pm at Your Well-Being\, Oakland (near Grand Lake Theater/Lake Merritt)\, CA 94610. Call for exact address and to let Paul know you are coming. 510-832-5725. Open to everyone. By donation.
URL:https://leadershipembodiment.com/event/ongoing-leadership-embodiment-classes-with-paul-ciske/
LOCATION:Your Well-Being\, Oakland\, CA\, United States
CATEGORIES:North America
ATTACH;FMTTYPE=:
ORGANIZER;CN="Paul Ciske":MAILTO:paulciske@sbcglobal.net
END:VEVENT
BEGIN:VEVENT
DTSTART;VALUE=DATE:20190727
DTEND;VALUE=DATE:20190729
DTSTAMP:20260424T170238
CREATED:20190612T163428Z
LAST-MODIFIED:20190612T163428Z
UID:10000315-1564185600-1564358399@leadershipembodiment.com
SUMMARY:Level 1 with Paul Ciske
DESCRIPTION:Join Paul Ciske for a 2-Day Level 1 in Oakland\, California (near Lake Merritt).  For a description of a Level 1\, please see our courses page.   \nLevel 1 Information:\nDates: July 27-28\, 2019\nTimes: 9:30am – 5:00pm \nInvestment:\nEarly registration cost: $450 until July 20th ($100 non-refundable* deposit to hold your space)\nLater registration cost: $500 after July 20th\nPackage with Level 2 with Paul Ciske: $900 – SAVES $100 ($200 non-refundable* deposit to hold your space) \nPayment:\nPaypal to: paul@paulciske.com (please use “friends and family”)\nCheck – please mail check to:\nPaul Ciske\n351 Santa Clara Ave\nOakland\, CA 94610 \nPlease email all inquiries to paul@paulciske.com\nwith the subject heading of: \nLE Level 1 OAKLAND  in July \n*Under extenuating circumstances deposit may be applied to a future class
URL:https://leadershipembodiment.com/event/level-1-with-paul-ciske-2/
LOCATION:Your Well-Being\, Oakland\, CA\, United States
CATEGORIES:North America
ATTACH;FMTTYPE=:
ORGANIZER;CN="Paul Ciske":MAILTO:paulciske@sbcglobal.net
END:VEVENT
BEGIN:VEVENT
DTSTART;VALUE=DATE:20190504
DTEND;VALUE=DATE:20190506
DTSTAMP:20260424T170238
CREATED:20190306T165135Z
LAST-MODIFIED:20190306T165135Z
UID:10000297-1556928000-1557100799@leadershipembodiment.com
SUMMARY:Level 2 with Paul Ciske
DESCRIPTION:Join Paul for a 2-day Level 2 near Lake Merritt in Oakland. You must have completed a Level 1 before attending a Level 2. For a description of Level 2\, please see our courses page. \nDates: 4-5 May 2019\nTimes: 9:30am – 5pm \nPrice:\n$550.00 until March 23rd\n$600.00 After April 27th \nPayment:\nPaypal to: paul@paulciske.com\n(Please use “Pay to Friends” feature if possible.)\nCheck – please mail check to:\nPaul Ciske\n351 Santa Clara Ave\nOakland\, CA 94610 \nPlease email all inquiries to paul@paulciske.com\nwith the subject heading of:\nLE Level 2 OAKLAND
URL:https://leadershipembodiment.com/event/level-2-with-paul-ciske/
LOCATION:Lake Merritt Venue\, Oakland\, CA\, United States
CATEGORIES:North America
ATTACH;FMTTYPE=:
ORGANIZER;CN="Paul Ciske":MAILTO:paulciske@sbcglobal.net
END:VEVENT
BEGIN:VEVENT
DTSTART;VALUE=DATE:20190330
DTEND;VALUE=DATE:20190401
DTSTAMP:20260424T170238
CREATED:20190306T155748Z
LAST-MODIFIED:20190306T155748Z
UID:10000296-1553904000-1554076799@leadershipembodiment.com
SUMMARY:Level 1 with Paul Ciske
DESCRIPTION:Join Paul for a 2-day Level 1 near Lake Merritt in Oakland. For a description of Level 1\, please see our courses page. \nDates: 30-31 March 2019\nTimes: 9:30am – 5pm\nPrice:\n$450.00 until March 23rd ($100 non-refundable deposit to hold your space) \n$500.00 After March 23rd\nPackage with Level 2: $900 ($200 non-refundable deposit to hold your space)\nPayment:\nPaypal to: paul@paulciske.com\nCheck – please mail check to:\nPaul Ciske\n351 Santa Clara Ave\nOakland\, CA 94610 \nPlease email all inquiries to paul@paulciske.com\nwith the subject heading of:\nLE Level 1 OAKLAND
URL:https://leadershipembodiment.com/event/level-1-with-paul-ciske/
LOCATION:Lake Merritt Venue\, Oakland\, CA\, United States
CATEGORIES:North America
ATTACH;FMTTYPE=:
ORGANIZER;CN="Paul Ciske":MAILTO:paulciske@sbcglobal.net
END:VEVENT
BEGIN:VEVENT
DTSTART;VALUE=DATE:20190309
DTEND;VALUE=DATE:20190311
DTSTAMP:20260424T170238
CREATED:20181116T183054Z
LAST-MODIFIED:20181116T183054Z
UID:10000740-1552089600-1552262399@leadershipembodiment.com
SUMMARY:Level 2 with Paul Ciske and Anjali Sawhney
DESCRIPTION:Join Paul & Anjali for a 2-day Level 2 near Lake Merritt in Oakland. You must have completed a Level 1 before attending a Level 2. For a description of Level 2\, please see our courses page. \nDates: 9-10 March 2019
URL:https://leadershipembodiment.com/event/level-2-with-paul-ciske-and-anjali-sawhney/
LOCATION:Lake Merritt Venue\, Oakland\, CA\, United States
CATEGORIES:North America
ATTACH;FMTTYPE=:
ORGANIZER;CN="Paul Ciske":MAILTO:paulciske@sbcglobal.net
END:VEVENT
BEGIN:VEVENT
DTSTART;VALUE=DATE:20190202
DTEND;VALUE=DATE:20190204
DTSTAMP:20260424T170238
CREATED:20181116T182647Z
LAST-MODIFIED:20181116T182647Z
UID:10000739-1549065600-1549238399@leadershipembodiment.com
SUMMARY:Level 1 with Paul Ciske and Anjali Sawhney
DESCRIPTION:Join Paul & Anjali for a 2-day Level 1 near Lake Merritt in Oakland\, California. For a description of a Level 1\, please see our courses page. \nDates: 2-3 February 2019
URL:https://leadershipembodiment.com/event/level-1-with-paul-ciske-and-anjali-sawhney/
LOCATION:Lake Merritt Venue\, Oakland\, CA\, United States
CATEGORIES:North America
ATTACH;FMTTYPE=:
ORGANIZER;CN="Paul Ciske":MAILTO:paulciske@sbcglobal.net
END:VEVENT
BEGIN:VEVENT
DTSTART;VALUE=DATE:20180922
DTEND;VALUE=DATE:20180923
DTSTAMP:20260424T170238
CREATED:20180514T192537Z
LAST-MODIFIED:20180514T192537Z
UID:10000714-1537574400-1537660799@leadershipembodiment.com
SUMMARY:Embodying Resilience with Paul Ciske & Anjali Sawhney
DESCRIPTION:Join Paul & Anjali for their “Embodying Resilience” series at the East Bay Meditation Center. The series begins on  Saturday September 22 (all day) followed by 3 two-hour sessions on September 24\, October 1\, October 8th. This series includes all material needed to qualify as a Level 1 course upon completion.   \nDates:\n22 September 2018\n24 September 2018\n1 October 2018\n8 October 2018
URL:https://leadershipembodiment.com/event/embodying-resilience-with-paul-ciske-anjali-sawhney/
LOCATION:East Bay Meditation Center\, 285 17th Street\, Oakland\, CA\, United States
CATEGORIES:North America
ATTACH;FMTTYPE=:
ORGANIZER;CN="Paul Ciske":MAILTO:paulciske@sbcglobal.net
END:VEVENT
BEGIN:VEVENT
DTSTART;TZID=America/Los_Angeles:20171128T173000
DTEND;TZID=America/Los_Angeles:20171128T183000
DTSTAMP:20260424T170238
CREATED:20171113T163355Z
LAST-MODIFIED:20171113T163355Z
UID:10000673-1511890200-1511893800@leadershipembodiment.com
SUMMARY:Conscientious Embodiment with Paul Ciske
DESCRIPTION:Conscientious Embodiment\nbased on the Leadership Embodiment Work created and developed by Wendy Palmer\nTuesdays: November 28th through January 2nd\, 5:30-6:30pm\nEast Bay Meditation Center \n285 17th St\, Oakland\, CA 94612\nOffered on a Dana/Generosity/Gift Economics Basis\n \nDevelop greater capacity to relate to whatever arises\, especially when under pressure\, from a centered state that accesses “presence\, confidence and compassion”.  Through simple interactive exercises drawn from Aikido and Mindfulness meditation practices\, Conscientious Embodiment offers a laboratory in which we can:\n\nObserve with compassion our habitual\, reactive patterns that arise especially when under pressure.\nLearn a simple practice for accessing a centered state.\nInvestigate and cultivate our capacity to access the centered state.\n\n \nWeek 1: Cultivating compassion and kindness toward our habitual patterns.\nWeek 2: Centering practice for accessing presence\, confidence\, and compassion.\nWeek 3: Exploring our patterns of advocating and listening.\nWeek 4: Exploring our patterns of leading and following.\nWeek 5: Exploring Tolerating impact\, Respectful opposition\, and Inquiry.\nWeek 6: Taking Conscientious Embodiment to the meditation cushion.\n \n\n\n\n\n\n\n  \n\n\n  \n\nPaul Ciske\, Ph.D. has a private practice in Oakland called “Your Well-Being”. He uses methodologies for communicating with the nervous system to improve the capacity of his clients to fully participate in life. He has been a student of Vipassana meditation since 1993 and participated in the Senior Student program\, Dedicated Practitioner program\, and  Advanced Practitioner’s Program through Spirit Rock Meditation Center. He is certified to facilitate Leadership Embodiment Courses based on the principles of Aikido and Mindfulness\, and teaches T’ai Chi Chih\, Joy through Movement. He is a student of Tsoknyi Rinpoche and participates in the Bay Area Pundarika group.
URL:https://leadershipembodiment.com/event/conscientious-embodiment-with-paul-ciske/2017-11-28/
CATEGORIES:North America
ORGANIZER;CN="Paul Ciske":MAILTO:paulciske@sbcglobal.net
END:VEVENT
END:VCALENDAR