BEGIN:VCALENDAR
VERSION:2.0
PRODID:-//Leadership Embodiment - ECPv6.15.20//NONSGML v1.0//EN
CALSCALE:GREGORIAN
METHOD:PUBLISH
X-ORIGINAL-URL:https://leadershipembodiment.com
X-WR-CALDESC:Events for Leadership Embodiment
REFRESH-INTERVAL;VALUE=DURATION:PT1H
X-Robots-Tag:noindex
X-PUBLISHED-TTL:PT1H
BEGIN:VTIMEZONE
TZID:America/Los_Angeles
BEGIN:DAYLIGHT
TZOFFSETFROM:-0800
TZOFFSETTO:-0700
TZNAME:PDT
DTSTART:20220313T100000
END:DAYLIGHT
BEGIN:STANDARD
TZOFFSETFROM:-0700
TZOFFSETTO:-0800
TZNAME:PST
DTSTART:20221106T090000
END:STANDARD
BEGIN:DAYLIGHT
TZOFFSETFROM:-0800
TZOFFSETTO:-0700
TZNAME:PDT
DTSTART:20230312T100000
END:DAYLIGHT
BEGIN:STANDARD
TZOFFSETFROM:-0700
TZOFFSETTO:-0800
TZNAME:PST
DTSTART:20231105T090000
END:STANDARD
BEGIN:DAYLIGHT
TZOFFSETFROM:-0800
TZOFFSETTO:-0700
TZNAME:PDT
DTSTART:20240310T100000
END:DAYLIGHT
BEGIN:STANDARD
TZOFFSETFROM:-0700
TZOFFSETTO:-0800
TZNAME:PST
DTSTART:20241103T090000
END:STANDARD
BEGIN:DAYLIGHT
TZOFFSETFROM:-0800
TZOFFSETTO:-0700
TZNAME:PDT
DTSTART:20250309T100000
END:DAYLIGHT
BEGIN:STANDARD
TZOFFSETFROM:-0700
TZOFFSETTO:-0800
TZNAME:PST
DTSTART:20251102T090000
END:STANDARD
BEGIN:DAYLIGHT
TZOFFSETFROM:-0800
TZOFFSETTO:-0700
TZNAME:PDT
DTSTART:20260308T100000
END:DAYLIGHT
BEGIN:STANDARD
TZOFFSETFROM:-0700
TZOFFSETTO:-0800
TZNAME:PST
DTSTART:20261101T090000
END:STANDARD
BEGIN:DAYLIGHT
TZOFFSETFROM:-0800
TZOFFSETTO:-0700
TZNAME:PDT
DTSTART:20270314T100000
END:DAYLIGHT
BEGIN:STANDARD
TZOFFSETFROM:-0700
TZOFFSETTO:-0800
TZNAME:PST
DTSTART:20271107T090000
END:STANDARD
END:VTIMEZONE
BEGIN:VEVENT
DTSTART;VALUE=DATE:20260418
DTEND;VALUE=DATE:20260420
DTSTAMP:20260423T132253
CREATED:20251230T153825Z
LAST-MODIFIED:20251230T153825Z
UID:10001205-1776470400-1776643199@leadershipembodiment.com
SUMMARY:Leadership Embodiment Level 1 with Paul King
DESCRIPTION:Join Paul in London for a 2-Day Leadership Embodiment Level 1. For a description of a Level 1\, please see our Public Courses page.  \nDates: 18-19 April 2026
URL:https://leadershipembodiment.com/event/leadership-embodiment-level-1-with-paul-king-15/
LOCATION:London Venue\, London\, United Kingdom
CATEGORIES:Europe
ORGANIZER;CN="Paul King":MAILTO:info@thebeyondpartnership.co.uk
END:VEVENT
BEGIN:VEVENT
DTSTART;VALUE=DATE:20260314
DTEND;VALUE=DATE:20260316
DTSTAMP:20260423T132253
CREATED:20251230T152802Z
LAST-MODIFIED:20251230T152802Z
UID:10001202-1773446400-1773619199@leadershipembodiment.com
SUMMARY:Leadership Embodiment Level 1 with Paul King (in English)
DESCRIPTION:Join Paul in Athens\, Greece for a 2-day Leadership Embodiment Level 1. For a description of a Level 1\, please see our Public Courses page. \nDates: 14-15 March 2026
URL:https://leadershipembodiment.com/event/leadership-embodiment-level-1-with-paul-king-in-english-3/
LOCATION:Athens Venue\, Athens\, Greece
CATEGORIES:Europe
ORGANIZER;CN="Paul King":MAILTO:info@thebeyondpartnership.co.uk
END:VEVENT
BEGIN:VEVENT
DTSTART;VALUE=DATE:20260210
DTEND;VALUE=DATE:20260212
DTSTAMP:20260423T132253
CREATED:20251217T141014Z
LAST-MODIFIED:20251217T141014Z
UID:10001200-1770681600-1770854399@leadershipembodiment.com
SUMMARY:Leadership Embodiment Level 1 with Paul King
DESCRIPTION:Join Paul for a 2-day Leadership Embodiment Level 1 in Wilmslow\, Cheshire\, UK. For a description of a Level 1\, please see our Public Courses page.  \nDates: 10-11 February 2026
URL:https://leadershipembodiment.com/event/leadership-embodiment-level-1-with-paul-king-14/
LOCATION:Wilmslow\, Cheshire\, UK\, United Kingdom
CATEGORIES:Europe
ORGANIZER;CN="Paul King":MAILTO:info@thebeyondpartnership.co.uk
END:VEVENT
BEGIN:VEVENT
DTSTART;VALUE=DATE:20260117
DTEND;VALUE=DATE:20260119
DTSTAMP:20260423T132253
CREATED:20251030T181316Z
LAST-MODIFIED:20251030T181316Z
UID:10001199-1768608000-1768780799@leadershipembodiment.com
SUMMARY:Leadership Embodiment Level 1 with Paul King
DESCRIPTION:Join Paul for a 2-day Leadership Embodiment Level 1 in a Bermondsey\, London. For a description of a Level 1\, please see our Public Courses page. \nDates: 17-18 January 2026 \n \nEurope
URL:https://leadershipembodiment.com/event/leadership-embodiment-level-1-with-paul-king-13/
LOCATION:London Venue\, London\, United Kingdom
CATEGORIES:Europe
ORGANIZER;CN="Paul King":MAILTO:info@thebeyondpartnership.co.uk
END:VEVENT
BEGIN:VEVENT
DTSTART;VALUE=DATE:20251206
DTEND;VALUE=DATE:20251208
DTSTAMP:20260423T132253
CREATED:20250618T164928Z
LAST-MODIFIED:20250618T164928Z
UID:10001177-1764979200-1765151999@leadershipembodiment.com
SUMMARY:Leadership Embodiment Level 2 with Paul King
DESCRIPTION:Join Paul King for a 2-Day Leadership Embodiment Level 2 in London. You must have completed a Level 1 before enrolling in a Level 2. For a description of a Level 2\, please see our Public Courses page.  \nDates: 6-7 December 2025 \n \nEurope
URL:https://leadershipembodiment.com/event/leadership-embodiment-level-2-with-paul-king-7/
LOCATION:London Venue\, London\, United Kingdom
CATEGORIES:Europe
ORGANIZER;CN="Paul King":MAILTO:info@thebeyondpartnership.co.uk
END:VEVENT
BEGIN:VEVENT
DTSTART;VALUE=DATE:20251108
DTEND;VALUE=DATE:20251110
DTSTAMP:20260423T132253
CREATED:20250618T164305Z
LAST-MODIFIED:20250618T164543Z
UID:10001176-1762560000-1762732799@leadershipembodiment.com
SUMMARY:Leadership Embodiment Level 2 with Paul King
DESCRIPTION:Join Paul King for a 2-Day Leadership Embodiment Level 2 in Dublin. You must have completed in a Level 1 before enrolling in a Level 1. For a description of a Level 2\, please see our Public Courses page.  \nDates: 8-9 November 2025 \n \nEurope
URL:https://leadershipembodiment.com/event/leadership-embodiment-level-2-with-paul-king-6/
LOCATION:Dun Laoghaire\, Ireland
CATEGORIES:Europe
ORGANIZER;CN="Paul King":MAILTO:info@thebeyondpartnership.co.uk
END:VEVENT
BEGIN:VEVENT
DTSTART;VALUE=DATE:20251106
DTEND;VALUE=DATE:20251108
DTSTAMP:20260423T132253
CREATED:20250618T163550Z
LAST-MODIFIED:20250618T164507Z
UID:10001174-1762387200-1762559999@leadershipembodiment.com
SUMMARY:Leadership Embodiment Level 1 with Paul King
DESCRIPTION:Join Paul King for a 2-Day Leadership Embodiment Level 1 in Dublin. For a description of a Level 1\, please see our Public Courses page.  \nDates: 6-7 November 2025 \n \nEurope
URL:https://leadershipembodiment.com/event/leadership-embodiment-level-1-with-paul-king-12/
LOCATION:Dun Laoghaire\, Ireland
CATEGORIES:Europe
ORGANIZER;CN="Paul King":MAILTO:info@thebeyondpartnership.co.uk
END:VEVENT
BEGIN:VEVENT
DTSTART;VALUE=DATE:20251011
DTEND;VALUE=DATE:20251013
DTSTAMP:20260423T132253
CREATED:20250618T163933Z
LAST-MODIFIED:20250618T163933Z
UID:10001175-1760140800-1760313599@leadershipembodiment.com
SUMMARY:Leadership Embodiment Level 2 with Paul King (in English)
DESCRIPTION:Join Paul King for a 2-Day Leadership Embodiment Level 2 in Vienna. You must have completed a Level 1 before enrolling in a Level 1. For a description of a Level 2\, please see our Public Courses page.  \nDates: 11-12 October 2025 \n \nEurope
URL:https://leadershipembodiment.com/event/leadership-embodiment-level-2-with-paul-king-in-english/
LOCATION:Vienna Venue\, Vienna\, Austria
CATEGORIES:Europe
ORGANIZER;CN="Paul King":MAILTO:info@thebeyondpartnership.co.uk
GEO:48.2081743;16.3738189
END:VEVENT
BEGIN:VEVENT
DTSTART;VALUE=DATE:20251009
DTEND;VALUE=DATE:20251011
DTSTAMP:20260423T132253
CREATED:20250618T162943Z
LAST-MODIFIED:20250618T164403Z
UID:10001173-1759968000-1760140799@leadershipembodiment.com
SUMMARY:Leadership Embodiment Level 1 with Paul King (in English)
DESCRIPTION:Join Paul King for a 2-Day Leadership Embodiment Level 1 in Vienna. For a description of a Level 1\, please see our Public Courses page.  \nDates: 9-10 October 2025 \n \nEurope
URL:https://leadershipembodiment.com/event/leadership-embodiment-level-1-with-paul-king-in-english-2/
LOCATION:Vienna Venue\, Vienna\, Austria
CATEGORIES:Europe
ORGANIZER;CN="Paul King":MAILTO:info@thebeyondpartnership.co.uk
GEO:48.2081743;16.3738189
END:VEVENT
BEGIN:VEVENT
DTSTART;VALUE=DATE:20250927
DTEND;VALUE=DATE:20250929
DTSTAMP:20260423T132253
CREATED:20250618T162722Z
LAST-MODIFIED:20250618T164322Z
UID:10001172-1758931200-1759103999@leadershipembodiment.com
SUMMARY:Leadership Embodiment Level 1 with Paul King
DESCRIPTION:Join Paul King for a 2-Day Leadership Embodiment Level 1 in London. For a description of a Level 1\, please see our Public Courses page.  \nDates: 27-28 September 2025 \n \nEurope
URL:https://leadershipembodiment.com/event/leadership-embodiment-level-1-with-paul-king-11/
LOCATION:London Venue\, London\, United Kingdom
CATEGORIES:Europe
ORGANIZER;CN="Paul King":MAILTO:info@thebeyondpartnership.co.uk
END:VEVENT
BEGIN:VEVENT
DTSTART;VALUE=DATE:20250607
DTEND;VALUE=DATE:20250609
DTSTAMP:20260423T132253
CREATED:20250114T170007Z
LAST-MODIFIED:20250114T170613Z
UID:10001144-1749254400-1749427199@leadershipembodiment.com
SUMMARY:Leadership Embodiment Level 1 with Paul King
DESCRIPTION:Join Paul for a 2-Day Leadership Embodiment Level 1 in London\, England. For a description of a Leadership Embodiment Level 1\, please see our Public Courses page.  \nDates: 7-8 June 2025 \n \nEurope
URL:https://leadershipembodiment.com/event/leadership-embodiment-level-1-with-paul-king-10/
LOCATION:London Venue\, London\, United Kingdom
CATEGORIES:Europe
ORGANIZER;CN="Paul King":MAILTO:info@thebeyondpartnership.co.uk
END:VEVENT
BEGIN:VEVENT
DTSTART;VALUE=DATE:20250510
DTEND;VALUE=DATE:20250512
DTSTAMP:20260423T132253
CREATED:20250114T171649Z
LAST-MODIFIED:20250114T171952Z
UID:10001146-1746835200-1747007999@leadershipembodiment.com
SUMMARY:Leadership Embodiment Level 2 with Paul King
DESCRIPTION:Join Paul in Dublin for a 2-Day Leadership Embodiment Level 2 workshop. You must have completed a Level 1 before enrolling in a Level 2. For a description of a Level 2\, please see our Public Courses page.  \nDates: 10-11 May 2025 \n \nEurope
URL:https://leadershipembodiment.com/event/leadership-embodiment-level-2-with-paul-king-5/
LOCATION:Dublin Venue\, Dublin\, Ireland
CATEGORIES:Europe
ORGANIZER;CN="Paul King":MAILTO:info@thebeyondpartnership.co.uk
END:VEVENT
BEGIN:VEVENT
DTSTART;VALUE=DATE:20250508
DTEND;VALUE=DATE:20250510
DTSTAMP:20260423T132253
CREATED:20250114T165559Z
LAST-MODIFIED:20250114T165559Z
UID:10001143-1746662400-1746835199@leadershipembodiment.com
SUMMARY:Leadership Embodiment Level 1 with Paul King
DESCRIPTION:Join Paul in Bray (Dublin)\, Ireland for a 2-Day Leadership Embodiment Level 1. For a description of a Leadership Embodiment Level 1\, please see our Public Courses page.  \nDates: 8-9 May 2025 \n \nEurope
URL:https://leadershipembodiment.com/event/leadership-embodiment-level-1-with-paul-king-9/
LOCATION:Bray\, Ireland Venue\, Bray\, Ireland
CATEGORIES:Europe
ORGANIZER;CN="Paul King":MAILTO:info@thebeyondpartnership.co.uk
END:VEVENT
BEGIN:VEVENT
DTSTART;VALUE=DATE:20250405
DTEND;VALUE=DATE:20250407
DTSTAMP:20260423T132253
CREATED:20250114T165013Z
LAST-MODIFIED:20250114T165013Z
UID:10001142-1743811200-1743983999@leadershipembodiment.com
SUMMARY:Leadership Embodiment Level 1 with Paul King (in English)
DESCRIPTION:Join Paul in Vienna\, Austria for a 2-day Leadership Embodiment Level 1 workshop. For a description of a Leadership Embodiment Level 1\, please see our Public Courses page. This course will be taught in English. \nDates: 5-6 April 2025 \n \nEurope
URL:https://leadershipembodiment.com/event/leadership-embodiment-level-1-with-paul-king-in-english/
LOCATION:Vienna Venue\, Vienna\, Austria
CATEGORIES:Europe
ORGANIZER;CN="Paul King":MAILTO:info@thebeyondpartnership.co.uk
GEO:48.2081743;16.3738189
END:VEVENT
BEGIN:VEVENT
DTSTART;VALUE=DATE:20250322
DTEND;VALUE=DATE:20250324
DTSTAMP:20260423T132253
CREATED:20250114T171218Z
LAST-MODIFIED:20250114T171218Z
UID:10001145-1742601600-1742774399@leadershipembodiment.com
SUMMARY:Leadership Embodiment Level 2 with Paul King
DESCRIPTION:Join Paul in London for a 2-Day Leadership Embodiment Level 2 in London\, England. You must have completed a Level 1 before enrolling in a Level 2. For a description of Leadership Embodiment Level 2\, please see our Public Courses page.  \nDates: 22-23 March 2025 \n \nEurope
URL:https://leadershipembodiment.com/event/leadership-embodiment-level-2-with-paul-king-4/
LOCATION:London Venue\, London\, United Kingdom
CATEGORIES:Europe
ORGANIZER;CN="Paul King":MAILTO:info@thebeyondpartnership.co.uk
END:VEVENT
BEGIN:VEVENT
DTSTART;VALUE=DATE:20250118
DTEND;VALUE=DATE:20250120
DTSTAMP:20260423T132253
CREATED:20241108T161033Z
LAST-MODIFIED:20241108T161033Z
UID:10001129-1737158400-1737331199@leadershipembodiment.com
SUMMARY:Leadership Embodiment Level 1 with Paul King
DESCRIPTION:Join Paul for a 2-Day Leadership Embodiment Level 1 in London. For a description of a Level 1\, please see our Public Courses page.  \nDates: 18-19 January 2025 \n \nEurope
URL:https://leadershipembodiment.com/event/leadership-embodiment-level-1-with-paul-king-8/
LOCATION:London Venue\, London\, United Kingdom
CATEGORIES:Europe
ORGANIZER;CN="Paul King":MAILTO:info@thebeyondpartnership.co.uk
END:VEVENT
BEGIN:VEVENT
DTSTART;VALUE=DATE:20241207
DTEND;VALUE=DATE:20241209
DTSTAMP:20260423T132253
CREATED:20240802T192311Z
LAST-MODIFIED:20240930T132718Z
UID:10001116-1733529600-1733702399@leadershipembodiment.com
SUMMARY:Leadership Embodiment Level 2 with Paul King
DESCRIPTION:Join Paul for a 2-Day Leadership Embodiment Level 2 in London. You must have completed a Level 1 before enrolling in a Level 2. For a description of a Level 2\, please see our Public Courses page.  \nDates: 7-8 December 2024 \n \nEurope
URL:https://leadershipembodiment.com/event/leadership-embodiment-level-1-with-paul-king-7/
LOCATION:London Venue\, London\, United Kingdom
CATEGORIES:Europe
ORGANIZER;CN="Paul King":MAILTO:info@thebeyondpartnership.co.uk
END:VEVENT
BEGIN:VEVENT
DTSTART;VALUE=DATE:20241019
DTEND;VALUE=DATE:20241021
DTSTAMP:20260423T132253
CREATED:20240802T191755Z
LAST-MODIFIED:20240802T191755Z
UID:10001115-1729296000-1729468799@leadershipembodiment.com
SUMMARY:Leadership Embodiment Level 1 with Paul King
DESCRIPTION:Join Paul for a 2-Day Leadership Embodiment Level 1 in Bray\, Ireland (near Dublin). For a description of a Level 1\, please see our Public Courses page.  \nDates: 19-20 October 2024 \n \nEurope
URL:https://leadershipembodiment.com/event/leadership-embodiment-level-1-with-paul-king-6/
LOCATION:Bray\, Ireland Venue\, Bray\, Ireland
CATEGORIES:Europe
ORGANIZER;CN="Paul King":MAILTO:info@thebeyondpartnership.co.uk
END:VEVENT
BEGIN:VEVENT
DTSTART;VALUE=DATE:20241005
DTEND;VALUE=DATE:20241007
DTSTAMP:20260423T132253
CREATED:20240625T153102Z
LAST-MODIFIED:20240625T153102Z
UID:10001113-1728086400-1728259199@leadershipembodiment.com
SUMMARY:Leadership Embodiment Level 1 with Paul King
DESCRIPTION:Join Paul for a 2-Day Leadership Embodiment Level 1 in London. For a description of a Level 1\, please see our Public Courses page.  \nCLICK HERE for more information and pricing. \nDates: 5-6 October 2024 \n \nEurope
URL:https://leadershipembodiment.com/event/leadership-embodiment-level-1-with-paul-king-5/
LOCATION:Tibetan Buddhist Centre for World Peace and Health\, Bermondsey\, London\, United Kingdom
CATEGORIES:Europe
ORGANIZER;CN="Paul King":MAILTO:info@thebeyondpartnership.co.uk
END:VEVENT
BEGIN:VEVENT
DTSTART;VALUE=DATE:20240913
DTEND;VALUE=DATE:20240915
DTSTAMP:20260423T132253
CREATED:20240531T141746Z
LAST-MODIFIED:20240531T141846Z
UID:10001106-1726185600-1726358399@leadershipembodiment.com
SUMMARY:Leadership Embodiment Level 1 with Paul King
DESCRIPTION:Join Paul King for a 2-Day Leadership Embodiment Level 1 in Gothenburg\, Sweden. For a description of a Level 1\, please see our Public Courses page.  \nDates: 13-14 September 2024 \n\nEurope
URL:https://leadershipembodiment.com/event/leadership-embodiment-level-1-with-paul-king-4/
LOCATION:Gothenburg Venue\, Gothenburg\, Sweden
CATEGORIES:Europe
ORGANIZER;CN="Paul King":MAILTO:info@thebeyondpartnership.co.uk
END:VEVENT
BEGIN:VEVENT
DTSTART;VALUE=DATE:20240620
DTEND;VALUE=DATE:20240622
DTSTAMP:20260423T132253
CREATED:20240228T173524Z
LAST-MODIFIED:20240228T173524Z
UID:10001101-1718841600-1719014399@leadershipembodiment.com
SUMMARY:Leadership Embodiment Level 1 with Paul King
DESCRIPTION:Join Paul for a 2-Day Leadership Embodiment Level 1 in Vienna. For a description of a Level 1\, please see our Public Courses page.   \nDates: 20-21 June 2024 \n \nEurope
URL:https://leadershipembodiment.com/event/leadership-embodiment-level-1-with-paul-king-3/
LOCATION:Vienna Venue\, Vienna\, Austria
CATEGORIES:Europe
ORGANIZER;CN="Paul King":MAILTO:info@thebeyondpartnership.co.uk
GEO:48.2081743;16.3738189
END:VEVENT
BEGIN:VEVENT
DTSTART;VALUE=DATE:20240530
DTEND;VALUE=DATE:20240601
DTSTAMP:20260423T132253
CREATED:20240117T221250Z
LAST-MODIFIED:20240205T185651Z
UID:10001097-1717027200-1717199999@leadershipembodiment.com
SUMMARY:Leadership Embodiment Level 2 with Paul King (in English)
DESCRIPTION:Join Paul for a 2-Day Level 2 in Frederiksberg\, Copenhagen\, Denmark. You must have completed a Level 1 before taking a Level 2. For a description of our courses\, please see our Public Courses page.  \nDates: 30-31 May 2024 \n \nEurope
URL:https://leadershipembodiment.com/event/leadership-embodiment-level-2-with-paul-king-2/
LOCATION:Frederiksberg Venue\, Frederiksberg\, Copenhagen\, Denmark
CATEGORIES:Europe
ORGANIZER;CN="Paul King":MAILTO:info@thebeyondpartnership.co.uk
END:VEVENT
BEGIN:VEVENT
DTSTART;VALUE=DATE:20240515
DTEND;VALUE=DATE:20240517
DTSTAMP:20260423T132253
CREATED:20240205T180541Z
LAST-MODIFIED:20240205T180643Z
UID:10001100-1715731200-1715903999@leadershipembodiment.com
SUMMARY:Leadership Embodiment Level 2 with Paul King
DESCRIPTION:Join Paul for a 2-Day Leadership Embodiment Level 2 in Bray\, Ireland (near Dublin). You must have completed a Level 1 at least six weeks prior to enrolling in a Level 2.  For a description of our courses\, please see our Public Courses Page.  \nDates: 15-16 May 2024
URL:https://leadershipembodiment.com/event/leadership-embodiment-level-2-with-paul-king-3/
LOCATION:Bray\, Ireland Venue\, Bray\, Ireland
ORGANIZER;CN="Paul King":MAILTO:info@thebeyondpartnership.co.uk
END:VEVENT
BEGIN:VEVENT
DTSTART;VALUE=DATE:20240513
DTEND;VALUE=DATE:20240515
DTSTAMP:20260423T132253
CREATED:20240205T180114Z
LAST-MODIFIED:20240205T180730Z
UID:10001099-1715558400-1715731199@leadershipembodiment.com
SUMMARY:Leadership Embodiment Level 1 with Paul King
DESCRIPTION:Join Paul King for a 2-Day Leadership Embodiment Level 1 workshop in Bray\, Ireland (near Dublin). For a description of a Level 1\, please see our Public Courses page.   \nDates: 13-14 May 2024
URL:https://leadershipembodiment.com/event/leadership-embodiment-level-1-with-paul-king-2/
LOCATION:Bray\, Ireland Venue\, Bray\, Ireland
CATEGORIES:Europe
ORGANIZER;CN="Paul King":MAILTO:info@thebeyondpartnership.co.uk
END:VEVENT
BEGIN:VEVENT
DTSTART;VALUE=DATE:20240427
DTEND;VALUE=DATE:20240429
DTSTAMP:20260423T132253
CREATED:20240117T220812Z
LAST-MODIFIED:20240117T220812Z
UID:10001096-1714176000-1714348799@leadershipembodiment.com
SUMMARY:Leadership Embodiment Level 2 with Paul King
DESCRIPTION:Join Paul for a 2-Day Level 2 in London. You must have completed a Level 1 before taking a Level 2. For a description of our courses\, please see our Public Courses page.  \nDates: 27-28 April 2024 \n \nEurope
URL:https://leadershipembodiment.com/event/leadership-embodiment-level-2-with-paul-king/
LOCATION:London Venue\, London\, United Kingdom
CATEGORIES:Europe
ORGANIZER;CN="Paul King":MAILTO:info@thebeyondpartnership.co.uk
END:VEVENT
BEGIN:VEVENT
DTSTART;VALUE=DATE:20240210
DTEND;VALUE=DATE:20240212
DTSTAMP:20260423T132253
CREATED:20231113T160716Z
LAST-MODIFIED:20240205T181358Z
UID:10001044-1707523200-1707695999@leadershipembodiment.com
SUMMARY:Leadership Embodiment Level 1 with Paul King
DESCRIPTION:Join Paul in London for a 2-Day Leadership Embodiment Level 1 course. For a description of a Level 1\, please see our Public Courses page. \nDates: 10-11 February 2024 \n \nEurope
URL:https://leadershipembodiment.com/event/level-1-with-paul-king-62/
LOCATION:London Venue\, London\, United Kingdom
CATEGORIES:Europe
ORGANIZER;CN="Paul King":MAILTO:info@thebeyondpartnership.co.uk
END:VEVENT
BEGIN:VEVENT
DTSTART;TZID=America/Los_Angeles:20240117T080000
DTEND;TZID=America/Los_Angeles:20240117T170000
DTSTAMP:20260423T132253
CREATED:20240117T221532Z
LAST-MODIFIED:20240117T221532Z
UID:10001098-1705478400-1705510800@leadershipembodiment.com
SUMMARY:Leadership Embodiment Level 1 with Paul King
DESCRIPTION:Join Paul for a 2-Day Level 1 in Frederiksberg\, Copenhagen\, Denmark. For a description of our courses\, please see our Public Courses page.  \nDates: 27-28 May 2024 \n \nEurope
URL:https://leadershipembodiment.com/event/leadership-embodiment-level-1-with-paul-king/
LOCATION:Frederiksberg Venue\, Frederiksberg\, Copenhagen\, Denmark
CATEGORIES:Europe
ORGANIZER;CN="Paul King":MAILTO:info@thebeyondpartnership.co.uk
END:VEVENT
BEGIN:VEVENT
DTSTART;VALUE=DATE:20231209
DTEND;VALUE=DATE:20231211
DTSTAMP:20260423T132253
CREATED:20230605T165101Z
LAST-MODIFIED:20230605T165101Z
UID:10001015-1702080000-1702252799@leadershipembodiment.com
SUMMARY:Level 2 with Paul King
DESCRIPTION:Please join Paul for a 2-Day Leadership Embodiment Level 2 in London\, England. You must have completed a Level 1 before taking a Level 2. For a description of a Level 2\, please see our Public Courses page.  \nDates: 9-10 December 2023 \n \nEurope / United Kingdom
URL:https://leadershipembodiment.com/event/level-2-with-paul-king-21/
LOCATION:London Venue\, London\, United Kingdom
CATEGORIES:Europe
ORGANIZER;CN="Paul King":MAILTO:info@thebeyondpartnership.co.uk
END:VEVENT
BEGIN:VEVENT
DTSTART;VALUE=DATE:20231104
DTEND;VALUE=DATE:20231106
DTSTAMP:20260423T132253
CREATED:20230605T164450Z
LAST-MODIFIED:20230605T164450Z
UID:10001014-1699056000-1699228799@leadershipembodiment.com
SUMMARY:Level 1 with Paul King
DESCRIPTION:Join Paul King for a 2-Day Level 1 in London\, United Kingdom. For a description of the Leadership Embodiment Level 1\, please see our Public Courses page.   \nDates: 4-5 November 2023 \n \nEurope / United Kingdom
URL:https://leadershipembodiment.com/event/level-1-with-paul-king-61/
LOCATION:London Venue\, London\, United Kingdom
CATEGORIES:Europe
ORGANIZER;CN="Paul King":MAILTO:info@thebeyondpartnership.co.uk
END:VEVENT
BEGIN:VEVENT
DTSTART;VALUE=DATE:20230907
DTEND;VALUE=DATE:20230909
DTSTAMP:20260423T132253
CREATED:20230605T164156Z
LAST-MODIFIED:20230605T164521Z
UID:10001013-1694044800-1694217599@leadershipembodiment.com
SUMMARY:Level 1 with Paul King
DESCRIPTION:Join Paul King for a 2-Day Level 1 in Copenhagen\, Denmark. For a description of the Leadership Embodiment Level 1\, please see our Public Courses page.   \nDates: 7-8 September 2023 \n \nEurope
URL:https://leadershipembodiment.com/event/level-1-with-paul-king-60/
LOCATION:Copenhagen Venue\, Copenhagen\, Denmark
CATEGORIES:Europe
ORGANIZER;CN="Paul King":MAILTO:info@thebeyondpartnership.co.uk
END:VEVENT
END:VCALENDAR