BEGIN:VCALENDAR
VERSION:2.0
PRODID:-//Leadership Embodiment - ECPv6.15.20//NONSGML v1.0//EN
CALSCALE:GREGORIAN
METHOD:PUBLISH
X-ORIGINAL-URL:https://leadershipembodiment.com
X-WR-CALDESC:Events for Leadership Embodiment
REFRESH-INTERVAL;VALUE=DURATION:PT1H
X-Robots-Tag:noindex
X-PUBLISHED-TTL:PT1H
BEGIN:VTIMEZONE
TZID:America/Los_Angeles
BEGIN:DAYLIGHT
TZOFFSETFROM:-0800
TZOFFSETTO:-0700
TZNAME:PDT
DTSTART:20170312T100000
END:DAYLIGHT
BEGIN:STANDARD
TZOFFSETFROM:-0700
TZOFFSETTO:-0800
TZNAME:PST
DTSTART:20171105T090000
END:STANDARD
BEGIN:DAYLIGHT
TZOFFSETFROM:-0800
TZOFFSETTO:-0700
TZNAME:PDT
DTSTART:20180311T100000
END:DAYLIGHT
BEGIN:STANDARD
TZOFFSETFROM:-0700
TZOFFSETTO:-0800
TZNAME:PST
DTSTART:20181104T090000
END:STANDARD
BEGIN:DAYLIGHT
TZOFFSETFROM:-0800
TZOFFSETTO:-0700
TZNAME:PDT
DTSTART:20190310T100000
END:DAYLIGHT
BEGIN:STANDARD
TZOFFSETFROM:-0700
TZOFFSETTO:-0800
TZNAME:PST
DTSTART:20191103T090000
END:STANDARD
BEGIN:DAYLIGHT
TZOFFSETFROM:-0800
TZOFFSETTO:-0700
TZNAME:PDT
DTSTART:20200308T100000
END:DAYLIGHT
BEGIN:STANDARD
TZOFFSETFROM:-0700
TZOFFSETTO:-0800
TZNAME:PST
DTSTART:20201101T090000
END:STANDARD
BEGIN:DAYLIGHT
TZOFFSETFROM:-0800
TZOFFSETTO:-0700
TZNAME:PDT
DTSTART:20210314T100000
END:DAYLIGHT
BEGIN:STANDARD
TZOFFSETFROM:-0700
TZOFFSETTO:-0800
TZNAME:PST
DTSTART:20211107T090000
END:STANDARD
END:VTIMEZONE
BEGIN:VEVENT
DTSTART;VALUE=DATE:20201205
DTEND;VALUE=DATE:20201207
DTSTAMP:20260423T222553
CREATED:20200203T183551Z
LAST-MODIFIED:20200203T183551Z
UID:10000387-1607126400-1607299199@leadershipembodiment.com
SUMMARY:Level 1 with Paul King
DESCRIPTION:Join Paul King for a 2-Day Level 1 in Bucharest\, Romania. For a description of a Level 1\, please see our courses page.  \nDates: 5-6 December 2020
URL:https://leadershipembodiment.com/event/level-1-with-paul-king-47/
LOCATION:Bucharest Venue\, Bucharest\, Romania
CATEGORIES:Europe
ATTACH;FMTTYPE=:
ORGANIZER;CN="Paul King":MAILTO:info@thebeyondpartnership.co.uk
END:VEVENT
BEGIN:VEVENT
DTSTART;VALUE=DATE:20181110
DTEND;VALUE=DATE:20181112
DTSTAMP:20260423T222553
CREATED:20180813T225213Z
LAST-MODIFIED:20180813T225213Z
UID:10000727-1541808000-1541980799@leadershipembodiment.com
SUMMARY:Level 2 with Paul King
DESCRIPTION:Join Paul King for a 2-Day Level 2 in Bucharest\, Romania.  You must have completed a Level 1 before attending a Level 2.  For a description of a Level 2\, please see our courses page.   \n10-11 November 2018
URL:https://leadershipembodiment.com/event/level-2-with-paul-king-8/
LOCATION:Bucharest Venue\, Bucharest\, Romania
CATEGORIES:Europe
ATTACH;FMTTYPE=:
ORGANIZER;CN="Paul King":MAILTO:info@thebeyondpartnership.co.uk
END:VEVENT
BEGIN:VEVENT
DTSTART;VALUE=DATE:20180615
DTEND;VALUE=DATE:20180617
DTSTAMP:20260423T222553
CREATED:20171215T170422Z
LAST-MODIFIED:20171215T170422Z
UID:10000680-1529020800-1529193599@leadershipembodiment.com
SUMMARY:Level 1 with Paul King
DESCRIPTION:Join Paul King in Bucharest\, Romania for a 2-Day Level 1 Workshop.  For a description of a Level 1\, please see our courses page. \nDates: 16-15 June 2018
URL:https://leadershipembodiment.com/event/level-1-with-paul-king-19/
LOCATION:Bucharest Venue\, Bucharest\, Romania
CATEGORIES:Europe
ATTACH;FMTTYPE=:
ORGANIZER;CN="Paul King":MAILTO:paul@thebeyondpartnership.co.uk
END:VEVENT
END:VCALENDAR