BEGIN:VCALENDAR
VERSION:2.0
PRODID:-//Leadership Embodiment - ECPv6.15.20//NONSGML v1.0//EN
CALSCALE:GREGORIAN
METHOD:PUBLISH
X-ORIGINAL-URL:https://leadershipembodiment.com
X-WR-CALDESC:Events for Leadership Embodiment
REFRESH-INTERVAL;VALUE=DURATION:PT1H
X-Robots-Tag:noindex
X-PUBLISHED-TTL:PT1H
BEGIN:VTIMEZONE
TZID:UTC
BEGIN:STANDARD
TZOFFSETFROM:+0000
TZOFFSETTO:+0000
TZNAME:UTC
DTSTART:20130101T000000
END:STANDARD
END:VTIMEZONE
BEGIN:VEVENT
DTSTART;VALUE=DATE:20150821
DTEND;VALUE=DATE:20150824
DTSTAMP:20260424T163647
CREATED:20150120T201759Z
LAST-MODIFIED:20150120T201759Z
UID:10000880-1440115200-1440374399@leadershipembodiment.com
SUMMARY:European Leadership Embodiment Coach Training\, London\, UK - Module 5
DESCRIPTION:For further information\, please visit the Centre for Embodied Wisdom website. \nLeadership Embodiment Coach Training Following on from the LE Pathway of the Fundamentals and Intermediate courses and the retreat\, the Coach Training offers a full package of support and instruction for integrating this practice into your work with clients. \nLeadership Embodiment is a stand-alone embodied coaching model\, as well as serving as a somatic component alongside other coaching models. The somatic exercises have equivalent conversational exercises so that clients can be worked with in multiple modalities. The LE training is tailored to professional coaches and facilitators and conveys the skills we need to offer a range of training exercises\, working with individuals as well as small teams or groups. \nLondon dates\, 2014 – 15\nModule 1 :- November 28 – 30th 2014\nModule 2 :- February 6 – 8th 2015\nModule 3 :- April 10 – 12th 2015\nModule 4 :- June 26 – 28th 2015\nModule 5 :- August 21 – 23rd 2015 \nTraining: Sessions and Practice\nThe 9-month LECT program consists of 5 training sessions; each is typically 3 days long. Sessions are held every 2 to 3 months from the start of the program year. \nIn addition to the training sessions\, trainees will:- \n\nReceive individual coaching from Session Instructors (Wendy and Tiphani Palmer)\nReceive mentor coaching from LE Associates\nBe assigned to a trainee practice group for the duration of the training\, meeting or Skyping at least twice between the training session blocks\nTake on at least one practice coaching client for a minimum of 8 sessions. Some of these sessions may be recorded to enable feedback.\n\nFor further information and to book your place\, please visit the Centre for Embodied Wisdom website.
URL:https://leadershipembodiment.com/event/european-leadership-embodiment-coach-training-london-uk-module-5/
LOCATION:Central London Venue\, London\, United Kingdom
CATEGORIES:Europe
END:VEVENT
BEGIN:VEVENT
DTSTART;VALUE=DATE:20150626
DTEND;VALUE=DATE:20150629
DTSTAMP:20260424T163647
CREATED:20150120T201452Z
LAST-MODIFIED:20150120T201452Z
UID:10000879-1435276800-1435535999@leadershipembodiment.com
SUMMARY:European Leadership Embodiment Coach Training\, London\, UK - Module 4
DESCRIPTION:For further information\, please visit the Centre for Embodied Wisdom website. \nLeadership Embodiment Coach Training Following on from the LE Pathway of the Fundamentals and Intermediate courses and the retreat\, the Coach Training offers a full package of support and instruction for integrating this practice into your work with clients. \nLeadership Embodiment is a stand-alone embodied coaching model\, as well as serving as a somatic component alongside other coaching models. The somatic exercises have equivalent conversational exercises so that clients can be worked with in multiple modalities. The LE training is tailored to professional coaches and facilitators and conveys the skills we need to offer a range of training exercises\, working with individuals as well as small teams or groups. \nLondon dates\, 2014 – 15\nModule 1 :- November 28 – 30th 2014\nModule 2 :- February 6 – 8th 2015\nModule 3 :- April 10 – 12th 2015\nModule 4 :- June 26 – 28th 2015\nModule 5 :- August 21 – 23rd 2015 \nTraining: Sessions and Practice\nThe 9-month LECT program consists of 5 training sessions; each is typically 3 days long. Sessions are held every 2 to 3 months from the start of the program year. \nIn addition to the training sessions\, trainees will:- \n\nReceive individual coaching from Session Instructors (Wendy and Tiphani Palmer)\nReceive mentor coaching from LE Associates\nBe assigned to a trainee practice group for the duration of the training\, meeting or Skyping at least twice between the training session blocks\nTake on at least one practice coaching client for a minimum of 8 sessions. Some of these sessions may be recorded to enable feedback.\n\nFor further information and to book your place\, please visit the Centre for Embodied Wisdom website.
URL:https://leadershipembodiment.com/event/european-leadership-embodiment-coach-training-london-uk-module-4/
LOCATION:Central London Venue\, London\, United Kingdom
CATEGORIES:Europe
END:VEVENT
BEGIN:VEVENT
DTSTART;VALUE=DATE:20150617
DTEND;VALUE=DATE:20150619
DTSTAMP:20260424T163647
CREATED:20150226T193022Z
LAST-MODIFIED:20150226T193022Z
UID:10000917-1434499200-1434671999@leadershipembodiment.com
SUMMARY:Flourishing under Pressure with Michele Seymour
DESCRIPTION:Michele Seymour of Balance Matters offers a two-day Level 1 Fundamentals workshop in Central London.  For more information\, see this flyer: Balance Matters Apr-Jun \nDates: June 17th & 18th 2015 \nEarly bird rate discount of 10% is available.  For registration\, go to Eventbrite.  \nFor a description of Level 1\, please see our Courses page.
URL:https://leadershipembodiment.com/event/flourishing-under-pressure-with-michele-seymour-2/
LOCATION:Central London Venue\, London\, United Kingdom
CATEGORIES:Europe
ORGANIZER;CN="Michele Seymour":MAILTO:Jacky (at) balancematters (dot) com
END:VEVENT
BEGIN:VEVENT
DTSTART;VALUE=DATE:20150428
DTEND;VALUE=DATE:20150430
DTSTAMP:20260424T163647
CREATED:20150226T192801Z
LAST-MODIFIED:20150226T192801Z
UID:10000916-1430179200-1430351999@leadershipembodiment.com
SUMMARY:Flourishing under Pressure with Michele Seymour
DESCRIPTION:Michele Seymour of Balance Matters offers a two-day Level 1 Fundamentals workshop in Central London.  For more information\, see this flyer: Balance Matters Apr-Jun\nDates: April 28th & 29th 2015 \nEarly bird rate discount of 10% is available.  For registration\, go to Eventbrite.  \nFor a description of Level 1\, please see our Courses page.
URL:https://leadershipembodiment.com/event/flourishing-under-pressure-with-michele-seymour/
LOCATION:Central London Venue\, London\, United Kingdom
CATEGORIES:Europe
ORGANIZER;CN="Michele Seymour":MAILTO:Jacky (at) balancematters (dot) com
END:VEVENT
BEGIN:VEVENT
DTSTART;VALUE=DATE:20150410
DTEND;VALUE=DATE:20150413
DTSTAMP:20260424T163647
CREATED:20150120T201208Z
LAST-MODIFIED:20150120T201208Z
UID:10000878-1428624000-1428883199@leadershipembodiment.com
SUMMARY:European Leadership Embodiment Coach Training\, London\, UK - Module 3
DESCRIPTION:For further information and to book your place\, please visit the Centre for Embodied Wisdom website. \nLeadership Embodiment Coach Training Following on from the LE Pathway of the Fundamentals and Intermediate courses and the retreat\, the Coach Training offers a full package of support and instruction for integrating this practice into your work with clients. \nLeadership Embodiment is a stand-alone embodied coaching model\, as well as serving as a somatic component alongside other coaching models. The somatic exercises have equivalent conversational exercises so that clients can be worked with in multiple modalities. The LE training is tailored to professional coaches and facilitators and conveys the skills we need to offer a range of training exercises\, working with individuals as well as small teams or groups. \nLondon dates\, 2014 – 15\nModule 1 :- November 28 – 30th 2014\nModule 2 :- February 6 – 8th 2015\nModule 3 :- April 10 – 12th 2015\nModule 4 :- June 26 – 28th 2015\nModule 5 :- August 21 – 23rd 2015 \nTraining: Sessions and Practice\nThe 9-month LECT program consists of 5 training sessions; each is typically 3 days long. Sessions are held every 2 to 3 months from the start of the program year. \nIn addition to the training sessions\, trainees will:- \n\nReceive individual coaching from Session Instructors (Wendy and Tiphani Palmer)\nReceive mentor coaching from LE Associates\nBe assigned to a trainee practice group for the duration of the training\, meeting or Skyping at least twice between the training session blocks\nTake on at least one practice coaching client for a minimum of 8 sessions. Some of these sessions may be recorded to enable feedback.\n\nFor further information and to book your place\, please visit the Centre for Embodied Wisdom website.
URL:https://leadershipembodiment.com/event/european-leadership-embodiment-coach-training-london-uk-module-3/
LOCATION:Central London Venue\, London\, United Kingdom
CATEGORIES:Europe
END:VEVENT
BEGIN:VEVENT
DTSTART;VALUE=DATE:20150206
DTEND;VALUE=DATE:20150209
DTSTAMP:20260424T163647
CREATED:20150120T200755Z
LAST-MODIFIED:20150120T200755Z
UID:10000877-1423180800-1423439999@leadershipembodiment.com
SUMMARY:European Leadership Embodiment Coach Training\, London UK - Module 2
DESCRIPTION:For further information and to book your place\, please visit the Centre for Embodied Wisdom website. \nLeadership Embodiment Coach Training Following on from the LE Pathway of the Fundamentals and Intermediate courses and the retreat\, the Coach Training offers a full package of support and instruction for integrating this practice into your work with clients. \nLeadership Embodiment is a stand-alone embodied coaching model\, as well as serving as a somatic component alongside other coaching models. The somatic exercises have equivalent conversational exercises so that clients can be worked with in multiple modalities. The LE training is tailored to professional coaches and facilitators and conveys the skills we need to offer a range of training exercises\, working with individuals as well as small teams or groups. \nLondon dates\, 2014 – 15\nModule 1 :- November 28 – 30th 2014\nModule 2 :- February 6 – 8th 2015\nModule 3 :- April 10 – 12th 2015\nModule 4 :- June 26 – 28th 2015\nModule 5 :- August 21 – 23rd 2015 \nTraining: Sessions and Practice\nThe 9-month LECT program consists of 5 training sessions; each is typically 3 days long. Sessions are held every 2 to 3 months from the start of the program year. \nIn addition to the training sessions\, trainees will:- \n\nReceive individual coaching from Session Instructors (Wendy and Tiphani Palmer)\nReceive mentor coaching from LE Associates\nBe assigned to a trainee practice group for the duration of the training\, meeting or Skyping at least twice between the training session blocks\nTake on at least one practice coaching client for a minimum of 8 sessions. Some of these sessions may be recorded to enable feedback.\n\nFor further information and to book your place\, please visit the Centre for Embodied Wisdom website.
URL:https://leadershipembodiment.com/event/european-leadership-embodiment-coach-training-london-uk-module-2/
LOCATION:Central London Venue\, London\, United Kingdom
CATEGORIES:Europe
END:VEVENT
BEGIN:VEVENT
DTSTART;VALUE=DATE:20141017
DTEND;VALUE=DATE:20141018
DTSTAMP:20260424T163647
CREATED:20140114T235005Z
LAST-MODIFIED:20140114T235005Z
UID:10000811-1413504000-1413590399@leadershipembodiment.com
SUMMARY:Embodiment Facilitator Course - London 2014 with Wendy Palmer
DESCRIPTION:Wendy will be a guest course leader at the Embodiment Facilitator Course in London.
URL:https://leadershipembodiment.com/event/embodiment-facilitator-course-london-2014-with-wendy-palmer/
LOCATION:Central London Venue\, London\, United Kingdom
CATEGORIES:Europe
END:VEVENT
BEGIN:VEVENT
DTSTART;TZID=UTC:20140210T100000
DTEND;TZID=UTC:20140210T170000
DTSTAMP:20260424T163647
CREATED:20140109T193932Z
LAST-MODIFIED:20140109T193932Z
UID:10000810-1392026400-1392051600@leadershipembodiment.com
SUMMARY:Level 1 with Michele Seymour (Day 2 of 2)
DESCRIPTION:The programme will be over 2 separate days – choose your dates:\nJanuary 24th 2014 / February 10th 2014\nor February 13th /February 28th 2014\nor March 4th /March 21st 2014 \nFor more information\, click here.
URL:https://leadershipembodiment.com/event/level-1-with-michele-seymour-day-2-of-2/
LOCATION:Central London Venue\, London\, United Kingdom
ORGANIZER;CN="Michele Seymour":MAILTO:Jacky (at) balancematters (dot) com
END:VEVENT
END:VCALENDAR