BEGIN:VCALENDAR
VERSION:2.0
PRODID:-//Leadership Embodiment - ECPv6.15.20//NONSGML v1.0//EN
CALSCALE:GREGORIAN
METHOD:PUBLISH
X-ORIGINAL-URL:https://leadershipembodiment.com
X-WR-CALDESC:Events for Leadership Embodiment
REFRESH-INTERVAL;VALUE=DURATION:PT1H
X-Robots-Tag:noindex
X-PUBLISHED-TTL:PT1H
BEGIN:VTIMEZONE
TZID:UTC
BEGIN:STANDARD
TZOFFSETFROM:+0000
TZOFFSETTO:+0000
TZNAME:UTC
DTSTART:20130101T000000
END:STANDARD
END:VTIMEZONE
BEGIN:VEVENT
DTSTART;TZID=UTC:20140726T090000
DTEND;TZID=UTC:20140727T170000
DTSTAMP:20260424T080338
CREATED:20140629T072156Z
LAST-MODIFIED:20140629T072156Z
UID:10000830-1406365200-1406480400@leadershipembodiment.com
SUMMARY:Cultivating Compassion\, Confidence\, Presence: Leadership Embodiment Fundamentals
DESCRIPTION:Leadership Embodiment Fundamentals \nThis course allows you to become familiar with your signature response to pressure\, and offers you powerful tools to shift to a more creative\, skillful and compassionate state. It gives you practices to engage with clarity\, creativity and compassion even when you are experiencing conflict and opposition. \nThe workshop creates an embodied experience – stretching and challenging you to explore the mind-body connection and how it impacts on the way you communicate\, collaborate\, and pursue your goals. The tools and practices have their roots in the traditions of mindfulness and martial arts\, giving immediate physical feedback\, powerfully showing up habitual reactive patterns of behaviour. Through physical experience you will discover how you can be more creative\, more powerful\, and more fully embodied as leaders in your own lives. \nWe will explore themes such as remaining functional under pressure\, becoming comfortable with conflict\, and remaining responsive to demands without getting bowed down by them.
URL:https://leadershipembodiment.com/event/cultivating-compassion-confidence-presence-leadership-embodiment-fundamentals/
LOCATION:Conway Hall\, 25 Red Lion Square\, London\, United Kingdom
CATEGORIES:Europe
ATTACH;FMTTYPE=:
ORGANIZER;CN="John Tuite":MAILTO:john.tuite@centreforembodiedwisdom.com
END:VEVENT
END:VCALENDAR