BEGIN:VCALENDAR
VERSION:2.0
PRODID:-//Leadership Embodiment - ECPv6.15.20//NONSGML v1.0//EN
CALSCALE:GREGORIAN
METHOD:PUBLISH
X-ORIGINAL-URL:https://leadershipembodiment.com
X-WR-CALDESC:Events for Leadership Embodiment
REFRESH-INTERVAL;VALUE=DURATION:PT1H
X-Robots-Tag:noindex
X-PUBLISHED-TTL:PT1H
BEGIN:VTIMEZONE
TZID:America/Los_Angeles
BEGIN:DAYLIGHT
TZOFFSETFROM:-0800
TZOFFSETTO:-0700
TZNAME:PDT
DTSTART:20150308T100000
END:DAYLIGHT
BEGIN:STANDARD
TZOFFSETFROM:-0700
TZOFFSETTO:-0800
TZNAME:PST
DTSTART:20151101T090000
END:STANDARD
BEGIN:DAYLIGHT
TZOFFSETFROM:-0800
TZOFFSETTO:-0700
TZNAME:PDT
DTSTART:20160313T100000
END:DAYLIGHT
BEGIN:STANDARD
TZOFFSETFROM:-0700
TZOFFSETTO:-0800
TZNAME:PST
DTSTART:20161106T090000
END:STANDARD
BEGIN:DAYLIGHT
TZOFFSETFROM:-0800
TZOFFSETTO:-0700
TZNAME:PDT
DTSTART:20170312T100000
END:DAYLIGHT
BEGIN:STANDARD
TZOFFSETFROM:-0700
TZOFFSETTO:-0800
TZNAME:PST
DTSTART:20171105T090000
END:STANDARD
BEGIN:DAYLIGHT
TZOFFSETFROM:-0800
TZOFFSETTO:-0700
TZNAME:PDT
DTSTART:20180311T100000
END:DAYLIGHT
BEGIN:STANDARD
TZOFFSETFROM:-0700
TZOFFSETTO:-0800
TZNAME:PST
DTSTART:20181104T090000
END:STANDARD
BEGIN:DAYLIGHT
TZOFFSETFROM:-0800
TZOFFSETTO:-0700
TZNAME:PDT
DTSTART:20190310T100000
END:DAYLIGHT
BEGIN:STANDARD
TZOFFSETFROM:-0700
TZOFFSETTO:-0800
TZNAME:PST
DTSTART:20191103T090000
END:STANDARD
BEGIN:DAYLIGHT
TZOFFSETFROM:-0800
TZOFFSETTO:-0700
TZNAME:PDT
DTSTART:20200308T100000
END:DAYLIGHT
BEGIN:STANDARD
TZOFFSETFROM:-0700
TZOFFSETTO:-0800
TZNAME:PST
DTSTART:20201101T090000
END:STANDARD
END:VTIMEZONE
BEGIN:VTIMEZONE
TZID:UTC
BEGIN:STANDARD
TZOFFSETFROM:+0000
TZOFFSETTO:+0000
TZNAME:UTC
DTSTART:20140101T000000
END:STANDARD
END:VTIMEZONE
BEGIN:VEVENT
DTSTART;VALUE=DATE:20190220
DTEND;VALUE=DATE:20190222
DTSTAMP:20260424T131853
CREATED:20181102T211422Z
LAST-MODIFIED:20181102T211422Z
UID:10000736-1550620800-1550793599@leadershipembodiment.com
SUMMARY:Level 1 with RJ Jennings & Sahar Azarabadi
DESCRIPTION:Join RJ & Sahar for a 2-Day Level 1 in San Rafael\, California.  For a description of a Level 1\, please see our courses page.   \nDates: 20-21 February 2019
URL:https://leadershipembodiment.com/event/level-1-with-rj-jennings-sahar-azarabadi-3/
LOCATION:Creekside Center\, 7 Mount Lassen Drive\, San Rafael\, CA\, 94903\, United States
CATEGORIES:North America
ATTACH;FMTTYPE=:
ORGANIZER;CN="Sahar Azarabadi":MAILTO:Sahar@AnthosSolutions.com
GEO:38.0258755;-122.5695532
X-APPLE-STRUCTURED-LOCATION;VALUE=URI;X-ADDRESS=Creekside Center 7 Mount Lassen Drive San Rafael CA 94903 United States;X-APPLE-RADIUS=500;X-TITLE=7 Mount Lassen Drive:geo:-122.5695532,38.0258755
END:VEVENT
BEGIN:VEVENT
DTSTART;VALUE=DATE:20181024
DTEND;VALUE=DATE:20181026
DTSTAMP:20260424T131853
CREATED:20180209T174657Z
LAST-MODIFIED:20180209T174657Z
UID:10000696-1540339200-1540511999@leadershipembodiment.com
SUMMARY:Level 2 with RJ Jennings
DESCRIPTION:Join RJ and his assistant Sahar for a 2-Day Level 2 course in San Rafael\, California. You must have completed a Level 1 before enrolling in a Level 2. For descriptions of Level 1 and Level 2\, please see our courses page.  \nDates: 24-25 October\, 2018
URL:https://leadershipembodiment.com/event/level-2-with-sahar-azarabadi-rj-jennings-2/
LOCATION:Creekside Center\, 7 Mount Lassen Drive\, San Rafael\, CA\, 94903\, United States
CATEGORIES:North America
ATTACH;FMTTYPE=:
ORGANIZER;CN="RJ":MAILTO:rj@soulfulview.com
GEO:38.0258755;-122.5695532
X-APPLE-STRUCTURED-LOCATION;VALUE=URI;X-ADDRESS=Creekside Center 7 Mount Lassen Drive San Rafael CA 94903 United States;X-APPLE-RADIUS=500;X-TITLE=7 Mount Lassen Drive:geo:-122.5695532,38.0258755
END:VEVENT
BEGIN:VEVENT
DTSTART;VALUE=DATE:20180919
DTEND;VALUE=DATE:20180921
DTSTAMP:20260424T131853
CREATED:20180209T173919Z
LAST-MODIFIED:20180209T173919Z
UID:10000695-1537315200-1537487999@leadershipembodiment.com
SUMMARY:Level 1 with Sahar Azarabadi & RJ Jennings
DESCRIPTION:Join Sahar and RJ for a 2-Day Level 1 in San Rafael\, California. For a description of a Level 1\, please see our courses page.  \nDates: 19-20 September\, 2018
URL:https://leadershipembodiment.com/event/level-1-with-sahar-azarabadi-rj-jennings-2/
LOCATION:Creekside Center\, 7 Mount Lassen Drive\, San Rafael\, CA\, 94903\, United States
CATEGORIES:North America
ATTACH;FMTTYPE=:
ORGANIZER;CN="Sahar Azarabadi":MAILTO:Sahar@AnthosSolutions.com
GEO:38.0258755;-122.5695532
X-APPLE-STRUCTURED-LOCATION;VALUE=URI;X-ADDRESS=Creekside Center 7 Mount Lassen Drive San Rafael CA 94903 United States;X-APPLE-RADIUS=500;X-TITLE=7 Mount Lassen Drive:geo:-122.5695532,38.0258755
END:VEVENT
BEGIN:VEVENT
DTSTART;VALUE=DATE:20180531
DTEND;VALUE=DATE:20180602
DTSTAMP:20260424T131853
CREATED:20180517T130827Z
LAST-MODIFIED:20180517T130827Z
UID:10000717-1527724800-1527897599@leadershipembodiment.com
SUMMARY:Level 2 with RJ Jennings
DESCRIPTION:Join RJ Jennings for a 2-Day Level 2 in San Rafael\, California. For a description of Level 2\, please see our courses page.  You must have completed a Level 1 before attending a Level 2.  New prerequisites for attending an Intensive Retreat with Wendy Palmer now include both a Level 1 and Level 2.   \nDates: May 31 & June 1st
URL:https://leadershipembodiment.com/event/level-2-with-rj-jennings-3/
LOCATION:Creekside Center\, 7 Mount Lassen Drive\, San Rafael\, CA\, 94903\, United States
CATEGORIES:North America
ATTACH;FMTTYPE=:
ORGANIZER;CN="RJ":MAILTO:rj@soulview.com
GEO:38.0258755;-122.5695532
X-APPLE-STRUCTURED-LOCATION;VALUE=URI;X-ADDRESS=Creekside Center 7 Mount Lassen Drive San Rafael CA 94903 United States;X-APPLE-RADIUS=500;X-TITLE=7 Mount Lassen Drive:geo:-122.5695532,38.0258755
END:VEVENT
BEGIN:VEVENT
DTSTART;VALUE=DATE:20180327
DTEND;VALUE=DATE:20180329
DTSTAMP:20260424T131853
CREATED:20171206T231732Z
LAST-MODIFIED:20171206T231732Z
UID:10000677-1522108800-1522281599@leadershipembodiment.com
SUMMARY:Level 2 with RJ Jennings
DESCRIPTION:Join RJ Jennings and Assistant Sahar Azarabadi for a 2-Day Level 2 workshop in San Rafael\, CA. You must have completed a Level 1 course before taking a Level 2.  For a description of a Level 2\, please see our courses page. For more information or to inquire about registration\, please click here.   \nDates: 27-28 March 2018
URL:https://leadershipembodiment.com/event/level-2-with-sahar-azarabadi-rj-jennings/
LOCATION:Creekside Center\, 7 Mount Lassen Drive\, San Rafael\, CA\, 94903\, United States
CATEGORIES:North America
ATTACH;FMTTYPE=:
ORGANIZER;CN="RJ":MAILTO:rj@soulview.com
GEO:38.0258755;-122.5695532
X-APPLE-STRUCTURED-LOCATION;VALUE=URI;X-ADDRESS=Creekside Center 7 Mount Lassen Drive San Rafael CA 94903 United States;X-APPLE-RADIUS=500;X-TITLE=7 Mount Lassen Drive:geo:-122.5695532,38.0258755
END:VEVENT
BEGIN:VEVENT
DTSTART;VALUE=DATE:20180130
DTEND;VALUE=DATE:20180201
DTSTAMP:20260424T131853
CREATED:20171206T231213Z
LAST-MODIFIED:20171206T231213Z
UID:10000676-1517270400-1517443199@leadershipembodiment.com
SUMMARY:Level 1 with Sahar Azarabadi & RJ Jennings
DESCRIPTION:Join Sahar and RJ for a 2-Day Level workshop in San Rafael\, CA. A description of a Level 1 can be found on our courses page. For more information and to inquire about registering\, please click here.   \nDates: 30-31 January 2018 (9:00AM – 4:00PM)
URL:https://leadershipembodiment.com/event/level-1-with-sahar-azarabadi-rj-jennings/
LOCATION:Creekside Center\, 7 Mount Lassen Drive\, San Rafael\, CA\, 94903\, United States
CATEGORIES:North America
ATTACH;FMTTYPE=:
ORGANIZER;CN="Sahar Azarabadi":MAILTO:Sahar@AnthosSolutions.com
GEO:38.0258755;-122.5695532
X-APPLE-STRUCTURED-LOCATION;VALUE=URI;X-ADDRESS=Creekside Center 7 Mount Lassen Drive San Rafael CA 94903 United States;X-APPLE-RADIUS=500;X-TITLE=7 Mount Lassen Drive:geo:-122.5695532,38.0258755
END:VEVENT
BEGIN:VEVENT
DTSTART;VALUE=DATE:20171109
DTEND;VALUE=DATE:20171111
DTSTAMP:20260424T131853
CREATED:20170710T210356Z
LAST-MODIFIED:20170710T210356Z
UID:10000658-1510185600-1510358399@leadershipembodiment.com
SUMMARY:Level 2 with RJ Jennings
DESCRIPTION:Join RJ Jennings and Assistant Sahar Azarabadi for a 2-Day Level 2 course in San Rafael\, California. You must have completed a Level 1 before enrolling in a Level 2 course. For descriptions of our workshops and retreats\, please see our courses page.   \nDates: 9-10 November\, 2017
URL:https://leadershipembodiment.com/event/level-2-with-rj-jennings/
LOCATION:Creekside Center\, 7 Mount Lassen Drive\, San Rafael\, CA\, 94903\, United States
CATEGORIES:North America
ATTACH;FMTTYPE=:
ORGANIZER;CN="RJ":MAILTO:rj@soulfulview.com
GEO:38.0258755;-122.5695532
X-APPLE-STRUCTURED-LOCATION;VALUE=URI;X-ADDRESS=Creekside Center 7 Mount Lassen Drive San Rafael CA 94903 United States;X-APPLE-RADIUS=500;X-TITLE=7 Mount Lassen Drive:geo:-122.5695532,38.0258755
END:VEVENT
BEGIN:VEVENT
DTSTART;VALUE=DATE:20170914
DTEND;VALUE=DATE:20170916
DTSTAMP:20260424T131853
CREATED:20170710T204702Z
LAST-MODIFIED:20170710T204702Z
UID:10000657-1505347200-1505519999@leadershipembodiment.com
SUMMARY:Level 1 with RJ Jennings & Sahar Azarabadi
DESCRIPTION:Join RJ and Sahar for a 2-Day Level 1 in San Rafael\, California. For a description of a Level 1\, please see our courses page.  \nDates: September 14-15\, 2017
URL:https://leadershipembodiment.com/event/level-1-with-rj-jennings-sahar-azarabadi/
LOCATION:Creekside Center\, 7 Mount Lassen Drive\, San Rafael\, CA\, 94903\, United States
CATEGORIES:North America
ATTACH;FMTTYPE=:
ORGANIZER;CN="Sahar Azarabadi":MAILTO:Sahar@AnthosSolutions.com
GEO:38.0258755;-122.5695532
X-APPLE-STRUCTURED-LOCATION;VALUE=URI;X-ADDRESS=Creekside Center 7 Mount Lassen Drive San Rafael CA 94903 United States;X-APPLE-RADIUS=500;X-TITLE=7 Mount Lassen Drive:geo:-122.5695532,38.0258755
END:VEVENT
BEGIN:VEVENT
DTSTART;VALUE=DATE:20170413
DTEND;VALUE=DATE:20170415
DTSTAMP:20260424T131853
CREATED:20170316T173043Z
LAST-MODIFIED:20170316T173043Z
UID:10000628-1492041600-1492214399@leadershipembodiment.com
SUMMARY:Level 1 with RJ Jennings & Florian Tan
DESCRIPTION:POSTPONED – PLEASE CONTACT ORGANIZERS FOR NEW DATES.  Join “RJ” Jennings and Florian Tan for a 2-Day Level 1 Leadership Embodiment course in San Rafael\, California.  For a description of a Level 1\, please see our courses page.  \nDates: April 13-14\, 2017
URL:https://leadershipembodiment.com/event/level-1-with-rj-jennings-florian-tan/
LOCATION:Creekside Center\, 7 Mount Lassen Drive\, San Rafael\, CA\, 94903\, United States
CATEGORIES:North America
ATTACH;FMTTYPE=:
ORGANIZER;CN="RJ":MAILTO:rj@soulfulview.com
GEO:38.0258755;-122.5695532
X-APPLE-STRUCTURED-LOCATION;VALUE=URI;X-ADDRESS=Creekside Center 7 Mount Lassen Drive San Rafael CA 94903 United States;X-APPLE-RADIUS=500;X-TITLE=7 Mount Lassen Drive:geo:-122.5695532,38.0258755
END:VEVENT
BEGIN:VEVENT
DTSTART;VALUE=DATE:20161112
DTEND;VALUE=DATE:20161114
DTSTAMP:20260424T131853
CREATED:20161006T152700Z
LAST-MODIFIED:20161006T152700Z
UID:10000591-1478908800-1479081599@leadershipembodiment.com
SUMMARY:Level 1 with RJ Jennings
DESCRIPTION:Join RJ Jennings in San Rafael\, California for a 2-day Level 1 Fundamentals.  For a description of a Level 1\, please see our courses page.   \nDates: November 12 & 13\, 2016\nTimes: 10:00AM – 5:00PM
URL:https://leadershipembodiment.com/event/level-1-with-rj-jennings-2/
LOCATION:Creekside Center\, 7 Mount Lassen Drive\, San Rafael\, CA\, 94903\, United States
CATEGORIES:North America
ORGANIZER;CN="RJ":MAILTO:rj@soulfulview.com
GEO:38.0258755;-122.5695532
X-APPLE-STRUCTURED-LOCATION;VALUE=URI;X-ADDRESS=Creekside Center 7 Mount Lassen Drive San Rafael CA 94903 United States;X-APPLE-RADIUS=500;X-TITLE=7 Mount Lassen Drive:geo:-122.5695532,38.0258755
END:VEVENT
BEGIN:VEVENT
DTSTART;VALUE=DATE:20160212
DTEND;VALUE=DATE:20160214
DTSTAMP:20260424T131853
CREATED:20150811T202343Z
LAST-MODIFIED:20150811T202343Z
UID:10000521-1455235200-1455407999@leadershipembodiment.com
SUMMARY:Level 1 with RJ Jennings
DESCRIPTION:Join RJ Jennings in San Rafael for a 2-day Level 1 workshop.   \nCourse Details \nWhen:\nFebruary 12 & 13\n 9am to 4pm \nWhere:\nCreekside Center\n7 Mt. Lassen Rd. B126 San Rafael\, CA 94903\nCost:\n$379 (Financial aid available) \nMasterCard\nVisa\n($50 deposit required to reserve your spot)\nContact:\nRJ\n415.517.2684\nrj@soulfulview.com \nSpace is limited.\nPlease contact RJ to hold your space \nFrom RJ’s flyer:\nIf knowing how to act under pressure was all we needed\, most of us would already be doing it. Leadership Embodiment is a system to access this untapped wisdom through simple practices. \nWe are all leaders at various times in our lives. We juggle multiple pressures\, be it work\, family\, friends\, colleagues\, email\, finances\, chores\, traffic to name a few. And let’s not forget our lively inner critic. \nUnder pressure\, we lose our capacity to be wise\, compassionate and focused. We say things we regret\, avoid decisions\, seek approval\, push too hard and surrender our power. We say one thing with our words and our bodies may tell a different story. It’s said that over 80% of all communication is non-verbal. In this transformative workshop\, you will discover the wisdom in your body\, learn how to access and further develop it.  \nwww.embodimentinternational.com \nI invite you to join us. Learn to access the qualities of skillful leadership that you already possess. \nPlease contact me with any questions. \nMake a difference\,\nRJ
URL:https://leadershipembodiment.com/event/level-1-with-rj-jennings/
LOCATION:Creekside Center\, 7 Mount Lassen Drive\, San Rafael\, CA\, 94903\, United States
CATEGORIES:North America
ORGANIZER;CN="RJ":MAILTO:rj@soulfulview.com
GEO:38.0258755;-122.5695532
X-APPLE-STRUCTURED-LOCATION;VALUE=URI;X-ADDRESS=Creekside Center 7 Mount Lassen Drive San Rafael CA 94903 United States;X-APPLE-RADIUS=500;X-TITLE=7 Mount Lassen Drive:geo:-122.5695532,38.0258755
END:VEVENT
BEGIN:VEVENT
DTSTART;VALUE=DATE:20150729
DTEND;VALUE=DATE:20150731
DTSTAMP:20260424T131853
CREATED:20150120T222241Z
LAST-MODIFIED:20150120T222241Z
UID:10000892-1438128000-1438300799@leadershipembodiment.com
SUMMARY:Level 1 with RJ Jennings in San Rafael (2-Day Workshop)
DESCRIPTION:Join RJ Jennings in San Rafael for a 2-day Level 1 workshop.  The cost is $379 for the both days. Please note that a completion of a Level 1 course is required to attend a Leadership Embodiment retreat with Wendy Palmer.  You will find a complete description of our courses here.   \nDates:\nJuly 29\, 2015\nJuly 30\, 2015 \nTimes:\n9:00am – 4:00pm
URL:https://leadershipembodiment.com/event/level-1-with-ron-jennings-in-san-rafael-2-day-workshop/
LOCATION:Creekside Center\, 7 Mount Lassen Drive\, San Rafael\, CA\, 94903\, United States
CATEGORIES:North America
GEO:38.0258755;-122.5695532
X-APPLE-STRUCTURED-LOCATION;VALUE=URI;X-ADDRESS=Creekside Center 7 Mount Lassen Drive San Rafael CA 94903 United States;X-APPLE-RADIUS=500;X-TITLE=7 Mount Lassen Drive:geo:-122.5695532,38.0258755
END:VEVENT
END:VCALENDAR